BEGIN:VCALENDAR
VERSION:2.0
PRODID:-//Saint Thomas Acquinas Zanesville - ECPv6.15.20//NONSGML v1.0//EN
CALSCALE:GREGORIAN
METHOD:PUBLISH
X-WR-CALNAME:Saint Thomas Acquinas Zanesville
X-ORIGINAL-URL:https://saintthomaszanesville.org
X-WR-CALDESC:Events for Saint Thomas Acquinas Zanesville
REFRESH-INTERVAL;VALUE=DURATION:PT1H
X-Robots-Tag:noindex
X-PUBLISHED-TTL:PT1H
BEGIN:VTIMEZONE
TZID:America/Detroit
BEGIN:DAYLIGHT
TZOFFSETFROM:-0500
TZOFFSETTO:-0400
TZNAME:EDT
DTSTART:20250309T070000
END:DAYLIGHT
BEGIN:STANDARD
TZOFFSETFROM:-0400
TZOFFSETTO:-0500
TZNAME:EST
DTSTART:20251102T060000
END:STANDARD
BEGIN:DAYLIGHT
TZOFFSETFROM:-0500
TZOFFSETTO:-0400
TZNAME:EDT
DTSTART:20260308T070000
END:DAYLIGHT
BEGIN:STANDARD
TZOFFSETFROM:-0400
TZOFFSETTO:-0500
TZNAME:EST
DTSTART:20261101T060000
END:STANDARD
BEGIN:DAYLIGHT
TZOFFSETFROM:-0500
TZOFFSETTO:-0400
TZNAME:EDT
DTSTART:20270314T070000
END:DAYLIGHT
BEGIN:STANDARD
TZOFFSETFROM:-0400
TZOFFSETTO:-0500
TZNAME:EST
DTSTART:20271107T060000
END:STANDARD
END:VTIMEZONE
BEGIN:VEVENT
DTSTART;TZID=America/Detroit:20260519T090000
DTEND;TZID=America/Detroit:20260519T094500
DTSTAMP:20260420T082029
CREATED:20230717T191610Z
LAST-MODIFIED:20260219T151222Z
UID:10005683-1779181200-1779183900@saintthomaszanesville.org
SUMMARY:Mass
DESCRIPTION:
URL:https://saintthomaszanesville.org/event/mass-4/2026-05-19/
LOCATION:St Thomas
CATEGORIES:Mass
END:VEVENT
BEGIN:VEVENT
DTSTART;TZID=America/Detroit:20260520T090000
DTEND;TZID=America/Detroit:20260520T094500
DTSTAMP:20260420T082029
CREATED:20230717T191330Z
LAST-MODIFIED:20251121T143234Z
UID:10005424-1779267600-1779270300@saintthomaszanesville.org
SUMMARY:Mass
DESCRIPTION:
URL:https://saintthomaszanesville.org/event/mass-3/2026-05-20/
LOCATION:St Thomas
CATEGORIES:Mass
END:VEVENT
BEGIN:VEVENT
DTSTART;TZID=America/Detroit:20260520T100000
DTEND;TZID=America/Detroit:20260520T210000
DTSTAMP:20260420T082029
CREATED:20231025T130420Z
LAST-MODIFIED:20260219T151646Z
UID:10006459-1779271200-1779310800@saintthomaszanesville.org
SUMMARY:Eucharistic Exposition of the Blessed Sacrement
DESCRIPTION:
URL:https://saintthomaszanesville.org/event/eucharistic-exposition-of-the-blessed-sacrement-2-2/2026-05-20/
LOCATION:St Thomas
CATEGORIES:Eucharist
END:VEVENT
BEGIN:VEVENT
DTSTART;TZID=America/Detroit:20260521T090000
DTEND;TZID=America/Detroit:20260521T094500
DTSTAMP:20260420T082029
CREATED:20231025T130315Z
LAST-MODIFIED:20260219T151402Z
UID:10005942-1779354000-1779356700@saintthomaszanesville.org
SUMMARY:Mass
DESCRIPTION:
URL:https://saintthomaszanesville.org/event/mass-5-3/2026-05-21/
LOCATION:St Thomas
CATEGORIES:Mass
END:VEVENT
BEGIN:VEVENT
DTSTART;TZID=America/Detroit:20260522T090000
DTEND;TZID=America/Detroit:20260522T094500
DTSTAMP:20260420T082029
CREATED:20231026T143024Z
LAST-MODIFIED:20260219T151539Z
UID:10006201-1779440400-1779443100@saintthomaszanesville.org
SUMMARY:Mass
DESCRIPTION:
URL:https://saintthomaszanesville.org/event/mass-6-2/2026-05-22/
LOCATION:St Thomas
CATEGORIES:Mass
END:VEVENT
BEGIN:VEVENT
DTSTART;TZID=America/Detroit:20260523T153000
DTEND;TZID=America/Detroit:20260523T161500
DTSTAMP:20260420T082029
CREATED:20230123T173105Z
LAST-MODIFIED:20260219T153419Z
UID:10003352-1779550200-1779552900@saintthomaszanesville.org
SUMMARY:Confessions
DESCRIPTION:
URL:https://saintthomaszanesville.org/event/confessions/2026-05-23/
LOCATION:St Thomas
CATEGORIES:Confessions
END:VEVENT
BEGIN:VEVENT
DTSTART;TZID=America/Detroit:20260523T163000
DTEND;TZID=America/Detroit:20260523T173000
DTSTAMP:20260420T082029
CREATED:20240626T171342Z
LAST-MODIFIED:20260219T153326Z
UID:10008015-1779553800-1779557400@saintthomaszanesville.org
SUMMARY:Mass
DESCRIPTION:
URL:https://saintthomaszanesville.org/event/mass/2026-05-23/
LOCATION:St Thomas
CATEGORIES:Mass
END:VEVENT
BEGIN:VEVENT
DTSTART;TZID=America/Detroit:20260524T074500
DTEND;TZID=America/Detroit:20260524T084500
DTSTAMP:20260420T082029
CREATED:20240626T174505Z
LAST-MODIFIED:20250917T124608Z
UID:10008819-1779608700-1779612300@saintthomaszanesville.org
SUMMARY:Mass
DESCRIPTION:
URL:https://saintthomaszanesville.org/event/mass-2-2/2026-05-24/
CATEGORIES:Mass
END:VEVENT
BEGIN:VEVENT
DTSTART;TZID=America/Detroit:20260524T110000
DTEND;TZID=America/Detroit:20260524T120000
DTSTAMP:20260420T082029
CREATED:20240626T174409Z
LAST-MODIFIED:20241205T172135Z
UID:10009084-1779620400-1779624000@saintthomaszanesville.org
SUMMARY:Mass
DESCRIPTION:
URL:https://saintthomaszanesville.org/event/mass-2/2026-05-24/
CATEGORIES:Mass
END:VEVENT
BEGIN:VEVENT
DTSTART;TZID=America/Detroit:20260526T090000
DTEND;TZID=America/Detroit:20260526T094500
DTSTAMP:20260420T082029
CREATED:20230717T191610Z
LAST-MODIFIED:20260219T151222Z
UID:10005684-1779786000-1779788700@saintthomaszanesville.org
SUMMARY:Mass
DESCRIPTION:
URL:https://saintthomaszanesville.org/event/mass-4/2026-05-26/
LOCATION:St Thomas
CATEGORIES:Mass
END:VEVENT
BEGIN:VEVENT
DTSTART;TZID=America/Detroit:20260527T090000
DTEND;TZID=America/Detroit:20260527T094500
DTSTAMP:20260420T082029
CREATED:20230717T191330Z
LAST-MODIFIED:20251121T143234Z
UID:10005425-1779872400-1779875100@saintthomaszanesville.org
SUMMARY:Mass
DESCRIPTION:
URL:https://saintthomaszanesville.org/event/mass-3/2026-05-27/
LOCATION:St Thomas
CATEGORIES:Mass
END:VEVENT
BEGIN:VEVENT
DTSTART;TZID=America/Detroit:20260527T100000
DTEND;TZID=America/Detroit:20260527T210000
DTSTAMP:20260420T082029
CREATED:20231025T130420Z
LAST-MODIFIED:20260219T151646Z
UID:10006460-1779876000-1779915600@saintthomaszanesville.org
SUMMARY:Eucharistic Exposition of the Blessed Sacrement
DESCRIPTION:
URL:https://saintthomaszanesville.org/event/eucharistic-exposition-of-the-blessed-sacrement-2-2/2026-05-27/
LOCATION:St Thomas
CATEGORIES:Eucharist
END:VEVENT
BEGIN:VEVENT
DTSTART;TZID=America/Detroit:20260528T090000
DTEND;TZID=America/Detroit:20260528T094500
DTSTAMP:20260420T082029
CREATED:20231025T130315Z
LAST-MODIFIED:20260219T151402Z
UID:10005943-1779958800-1779961500@saintthomaszanesville.org
SUMMARY:Mass
DESCRIPTION:
URL:https://saintthomaszanesville.org/event/mass-5-3/2026-05-28/
LOCATION:St Thomas
CATEGORIES:Mass
END:VEVENT
BEGIN:VEVENT
DTSTART;TZID=America/Detroit:20260529T090000
DTEND;TZID=America/Detroit:20260529T094500
DTSTAMP:20260420T082029
CREATED:20231026T143024Z
LAST-MODIFIED:20260219T151539Z
UID:10006202-1780045200-1780047900@saintthomaszanesville.org
SUMMARY:Mass
DESCRIPTION:
URL:https://saintthomaszanesville.org/event/mass-6-2/2026-05-29/
LOCATION:St Thomas
CATEGORIES:Mass
END:VEVENT
BEGIN:VEVENT
DTSTART;TZID=America/Detroit:20260530T153000
DTEND;TZID=America/Detroit:20260530T161500
DTSTAMP:20260420T082029
CREATED:20230123T173105Z
LAST-MODIFIED:20260219T153419Z
UID:10003353-1780155000-1780157700@saintthomaszanesville.org
SUMMARY:Confessions
DESCRIPTION:
URL:https://saintthomaszanesville.org/event/confessions/2026-05-30/
LOCATION:St Thomas
CATEGORIES:Confessions
END:VEVENT
BEGIN:VEVENT
DTSTART;TZID=America/Detroit:20260530T163000
DTEND;TZID=America/Detroit:20260530T173000
DTSTAMP:20260420T082029
CREATED:20240626T171342Z
LAST-MODIFIED:20260219T153326Z
UID:10008016-1780158600-1780162200@saintthomaszanesville.org
SUMMARY:Mass
DESCRIPTION:
URL:https://saintthomaszanesville.org/event/mass/2026-05-30/
LOCATION:St Thomas
CATEGORIES:Mass
END:VEVENT
BEGIN:VEVENT
DTSTART;TZID=America/Detroit:20260531T074500
DTEND;TZID=America/Detroit:20260531T084500
DTSTAMP:20260420T082029
CREATED:20240626T174505Z
LAST-MODIFIED:20250917T124608Z
UID:10008820-1780213500-1780217100@saintthomaszanesville.org
SUMMARY:Mass
DESCRIPTION:
URL:https://saintthomaszanesville.org/event/mass-2-2/2026-05-31/
CATEGORIES:Mass
END:VEVENT
BEGIN:VEVENT
DTSTART;TZID=America/Detroit:20260531T110000
DTEND;TZID=America/Detroit:20260531T120000
DTSTAMP:20260420T082029
CREATED:20240626T174409Z
LAST-MODIFIED:20241205T172135Z
UID:10009085-1780225200-1780228800@saintthomaszanesville.org
SUMMARY:Mass
DESCRIPTION:
URL:https://saintthomaszanesville.org/event/mass-2/2026-05-31/
CATEGORIES:Mass
END:VEVENT
BEGIN:VEVENT
DTSTART;TZID=America/Detroit:20260602T090000
DTEND;TZID=America/Detroit:20260602T094500
DTSTAMP:20260420T082029
CREATED:20230717T191610Z
LAST-MODIFIED:20260219T151222Z
UID:10005685-1780390800-1780393500@saintthomaszanesville.org
SUMMARY:Mass
DESCRIPTION:
URL:https://saintthomaszanesville.org/event/mass-4/2026-06-02/
LOCATION:St Thomas
CATEGORIES:Mass
END:VEVENT
BEGIN:VEVENT
DTSTART;TZID=America/Detroit:20260603T090000
DTEND;TZID=America/Detroit:20260603T094500
DTSTAMP:20260420T082029
CREATED:20230717T191330Z
LAST-MODIFIED:20251121T143234Z
UID:10005426-1780477200-1780479900@saintthomaszanesville.org
SUMMARY:Mass
DESCRIPTION:
URL:https://saintthomaszanesville.org/event/mass-3/2026-06-03/
LOCATION:St Thomas
CATEGORIES:Mass
END:VEVENT
BEGIN:VEVENT
DTSTART;TZID=America/Detroit:20260603T100000
DTEND;TZID=America/Detroit:20260603T210000
DTSTAMP:20260420T082029
CREATED:20231025T130420Z
LAST-MODIFIED:20260219T151646Z
UID:10006461-1780480800-1780520400@saintthomaszanesville.org
SUMMARY:Eucharistic Exposition of the Blessed Sacrement
DESCRIPTION:
URL:https://saintthomaszanesville.org/event/eucharistic-exposition-of-the-blessed-sacrement-2-2/2026-06-03/
LOCATION:St Thomas
CATEGORIES:Eucharist
END:VEVENT
BEGIN:VEVENT
DTSTART;TZID=America/Detroit:20260604T090000
DTEND;TZID=America/Detroit:20260604T094500
DTSTAMP:20260420T082029
CREATED:20231025T130315Z
LAST-MODIFIED:20260219T151402Z
UID:10005944-1780563600-1780566300@saintthomaszanesville.org
SUMMARY:Mass
DESCRIPTION:
URL:https://saintthomaszanesville.org/event/mass-5-3/2026-06-04/
LOCATION:St Thomas
CATEGORIES:Mass
END:VEVENT
BEGIN:VEVENT
DTSTART;TZID=America/Detroit:20260605T090000
DTEND;TZID=America/Detroit:20260605T094500
DTSTAMP:20260420T082029
CREATED:20231026T143024Z
LAST-MODIFIED:20260219T151539Z
UID:10006203-1780650000-1780652700@saintthomaszanesville.org
SUMMARY:Mass
DESCRIPTION:
URL:https://saintthomaszanesville.org/event/mass-6-2/2026-06-05/
LOCATION:St Thomas
CATEGORIES:Mass
END:VEVENT
BEGIN:VEVENT
DTSTART;TZID=America/Detroit:20260606T153000
DTEND;TZID=America/Detroit:20260606T161500
DTSTAMP:20260420T082029
CREATED:20230123T173105Z
LAST-MODIFIED:20260219T153419Z
UID:10003354-1780759800-1780762500@saintthomaszanesville.org
SUMMARY:Confessions
DESCRIPTION:
URL:https://saintthomaszanesville.org/event/confessions/2026-06-06/
LOCATION:St Thomas
CATEGORIES:Confessions
END:VEVENT
BEGIN:VEVENT
DTSTART;TZID=America/Detroit:20260606T163000
DTEND;TZID=America/Detroit:20260606T173000
DTSTAMP:20260420T082029
CREATED:20240626T171342Z
LAST-MODIFIED:20260219T153326Z
UID:10008017-1780763400-1780767000@saintthomaszanesville.org
SUMMARY:Mass
DESCRIPTION:
URL:https://saintthomaszanesville.org/event/mass/2026-06-06/
LOCATION:St Thomas
CATEGORIES:Mass
END:VEVENT
BEGIN:VEVENT
DTSTART;TZID=America/Detroit:20260607T074500
DTEND;TZID=America/Detroit:20260607T084500
DTSTAMP:20260420T082029
CREATED:20240626T174505Z
LAST-MODIFIED:20250917T124608Z
UID:10008821-1780818300-1780821900@saintthomaszanesville.org
SUMMARY:Mass
DESCRIPTION:
URL:https://saintthomaszanesville.org/event/mass-2-2/2026-06-07/
CATEGORIES:Mass
END:VEVENT
BEGIN:VEVENT
DTSTART;TZID=America/Detroit:20260607T110000
DTEND;TZID=America/Detroit:20260607T120000
DTSTAMP:20260420T082029
CREATED:20240626T174409Z
LAST-MODIFIED:20241205T172135Z
UID:10009086-1780830000-1780833600@saintthomaszanesville.org
SUMMARY:Mass
DESCRIPTION:
URL:https://saintthomaszanesville.org/event/mass-2/2026-06-07/
CATEGORIES:Mass
END:VEVENT
BEGIN:VEVENT
DTSTART;TZID=America/Detroit:20260609T090000
DTEND;TZID=America/Detroit:20260609T094500
DTSTAMP:20260420T082029
CREATED:20230717T191610Z
LAST-MODIFIED:20260219T151222Z
UID:10005686-1780995600-1780998300@saintthomaszanesville.org
SUMMARY:Mass
DESCRIPTION:
URL:https://saintthomaszanesville.org/event/mass-4/2026-06-09/
LOCATION:St Thomas
CATEGORIES:Mass
END:VEVENT
BEGIN:VEVENT
DTSTART;TZID=America/Detroit:20260610T090000
DTEND;TZID=America/Detroit:20260610T094500
DTSTAMP:20260420T082029
CREATED:20230717T191330Z
LAST-MODIFIED:20251121T143234Z
UID:10005427-1781082000-1781084700@saintthomaszanesville.org
SUMMARY:Mass
DESCRIPTION:
URL:https://saintthomaszanesville.org/event/mass-3/2026-06-10/
LOCATION:St Thomas
CATEGORIES:Mass
END:VEVENT
BEGIN:VEVENT
DTSTART;TZID=America/Detroit:20260610T100000
DTEND;TZID=America/Detroit:20260610T210000
DTSTAMP:20260420T082029
CREATED:20231025T130420Z
LAST-MODIFIED:20260219T151646Z
UID:10006462-1781085600-1781125200@saintthomaszanesville.org
SUMMARY:Eucharistic Exposition of the Blessed Sacrement
DESCRIPTION:
URL:https://saintthomaszanesville.org/event/eucharistic-exposition-of-the-blessed-sacrement-2-2/2026-06-10/
LOCATION:St Thomas
CATEGORIES:Eucharist
END:VEVENT
END:VCALENDAR