BEGIN:VCALENDAR
VERSION:2.0
PRODID:-//Saint Thomas Acquinas Zanesville - ECPv6.15.20//NONSGML v1.0//EN
CALSCALE:GREGORIAN
METHOD:PUBLISH
X-ORIGINAL-URL:https://saintthomaszanesville.org
X-WR-CALDESC:Events for Saint Thomas Acquinas Zanesville
REFRESH-INTERVAL;VALUE=DURATION:PT1H
X-Robots-Tag:noindex
X-PUBLISHED-TTL:PT1H
BEGIN:VTIMEZONE
TZID:America/Detroit
BEGIN:DAYLIGHT
TZOFFSETFROM:-0500
TZOFFSETTO:-0400
TZNAME:EDT
DTSTART:20240310T070000
END:DAYLIGHT
BEGIN:STANDARD
TZOFFSETFROM:-0400
TZOFFSETTO:-0500
TZNAME:EST
DTSTART:20241103T060000
END:STANDARD
BEGIN:DAYLIGHT
TZOFFSETFROM:-0500
TZOFFSETTO:-0400
TZNAME:EDT
DTSTART:20250309T070000
END:DAYLIGHT
BEGIN:STANDARD
TZOFFSETFROM:-0400
TZOFFSETTO:-0500
TZNAME:EST
DTSTART:20251102T060000
END:STANDARD
BEGIN:DAYLIGHT
TZOFFSETFROM:-0500
TZOFFSETTO:-0400
TZNAME:EDT
DTSTART:20260308T070000
END:DAYLIGHT
BEGIN:STANDARD
TZOFFSETFROM:-0400
TZOFFSETTO:-0500
TZNAME:EST
DTSTART:20261101T060000
END:STANDARD
BEGIN:DAYLIGHT
TZOFFSETFROM:-0500
TZOFFSETTO:-0400
TZNAME:EDT
DTSTART:20270314T070000
END:DAYLIGHT
BEGIN:STANDARD
TZOFFSETFROM:-0400
TZOFFSETTO:-0500
TZNAME:EST
DTSTART:20271107T060000
END:STANDARD
END:VTIMEZONE
BEGIN:VEVENT
DTSTART;TZID=America/Detroit:20260215T093000
DTEND;TZID=America/Detroit:20260215T103000
DTSTAMP:20260420T083418
CREATED:20250729T124342Z
LAST-MODIFIED:20250729T124342Z
UID:10009843-1771147800-1771151400@saintthomaszanesville.org
SUMMARY:CCD
DESCRIPTION:CCD will begin September 14 and end May 10th\nAll CCD Class start at 9:30am and run until 10:30am\nParent/Adult Fellowship is in the Aquinas Room during this time\nUnless noted\, CCD class dates are business as usual
URL:https://saintthomaszanesville.org/event/ccd/2026-02-15/
LOCATION:Parish Office\, 144 N 5th St\, Zanesville\, OH\, 43701\, United States
CATEGORIES:CCD
END:VEVENT
BEGIN:VEVENT
DTSTART;TZID=America/Detroit:20260208T093000
DTEND;TZID=America/Detroit:20260208T103000
DTSTAMP:20260420T083418
CREATED:20250729T124342Z
LAST-MODIFIED:20250729T124342Z
UID:10009842-1770543000-1770546600@saintthomaszanesville.org
SUMMARY:CCD
DESCRIPTION:CCD will begin September 14 and end May 10th\nAll CCD Class start at 9:30am and run until 10:30am\nParent/Adult Fellowship is in the Aquinas Room during this time\nUnless noted\, CCD class dates are business as usual
URL:https://saintthomaszanesville.org/event/ccd/2026-02-08/
LOCATION:Parish Office\, 144 N 5th St\, Zanesville\, OH\, 43701\, United States
CATEGORIES:CCD
END:VEVENT
BEGIN:VEVENT
DTSTART;TZID=America/Detroit:20260201T093000
DTEND;TZID=America/Detroit:20260201T103000
DTSTAMP:20260420T083418
CREATED:20250729T124342Z
LAST-MODIFIED:20250729T124342Z
UID:10009841-1769938200-1769941800@saintthomaszanesville.org
SUMMARY:CCD
DESCRIPTION:CCD will begin September 14 and end May 10th\nAll CCD Class start at 9:30am and run until 10:30am\nParent/Adult Fellowship is in the Aquinas Room during this time\nUnless noted\, CCD class dates are business as usual
URL:https://saintthomaszanesville.org/event/ccd/2026-02-01/
LOCATION:Parish Office\, 144 N 5th St\, Zanesville\, OH\, 43701\, United States
CATEGORIES:CCD
END:VEVENT
BEGIN:VEVENT
DTSTART;TZID=America/Detroit:20260125T093000
DTEND;TZID=America/Detroit:20260125T103000
DTSTAMP:20260420T083418
CREATED:20250729T124342Z
LAST-MODIFIED:20250729T124342Z
UID:10009840-1769333400-1769337000@saintthomaszanesville.org
SUMMARY:CCD
DESCRIPTION:CCD will begin September 14 and end May 10th\nAll CCD Class start at 9:30am and run until 10:30am\nParent/Adult Fellowship is in the Aquinas Room during this time\nUnless noted\, CCD class dates are business as usual
URL:https://saintthomaszanesville.org/event/ccd/2026-01-25/
LOCATION:Parish Office\, 144 N 5th St\, Zanesville\, OH\, 43701\, United States
CATEGORIES:CCD
END:VEVENT
BEGIN:VEVENT
DTSTART;TZID=America/Detroit:20260118T093000
DTEND;TZID=America/Detroit:20260118T103000
DTSTAMP:20260420T083418
CREATED:20250729T124342Z
LAST-MODIFIED:20250729T124342Z
UID:10009839-1768728600-1768732200@saintthomaszanesville.org
SUMMARY:CCD
DESCRIPTION:CCD will begin September 14 and end May 10th\nAll CCD Class start at 9:30am and run until 10:30am\nParent/Adult Fellowship is in the Aquinas Room during this time\nUnless noted\, CCD class dates are business as usual
URL:https://saintthomaszanesville.org/event/ccd/2026-01-18/
LOCATION:Parish Office\, 144 N 5th St\, Zanesville\, OH\, 43701\, United States
CATEGORIES:CCD
END:VEVENT
BEGIN:VEVENT
DTSTART;TZID=America/Detroit:20260111T093000
DTEND;TZID=America/Detroit:20260111T103000
DTSTAMP:20260420T083418
CREATED:20250729T124342Z
LAST-MODIFIED:20250729T124342Z
UID:10009838-1768123800-1768127400@saintthomaszanesville.org
SUMMARY:CCD
DESCRIPTION:CCD will begin September 14 and end May 10th\nAll CCD Class start at 9:30am and run until 10:30am\nParent/Adult Fellowship is in the Aquinas Room during this time\nUnless noted\, CCD class dates are business as usual
URL:https://saintthomaszanesville.org/event/ccd/2026-01-11/
LOCATION:Parish Office\, 144 N 5th St\, Zanesville\, OH\, 43701\, United States
CATEGORIES:CCD
END:VEVENT
BEGIN:VEVENT
DTSTART;TZID=America/Detroit:20251214T093000
DTEND;TZID=America/Detroit:20251214T103000
DTSTAMP:20260420T083418
CREATED:20250729T124342Z
LAST-MODIFIED:20250729T124342Z
UID:10009837-1765704600-1765708200@saintthomaszanesville.org
SUMMARY:CCD
DESCRIPTION:CCD will begin September 14 and end May 10th\nAll CCD Class start at 9:30am and run until 10:30am\nParent/Adult Fellowship is in the Aquinas Room during this time\nUnless noted\, CCD class dates are business as usual
URL:https://saintthomaszanesville.org/event/ccd/2025-12-14/
LOCATION:Parish Office\, 144 N 5th St\, Zanesville\, OH\, 43701\, United States
CATEGORIES:CCD
END:VEVENT
BEGIN:VEVENT
DTSTART;TZID=America/Detroit:20251207T093000
DTEND;TZID=America/Detroit:20251207T103000
DTSTAMP:20260420T083418
CREATED:20250729T124342Z
LAST-MODIFIED:20250729T124342Z
UID:10009836-1765099800-1765103400@saintthomaszanesville.org
SUMMARY:CCD
DESCRIPTION:CCD will begin September 14 and end May 10th\nAll CCD Class start at 9:30am and run until 10:30am\nParent/Adult Fellowship is in the Aquinas Room during this time\nUnless noted\, CCD class dates are business as usual
URL:https://saintthomaszanesville.org/event/ccd/2025-12-07/
LOCATION:Parish Office\, 144 N 5th St\, Zanesville\, OH\, 43701\, United States
CATEGORIES:CCD
END:VEVENT
BEGIN:VEVENT
DTSTART;TZID=America/Detroit:20251123T093000
DTEND;TZID=America/Detroit:20251123T103000
DTSTAMP:20260420T083418
CREATED:20250729T124342Z
LAST-MODIFIED:20250729T124342Z
UID:10009835-1763890200-1763893800@saintthomaszanesville.org
SUMMARY:CCD
DESCRIPTION:CCD will begin September 14 and end May 10th\nAll CCD Class start at 9:30am and run until 10:30am\nParent/Adult Fellowship is in the Aquinas Room during this time\nUnless noted\, CCD class dates are business as usual
URL:https://saintthomaszanesville.org/event/ccd/2025-11-23/
LOCATION:Parish Office\, 144 N 5th St\, Zanesville\, OH\, 43701\, United States
CATEGORIES:CCD
END:VEVENT
BEGIN:VEVENT
DTSTART;TZID=America/Detroit:20251116T093000
DTEND;TZID=America/Detroit:20251116T103000
DTSTAMP:20260420T083418
CREATED:20250729T124342Z
LAST-MODIFIED:20250729T124342Z
UID:10009834-1763285400-1763289000@saintthomaszanesville.org
SUMMARY:CCD
DESCRIPTION:CCD will begin September 14 and end May 10th\nAll CCD Class start at 9:30am and run until 10:30am\nParent/Adult Fellowship is in the Aquinas Room during this time\nUnless noted\, CCD class dates are business as usual
URL:https://saintthomaszanesville.org/event/ccd/2025-11-16/
LOCATION:Parish Office\, 144 N 5th St\, Zanesville\, OH\, 43701\, United States
CATEGORIES:CCD
END:VEVENT
BEGIN:VEVENT
DTSTART;TZID=America/Detroit:20251109T093000
DTEND;TZID=America/Detroit:20251109T103000
DTSTAMP:20260420T083418
CREATED:20250729T124342Z
LAST-MODIFIED:20250729T124342Z
UID:10009833-1762680600-1762684200@saintthomaszanesville.org
SUMMARY:CCD
DESCRIPTION:CCD will begin September 14 and end May 10th\nAll CCD Class start at 9:30am and run until 10:30am\nParent/Adult Fellowship is in the Aquinas Room during this time\nUnless noted\, CCD class dates are business as usual
URL:https://saintthomaszanesville.org/event/ccd/2025-11-09/
LOCATION:Parish Office\, 144 N 5th St\, Zanesville\, OH\, 43701\, United States
CATEGORIES:CCD
END:VEVENT
BEGIN:VEVENT
DTSTART;TZID=America/Detroit:20251102T093000
DTEND;TZID=America/Detroit:20251102T103000
DTSTAMP:20260420T083418
CREATED:20250729T124342Z
LAST-MODIFIED:20250729T124342Z
UID:10009832-1762075800-1762079400@saintthomaszanesville.org
SUMMARY:CCD
DESCRIPTION:CCD will begin September 14 and end May 10th\nAll CCD Class start at 9:30am and run until 10:30am\nParent/Adult Fellowship is in the Aquinas Room during this time\nUnless noted\, CCD class dates are business as usual
URL:https://saintthomaszanesville.org/event/ccd/2025-11-02/
LOCATION:Parish Office\, 144 N 5th St\, Zanesville\, OH\, 43701\, United States
CATEGORIES:CCD
END:VEVENT
BEGIN:VEVENT
DTSTART;TZID=America/Detroit:20251026T093000
DTEND;TZID=America/Detroit:20251026T103000
DTSTAMP:20260420T083418
CREATED:20250729T124342Z
LAST-MODIFIED:20250729T124342Z
UID:10009831-1761471000-1761474600@saintthomaszanesville.org
SUMMARY:CCD
DESCRIPTION:CCD will begin September 14 and end May 10th\nAll CCD Class start at 9:30am and run until 10:30am\nParent/Adult Fellowship is in the Aquinas Room during this time\nUnless noted\, CCD class dates are business as usual
URL:https://saintthomaszanesville.org/event/ccd/2025-10-26/
LOCATION:Parish Office\, 144 N 5th St\, Zanesville\, OH\, 43701\, United States
CATEGORIES:CCD
END:VEVENT
BEGIN:VEVENT
DTSTART;TZID=America/Detroit:20251019T093000
DTEND;TZID=America/Detroit:20251019T103000
DTSTAMP:20260420T083418
CREATED:20250729T124342Z
LAST-MODIFIED:20250729T124342Z
UID:10009830-1760866200-1760869800@saintthomaszanesville.org
SUMMARY:CCD
DESCRIPTION:CCD will begin September 14 and end May 10th\nAll CCD Class start at 9:30am and run until 10:30am\nParent/Adult Fellowship is in the Aquinas Room during this time\nUnless noted\, CCD class dates are business as usual
URL:https://saintthomaszanesville.org/event/ccd/2025-10-19/
LOCATION:Parish Office\, 144 N 5th St\, Zanesville\, OH\, 43701\, United States
CATEGORIES:CCD
END:VEVENT
BEGIN:VEVENT
DTSTART;TZID=America/Detroit:20251012T093000
DTEND;TZID=America/Detroit:20251012T103000
DTSTAMP:20260420T083418
CREATED:20250729T124342Z
LAST-MODIFIED:20250729T124342Z
UID:10009829-1760261400-1760265000@saintthomaszanesville.org
SUMMARY:CCD
DESCRIPTION:CCD will begin September 14 and end May 10th\nAll CCD Class start at 9:30am and run until 10:30am\nParent/Adult Fellowship is in the Aquinas Room during this time\nUnless noted\, CCD class dates are business as usual
URL:https://saintthomaszanesville.org/event/ccd/2025-10-12/
LOCATION:Parish Office\, 144 N 5th St\, Zanesville\, OH\, 43701\, United States
CATEGORIES:CCD
END:VEVENT
BEGIN:VEVENT
DTSTART;TZID=America/Detroit:20251005T093000
DTEND;TZID=America/Detroit:20251005T103000
DTSTAMP:20260420T083418
CREATED:20250729T124342Z
LAST-MODIFIED:20250729T124342Z
UID:10009828-1759656600-1759660200@saintthomaszanesville.org
SUMMARY:CCD
DESCRIPTION:CCD will begin September 14 and end May 10th\nAll CCD Class start at 9:30am and run until 10:30am\nParent/Adult Fellowship is in the Aquinas Room during this time\nUnless noted\, CCD class dates are business as usual
URL:https://saintthomaszanesville.org/event/ccd/2025-10-05/
LOCATION:Parish Office\, 144 N 5th St\, Zanesville\, OH\, 43701\, United States
CATEGORIES:CCD
END:VEVENT
BEGIN:VEVENT
DTSTART;TZID=America/Detroit:20250928T093000
DTEND;TZID=America/Detroit:20250928T103000
DTSTAMP:20260420T083418
CREATED:20250729T124342Z
LAST-MODIFIED:20250729T124342Z
UID:10009827-1759051800-1759055400@saintthomaszanesville.org
SUMMARY:CCD
DESCRIPTION:CCD will begin September 14 and end May 10th\nAll CCD Class start at 9:30am and run until 10:30am\nParent/Adult Fellowship is in the Aquinas Room during this time\nUnless noted\, CCD class dates are business as usual
URL:https://saintthomaszanesville.org/event/ccd/2025-09-28/
LOCATION:Parish Office\, 144 N 5th St\, Zanesville\, OH\, 43701\, United States
CATEGORIES:CCD
END:VEVENT
BEGIN:VEVENT
DTSTART;TZID=America/Detroit:20250921T093000
DTEND;TZID=America/Detroit:20250921T103000
DTSTAMP:20260420T083418
CREATED:20250729T124342Z
LAST-MODIFIED:20250729T124342Z
UID:10009826-1758447000-1758450600@saintthomaszanesville.org
SUMMARY:CCD
DESCRIPTION:CCD will begin September 14 and end May 10th\nAll CCD Class start at 9:30am and run until 10:30am\nParent/Adult Fellowship is in the Aquinas Room during this time\nUnless noted\, CCD class dates are business as usual
URL:https://saintthomaszanesville.org/event/ccd/2025-09-21/
LOCATION:Parish Office\, 144 N 5th St\, Zanesville\, OH\, 43701\, United States
CATEGORIES:CCD
END:VEVENT
BEGIN:VEVENT
DTSTART;TZID=America/Detroit:20250914T093000
DTEND;TZID=America/Detroit:20250914T103000
DTSTAMP:20260420T083418
CREATED:20250729T124342Z
LAST-MODIFIED:20250729T124342Z
UID:10009825-1757842200-1757845800@saintthomaszanesville.org
SUMMARY:CCD
DESCRIPTION:CCD will begin September 14 and end May 10th\nAll CCD Class start at 9:30am and run until 10:30am\nParent/Adult Fellowship is in the Aquinas Room during this time\nUnless noted\, CCD class dates are business as usual
URL:https://saintthomaszanesville.org/event/ccd/2025-09-14/
LOCATION:Parish Office\, 144 N 5th St\, Zanesville\, OH\, 43701\, United States
CATEGORIES:CCD
END:VEVENT
END:VCALENDAR