BEGIN:VCALENDAR
VERSION:2.0
PRODID:-//Saint Thomas Acquinas Zanesville - ECPv6.15.20//NONSGML v1.0//EN
CALSCALE:GREGORIAN
METHOD:PUBLISH
X-WR-CALNAME:Saint Thomas Acquinas Zanesville
X-ORIGINAL-URL:https://saintthomaszanesville.org
X-WR-CALDESC:Events for Saint Thomas Acquinas Zanesville
REFRESH-INTERVAL;VALUE=DURATION:PT1H
X-Robots-Tag:noindex
X-PUBLISHED-TTL:PT1H
BEGIN:VTIMEZONE
TZID:America/Detroit
BEGIN:DAYLIGHT
TZOFFSETFROM:-0500
TZOFFSETTO:-0400
TZNAME:EDT
DTSTART:20240310T070000
END:DAYLIGHT
BEGIN:STANDARD
TZOFFSETFROM:-0400
TZOFFSETTO:-0500
TZNAME:EST
DTSTART:20241103T060000
END:STANDARD
BEGIN:DAYLIGHT
TZOFFSETFROM:-0500
TZOFFSETTO:-0400
TZNAME:EDT
DTSTART:20250309T070000
END:DAYLIGHT
BEGIN:STANDARD
TZOFFSETFROM:-0400
TZOFFSETTO:-0500
TZNAME:EST
DTSTART:20251102T060000
END:STANDARD
BEGIN:DAYLIGHT
TZOFFSETFROM:-0500
TZOFFSETTO:-0400
TZNAME:EDT
DTSTART:20260308T070000
END:DAYLIGHT
BEGIN:STANDARD
TZOFFSETFROM:-0400
TZOFFSETTO:-0500
TZNAME:EST
DTSTART:20261101T060000
END:STANDARD
BEGIN:DAYLIGHT
TZOFFSETFROM:-0500
TZOFFSETTO:-0400
TZNAME:EDT
DTSTART:20270314T070000
END:DAYLIGHT
BEGIN:STANDARD
TZOFFSETFROM:-0400
TZOFFSETTO:-0500
TZNAME:EST
DTSTART:20271107T060000
END:STANDARD
END:VTIMEZONE
BEGIN:VEVENT
DTSTART;TZID=America/Detroit:20260215T094500
DTEND;TZID=America/Detroit:20260215T223000
DTSTAMP:20260420T051908
CREATED:20231026T154327Z
LAST-MODIFIED:20240829T124728Z
UID:10007044-1771148700-1771194600@saintthomaszanesville.org
SUMMARY:Choir Rehearsal
DESCRIPTION:
URL:https://saintthomaszanesville.org/event/choir-rehersal-2/2026-02-15/
LOCATION:Activity Center
CATEGORIES:Choir
END:VEVENT
BEGIN:VEVENT
DTSTART;TZID=America/Detroit:20260208T094500
DTEND;TZID=America/Detroit:20260208T223000
DTSTAMP:20260420T051908
CREATED:20231026T154327Z
LAST-MODIFIED:20240829T124728Z
UID:10007043-1770543900-1770589800@saintthomaszanesville.org
SUMMARY:Choir Rehearsal
DESCRIPTION:
URL:https://saintthomaszanesville.org/event/choir-rehersal-2/2026-02-08/
LOCATION:Activity Center
CATEGORIES:Choir
END:VEVENT
BEGIN:VEVENT
DTSTART;TZID=America/Detroit:20260201T094500
DTEND;TZID=America/Detroit:20260201T223000
DTSTAMP:20260420T051908
CREATED:20231026T154327Z
LAST-MODIFIED:20240829T124728Z
UID:10007042-1769939100-1769985000@saintthomaszanesville.org
SUMMARY:Choir Rehearsal
DESCRIPTION:
URL:https://saintthomaszanesville.org/event/choir-rehersal-2/2026-02-01/
LOCATION:Activity Center
CATEGORIES:Choir
END:VEVENT
BEGIN:VEVENT
DTSTART;TZID=America/Detroit:20260125T094500
DTEND;TZID=America/Detroit:20260125T223000
DTSTAMP:20260420T051908
CREATED:20231026T154327Z
LAST-MODIFIED:20240829T124728Z
UID:10007041-1769334300-1769380200@saintthomaszanesville.org
SUMMARY:Choir Rehearsal
DESCRIPTION:
URL:https://saintthomaszanesville.org/event/choir-rehersal-2/2026-01-25/
LOCATION:Activity Center
CATEGORIES:Choir
END:VEVENT
BEGIN:VEVENT
DTSTART;TZID=America/Detroit:20260118T180000
DTEND;TZID=America/Detroit:20260118T204500
DTSTAMP:20260420T051908
CREATED:20250604T135238Z
LAST-MODIFIED:20250604T135411Z
UID:10009820-1768759200-1768769100@saintthomaszanesville.org
SUMMARY:Catalyst Nights
DESCRIPTION:All events being hosted at St. Thomas Aquinas Activity Center. \nEvent Dates\n● 9/28/25 – Known\n● 10/19/25 – Crucified – Gal 2:20\n● 11/9/25 – New Creations – 2 Cor 5:17\n● 1/18/26 – Love One Another – 1 John 4:7\n● 2/15/26 – Peace – Phil 4:6-7\n● 3/8/26 – Living Stones – 1 Pet 2:5\n● 3/29/26 – Romans 1:16\n● 4/26/26 – Living for Christ
URL:https://saintthomaszanesville.org/event/catalyst-nights-2/2026-01-18/
LOCATION:Activity Center
END:VEVENT
BEGIN:VEVENT
DTSTART;TZID=America/Detroit:20260118T094500
DTEND;TZID=America/Detroit:20260118T223000
DTSTAMP:20260420T051908
CREATED:20231026T154327Z
LAST-MODIFIED:20240829T124728Z
UID:10007040-1768729500-1768775400@saintthomaszanesville.org
SUMMARY:Choir Rehearsal
DESCRIPTION:
URL:https://saintthomaszanesville.org/event/choir-rehersal-2/2026-01-18/
LOCATION:Activity Center
CATEGORIES:Choir
END:VEVENT
BEGIN:VEVENT
DTSTART;TZID=America/Detroit:20260111T094500
DTEND;TZID=America/Detroit:20260111T223000
DTSTAMP:20260420T051908
CREATED:20231026T154327Z
LAST-MODIFIED:20240829T124728Z
UID:10007039-1768124700-1768170600@saintthomaszanesville.org
SUMMARY:Choir Rehearsal
DESCRIPTION:
URL:https://saintthomaszanesville.org/event/choir-rehersal-2/2026-01-11/
LOCATION:Activity Center
CATEGORIES:Choir
END:VEVENT
BEGIN:VEVENT
DTSTART;TZID=America/Detroit:20260104T094500
DTEND;TZID=America/Detroit:20260104T223000
DTSTAMP:20260420T051908
CREATED:20231026T154327Z
LAST-MODIFIED:20240829T124728Z
UID:10007038-1767519900-1767565800@saintthomaszanesville.org
SUMMARY:Choir Rehearsal
DESCRIPTION:
URL:https://saintthomaszanesville.org/event/choir-rehersal-2/2026-01-04/
LOCATION:Activity Center
CATEGORIES:Choir
END:VEVENT
BEGIN:VEVENT
DTSTART;TZID=America/Detroit:20251228T094500
DTEND;TZID=America/Detroit:20251228T223000
DTSTAMP:20260420T051908
CREATED:20231026T154327Z
LAST-MODIFIED:20240829T124728Z
UID:10007037-1766915100-1766961000@saintthomaszanesville.org
SUMMARY:Choir Rehearsal
DESCRIPTION:
URL:https://saintthomaszanesville.org/event/choir-rehersal-2/2025-12-28/
LOCATION:Activity Center
CATEGORIES:Choir
END:VEVENT
BEGIN:VEVENT
DTSTART;TZID=America/Detroit:20251221T094500
DTEND;TZID=America/Detroit:20251221T223000
DTSTAMP:20260420T051908
CREATED:20231026T154327Z
LAST-MODIFIED:20240829T124728Z
UID:10007036-1766310300-1766356200@saintthomaszanesville.org
SUMMARY:Choir Rehearsal
DESCRIPTION:
URL:https://saintthomaszanesville.org/event/choir-rehersal-2/2025-12-21/
LOCATION:Activity Center
CATEGORIES:Choir
END:VEVENT
BEGIN:VEVENT
DTSTART;TZID=America/Detroit:20251214T094500
DTEND;TZID=America/Detroit:20251214T223000
DTSTAMP:20260420T051908
CREATED:20231026T154327Z
LAST-MODIFIED:20240829T124728Z
UID:10007035-1765705500-1765751400@saintthomaszanesville.org
SUMMARY:Choir Rehearsal
DESCRIPTION:
URL:https://saintthomaszanesville.org/event/choir-rehersal-2/2025-12-14/
LOCATION:Activity Center
CATEGORIES:Choir
END:VEVENT
BEGIN:VEVENT
DTSTART;TZID=America/Detroit:20251207T094500
DTEND;TZID=America/Detroit:20251207T223000
DTSTAMP:20260420T051908
CREATED:20231026T154327Z
LAST-MODIFIED:20240829T124728Z
UID:10007034-1765100700-1765146600@saintthomaszanesville.org
SUMMARY:Choir Rehearsal
DESCRIPTION:
URL:https://saintthomaszanesville.org/event/choir-rehersal-2/2025-12-07/
LOCATION:Activity Center
CATEGORIES:Choir
END:VEVENT
BEGIN:VEVENT
DTSTART;TZID=America/Detroit:20251130T094500
DTEND;TZID=America/Detroit:20251130T223000
DTSTAMP:20260420T051908
CREATED:20231026T154327Z
LAST-MODIFIED:20240829T124728Z
UID:10007033-1764495900-1764541800@saintthomaszanesville.org
SUMMARY:Choir Rehearsal
DESCRIPTION:
URL:https://saintthomaszanesville.org/event/choir-rehersal-2/2025-11-30/
LOCATION:Activity Center
CATEGORIES:Choir
END:VEVENT
BEGIN:VEVENT
DTSTART;TZID=America/Detroit:20251123T094500
DTEND;TZID=America/Detroit:20251123T223000
DTSTAMP:20260420T051908
CREATED:20231026T154327Z
LAST-MODIFIED:20240829T124728Z
UID:10007032-1763891100-1763937000@saintthomaszanesville.org
SUMMARY:Choir Rehearsal
DESCRIPTION:
URL:https://saintthomaszanesville.org/event/choir-rehersal-2/2025-11-23/
LOCATION:Activity Center
CATEGORIES:Choir
END:VEVENT
BEGIN:VEVENT
DTSTART;TZID=America/Detroit:20251116T094500
DTEND;TZID=America/Detroit:20251116T223000
DTSTAMP:20260420T051908
CREATED:20231026T154327Z
LAST-MODIFIED:20240829T124728Z
UID:10007031-1763286300-1763332200@saintthomaszanesville.org
SUMMARY:Choir Rehearsal
DESCRIPTION:
URL:https://saintthomaszanesville.org/event/choir-rehersal-2/2025-11-16/
LOCATION:Activity Center
CATEGORIES:Choir
END:VEVENT
BEGIN:VEVENT
DTSTART;TZID=America/Detroit:20251109T180000
DTEND;TZID=America/Detroit:20251109T204500
DTSTAMP:20260420T051908
CREATED:20250604T135238Z
LAST-MODIFIED:20250604T135411Z
UID:10009819-1762711200-1762721100@saintthomaszanesville.org
SUMMARY:Catalyst Nights
DESCRIPTION:All events being hosted at St. Thomas Aquinas Activity Center. \nEvent Dates\n● 9/28/25 – Known\n● 10/19/25 – Crucified – Gal 2:20\n● 11/9/25 – New Creations – 2 Cor 5:17\n● 1/18/26 – Love One Another – 1 John 4:7\n● 2/15/26 – Peace – Phil 4:6-7\n● 3/8/26 – Living Stones – 1 Pet 2:5\n● 3/29/26 – Romans 1:16\n● 4/26/26 – Living for Christ
URL:https://saintthomaszanesville.org/event/catalyst-nights-2/2025-11-09/
LOCATION:Activity Center
END:VEVENT
BEGIN:VEVENT
DTSTART;TZID=America/Detroit:20251109T094500
DTEND;TZID=America/Detroit:20251109T223000
DTSTAMP:20260420T051908
CREATED:20231026T154327Z
LAST-MODIFIED:20240829T124728Z
UID:10007030-1762681500-1762727400@saintthomaszanesville.org
SUMMARY:Choir Rehearsal
DESCRIPTION:
URL:https://saintthomaszanesville.org/event/choir-rehersal-2/2025-11-09/
LOCATION:Activity Center
CATEGORIES:Choir
END:VEVENT
BEGIN:VEVENT
DTSTART;TZID=America/Detroit:20251102T094500
DTEND;TZID=America/Detroit:20251102T223000
DTSTAMP:20260420T051908
CREATED:20231026T154327Z
LAST-MODIFIED:20240829T124728Z
UID:10007029-1762076700-1762122600@saintthomaszanesville.org
SUMMARY:Choir Rehearsal
DESCRIPTION:
URL:https://saintthomaszanesville.org/event/choir-rehersal-2/2025-11-02/
LOCATION:Activity Center
CATEGORIES:Choir
END:VEVENT
BEGIN:VEVENT
DTSTART;TZID=America/Detroit:20251026T094500
DTEND;TZID=America/Detroit:20251026T223000
DTSTAMP:20260420T051908
CREATED:20231026T154327Z
LAST-MODIFIED:20240829T124728Z
UID:10007028-1761471900-1761517800@saintthomaszanesville.org
SUMMARY:Choir Rehearsal
DESCRIPTION:
URL:https://saintthomaszanesville.org/event/choir-rehersal-2/2025-10-26/
LOCATION:Activity Center
CATEGORIES:Choir
END:VEVENT
BEGIN:VEVENT
DTSTART;TZID=America/Detroit:20251019T180000
DTEND;TZID=America/Detroit:20251019T204500
DTSTAMP:20260420T051908
CREATED:20250604T135238Z
LAST-MODIFIED:20250604T135411Z
UID:10009818-1760896800-1760906700@saintthomaszanesville.org
SUMMARY:Catalyst Nights
DESCRIPTION:All events being hosted at St. Thomas Aquinas Activity Center. \nEvent Dates\n● 9/28/25 – Known\n● 10/19/25 – Crucified – Gal 2:20\n● 11/9/25 – New Creations – 2 Cor 5:17\n● 1/18/26 – Love One Another – 1 John 4:7\n● 2/15/26 – Peace – Phil 4:6-7\n● 3/8/26 – Living Stones – 1 Pet 2:5\n● 3/29/26 – Romans 1:16\n● 4/26/26 – Living for Christ
URL:https://saintthomaszanesville.org/event/catalyst-nights-2/2025-10-19/
LOCATION:Activity Center
END:VEVENT
BEGIN:VEVENT
DTSTART;TZID=America/Detroit:20251019T094500
DTEND;TZID=America/Detroit:20251019T223000
DTSTAMP:20260420T051908
CREATED:20231026T154327Z
LAST-MODIFIED:20240829T124728Z
UID:10007027-1760867100-1760913000@saintthomaszanesville.org
SUMMARY:Choir Rehearsal
DESCRIPTION:
URL:https://saintthomaszanesville.org/event/choir-rehersal-2/2025-10-19/
LOCATION:Activity Center
CATEGORIES:Choir
END:VEVENT
BEGIN:VEVENT
DTSTART;TZID=America/Detroit:20251012T094500
DTEND;TZID=America/Detroit:20251012T223000
DTSTAMP:20260420T051908
CREATED:20231026T154327Z
LAST-MODIFIED:20240829T124728Z
UID:10007026-1760262300-1760308200@saintthomaszanesville.org
SUMMARY:Choir Rehearsal
DESCRIPTION:
URL:https://saintthomaszanesville.org/event/choir-rehersal-2/2025-10-12/
LOCATION:Activity Center
CATEGORIES:Choir
END:VEVENT
BEGIN:VEVENT
DTSTART;TZID=America/Detroit:20251005T094500
DTEND;TZID=America/Detroit:20251005T223000
DTSTAMP:20260420T051908
CREATED:20231026T154327Z
LAST-MODIFIED:20240829T124728Z
UID:10007025-1759657500-1759703400@saintthomaszanesville.org
SUMMARY:Choir Rehearsal
DESCRIPTION:
URL:https://saintthomaszanesville.org/event/choir-rehersal-2/2025-10-05/
LOCATION:Activity Center
CATEGORIES:Choir
END:VEVENT
BEGIN:VEVENT
DTSTART;TZID=America/Detroit:20250928T180000
DTEND;TZID=America/Detroit:20250928T204500
DTSTAMP:20260420T051908
CREATED:20250604T135238Z
LAST-MODIFIED:20250604T135411Z
UID:10009817-1759082400-1759092300@saintthomaszanesville.org
SUMMARY:Catalyst Nights
DESCRIPTION:All events being hosted at St. Thomas Aquinas Activity Center. \nEvent Dates\n● 9/28/25 – Known\n● 10/19/25 – Crucified – Gal 2:20\n● 11/9/25 – New Creations – 2 Cor 5:17\n● 1/18/26 – Love One Another – 1 John 4:7\n● 2/15/26 – Peace – Phil 4:6-7\n● 3/8/26 – Living Stones – 1 Pet 2:5\n● 3/29/26 – Romans 1:16\n● 4/26/26 – Living for Christ
URL:https://saintthomaszanesville.org/event/catalyst-nights-2/2025-09-28/
LOCATION:Activity Center
END:VEVENT
BEGIN:VEVENT
DTSTART;TZID=America/Detroit:20250928T094500
DTEND;TZID=America/Detroit:20250928T223000
DTSTAMP:20260420T051908
CREATED:20231026T154327Z
LAST-MODIFIED:20240829T124728Z
UID:10007024-1759052700-1759098600@saintthomaszanesville.org
SUMMARY:Choir Rehearsal
DESCRIPTION:
URL:https://saintthomaszanesville.org/event/choir-rehersal-2/2025-09-28/
LOCATION:Activity Center
CATEGORIES:Choir
END:VEVENT
BEGIN:VEVENT
DTSTART;TZID=America/Detroit:20250921T094500
DTEND;TZID=America/Detroit:20250921T223000
DTSTAMP:20260420T051908
CREATED:20231026T154327Z
LAST-MODIFIED:20240829T124728Z
UID:10007023-1758447900-1758493800@saintthomaszanesville.org
SUMMARY:Choir Rehearsal
DESCRIPTION:
URL:https://saintthomaszanesville.org/event/choir-rehersal-2/2025-09-21/
LOCATION:Activity Center
CATEGORIES:Choir
END:VEVENT
BEGIN:VEVENT
DTSTART;TZID=America/Detroit:20250914T094500
DTEND;TZID=America/Detroit:20250914T223000
DTSTAMP:20260420T051908
CREATED:20231026T154327Z
LAST-MODIFIED:20240829T124728Z
UID:10007022-1757843100-1757889000@saintthomaszanesville.org
SUMMARY:Choir Rehearsal
DESCRIPTION:
URL:https://saintthomaszanesville.org/event/choir-rehersal-2/2025-09-14/
LOCATION:Activity Center
CATEGORIES:Choir
END:VEVENT
BEGIN:VEVENT
DTSTART;TZID=America/Detroit:20250907T094500
DTEND;TZID=America/Detroit:20250907T223000
DTSTAMP:20260420T051908
CREATED:20231026T154327Z
LAST-MODIFIED:20240829T124728Z
UID:10007021-1757238300-1757284200@saintthomaszanesville.org
SUMMARY:Choir Rehearsal
DESCRIPTION:
URL:https://saintthomaszanesville.org/event/choir-rehersal-2/2025-09-07/
LOCATION:Activity Center
CATEGORIES:Choir
END:VEVENT
BEGIN:VEVENT
DTSTART;TZID=America/Detroit:20250831T094500
DTEND;TZID=America/Detroit:20250831T223000
DTSTAMP:20260420T051908
CREATED:20231026T154327Z
LAST-MODIFIED:20240829T124728Z
UID:10007020-1756633500-1756679400@saintthomaszanesville.org
SUMMARY:Choir Rehearsal
DESCRIPTION:
URL:https://saintthomaszanesville.org/event/choir-rehersal-2/2025-08-31/
LOCATION:Activity Center
CATEGORIES:Choir
END:VEVENT
BEGIN:VEVENT
DTSTART;TZID=America/Detroit:20250824T094500
DTEND;TZID=America/Detroit:20250824T223000
DTSTAMP:20260420T051908
CREATED:20231026T154327Z
LAST-MODIFIED:20240829T124728Z
UID:10007019-1756028700-1756074600@saintthomaszanesville.org
SUMMARY:Choir Rehearsal
DESCRIPTION:
URL:https://saintthomaszanesville.org/event/choir-rehersal-2/2025-08-24/
LOCATION:Activity Center
CATEGORIES:Choir
END:VEVENT
END:VCALENDAR