BEGIN:VCALENDAR
VERSION:2.0
PRODID:-//Saint Thomas Acquinas Zanesville - ECPv6.15.20//NONSGML v1.0//EN
CALSCALE:GREGORIAN
METHOD:PUBLISH
X-ORIGINAL-URL:https://saintthomaszanesville.org
X-WR-CALDESC:Events for Saint Thomas Acquinas Zanesville
REFRESH-INTERVAL;VALUE=DURATION:PT1H
X-Robots-Tag:noindex
X-PUBLISHED-TTL:PT1H
BEGIN:VTIMEZONE
TZID:America/Detroit
BEGIN:DAYLIGHT
TZOFFSETFROM:-0500
TZOFFSETTO:-0400
TZNAME:EDT
DTSTART:20220313T070000
END:DAYLIGHT
BEGIN:STANDARD
TZOFFSETFROM:-0400
TZOFFSETTO:-0500
TZNAME:EST
DTSTART:20221106T060000
END:STANDARD
BEGIN:DAYLIGHT
TZOFFSETFROM:-0500
TZOFFSETTO:-0400
TZNAME:EDT
DTSTART:20230312T070000
END:DAYLIGHT
BEGIN:STANDARD
TZOFFSETFROM:-0400
TZOFFSETTO:-0500
TZNAME:EST
DTSTART:20231105T060000
END:STANDARD
BEGIN:DAYLIGHT
TZOFFSETFROM:-0500
TZOFFSETTO:-0400
TZNAME:EDT
DTSTART:20240310T070000
END:DAYLIGHT
BEGIN:STANDARD
TZOFFSETFROM:-0400
TZOFFSETTO:-0500
TZNAME:EST
DTSTART:20241103T060000
END:STANDARD
END:VTIMEZONE
BEGIN:VEVENT
DTSTART;TZID=America/Detroit:20231029T094500
DTEND;TZID=America/Detroit:20231029T223000
DTSTAMP:20260420T182622
CREATED:20231026T154327Z
LAST-MODIFIED:20240829T124728Z
UID:10006924-1698572700-1698618600@saintthomaszanesville.org
SUMMARY:Choir Rehearsal
DESCRIPTION:
URL:https://saintthomaszanesville.org/event/choir-rehersal-2/2023-10-29/
LOCATION:Activity Center
CATEGORIES:Choir
END:VEVENT
BEGIN:VEVENT
DTSTART;TZID=America/Detroit:20231022T094500
DTEND;TZID=America/Detroit:20231022T223000
DTSTAMP:20260420T182622
CREATED:20230830T133942Z
LAST-MODIFIED:20230830T134024Z
UID:10006923-1697967900-1698013800@saintthomaszanesville.org
SUMMARY:Choir Rehearsal
DESCRIPTION:
URL:https://saintthomaszanesville.org/event/choir-rehersal/2023-10-22/
LOCATION:Activity Center
CATEGORIES:Choir
END:VEVENT
BEGIN:VEVENT
DTSTART;TZID=America/Detroit:20231015T094500
DTEND;TZID=America/Detroit:20231015T223000
DTSTAMP:20260420T182622
CREATED:20230830T133942Z
LAST-MODIFIED:20230830T134024Z
UID:10006922-1697363100-1697409000@saintthomaszanesville.org
SUMMARY:Choir Rehearsal
DESCRIPTION:
URL:https://saintthomaszanesville.org/event/choir-rehersal/2023-10-15/
LOCATION:Activity Center
CATEGORIES:Choir
END:VEVENT
BEGIN:VEVENT
DTSTART;TZID=America/Detroit:20231008T094500
DTEND;TZID=America/Detroit:20231008T223000
DTSTAMP:20260420T182622
CREATED:20230830T133942Z
LAST-MODIFIED:20230830T134024Z
UID:10006921-1696758300-1696804200@saintthomaszanesville.org
SUMMARY:Choir Rehearsal
DESCRIPTION:
URL:https://saintthomaszanesville.org/event/choir-rehersal/2023-10-08/
LOCATION:Activity Center
CATEGORIES:Choir
END:VEVENT
BEGIN:VEVENT
DTSTART;TZID=America/Detroit:20231001T094500
DTEND;TZID=America/Detroit:20231001T223000
DTSTAMP:20260420T182622
CREATED:20230830T133942Z
LAST-MODIFIED:20230830T134024Z
UID:10006920-1696153500-1696199400@saintthomaszanesville.org
SUMMARY:Choir Rehearsal
DESCRIPTION:
URL:https://saintthomaszanesville.org/event/choir-rehersal/2023-10-01/
LOCATION:Activity Center
CATEGORIES:Choir
END:VEVENT
BEGIN:VEVENT
DTSTART;TZID=America/Detroit:20230930T173000
DTEND;TZID=America/Detroit:20230930T210000
DTSTAMP:20260420T182622
CREATED:20230906T130834Z
LAST-MODIFIED:20230906T130834Z
UID:10007460-1696095000-1696107600@saintthomaszanesville.org
SUMMARY:Oktoberfest
DESCRIPTION:
URL:https://saintthomaszanesville.org/event/oktoberfest/
LOCATION:Activity Center
END:VEVENT
BEGIN:VEVENT
DTSTART;TZID=America/Detroit:20230924T094500
DTEND;TZID=America/Detroit:20230924T223000
DTSTAMP:20260420T182622
CREATED:20230830T133942Z
LAST-MODIFIED:20230830T134024Z
UID:10006919-1695548700-1695594600@saintthomaszanesville.org
SUMMARY:Choir Rehearsal
DESCRIPTION:
URL:https://saintthomaszanesville.org/event/choir-rehersal/2023-09-24/
LOCATION:Activity Center
CATEGORIES:Choir
END:VEVENT
BEGIN:VEVENT
DTSTART;TZID=America/Detroit:20230917T094500
DTEND;TZID=America/Detroit:20230917T223000
DTSTAMP:20260420T182622
CREATED:20230830T133942Z
LAST-MODIFIED:20230830T134024Z
UID:10006918-1694943900-1694989800@saintthomaszanesville.org
SUMMARY:Choir Rehearsal
DESCRIPTION:
URL:https://saintthomaszanesville.org/event/choir-rehersal/2023-09-17/
LOCATION:Activity Center
CATEGORIES:Choir
END:VEVENT
BEGIN:VEVENT
DTSTART;TZID=America/Detroit:20230910T094500
DTEND;TZID=America/Detroit:20230910T223000
DTSTAMP:20260420T182622
CREATED:20230830T133942Z
LAST-MODIFIED:20230830T134024Z
UID:10006917-1694339100-1694385000@saintthomaszanesville.org
SUMMARY:Choir Rehearsal
DESCRIPTION:
URL:https://saintthomaszanesville.org/event/choir-rehersal/2023-09-10/
LOCATION:Activity Center
CATEGORIES:Choir
END:VEVENT
BEGIN:VEVENT
DTSTART;TZID=America/Detroit:20230406T200000
DTEND;TZID=America/Detroit:20230406T235500
DTSTAMP:20260420T182622
CREATED:20230316T151751Z
LAST-MODIFIED:20230316T151834Z
UID:10004404-1680811200-1680825300@saintthomaszanesville.org
SUMMARY:Adoration
DESCRIPTION:
URL:https://saintthomaszanesville.org/event/adoration/
LOCATION:Activity Center
END:VEVENT
BEGIN:VEVENT
DTSTART;TZID=America/Detroit:20230404T190000
DTEND;TZID=America/Detroit:20230404T200000
DTSTAMP:20260420T182622
CREATED:20230202T143947Z
LAST-MODIFIED:20230202T143947Z
UID:10003709-1680634800-1680638400@saintthomaszanesville.org
SUMMARY:Faith & Formation
DESCRIPTION:Light to Light Series
URL:https://saintthomaszanesville.org/event/faith-formation/2023-04-04/
LOCATION:Activity Center
END:VEVENT
BEGIN:VEVENT
DTSTART;TZID=America/Detroit:20230328T190000
DTEND;TZID=America/Detroit:20230328T200000
DTSTAMP:20260420T182622
CREATED:20230202T143947Z
LAST-MODIFIED:20230202T143947Z
UID:10003708-1680030000-1680033600@saintthomaszanesville.org
SUMMARY:Faith & Formation
DESCRIPTION:Light to Light Series
URL:https://saintthomaszanesville.org/event/faith-formation/2023-03-28/
LOCATION:Activity Center
END:VEVENT
BEGIN:VEVENT
DTSTART;TZID=America/Detroit:20230321T190000
DTEND;TZID=America/Detroit:20230321T200000
DTSTAMP:20260420T182622
CREATED:20230202T143947Z
LAST-MODIFIED:20230202T143947Z
UID:10003707-1679425200-1679428800@saintthomaszanesville.org
SUMMARY:Faith & Formation
DESCRIPTION:Light to Light Series
URL:https://saintthomaszanesville.org/event/faith-formation/2023-03-21/
LOCATION:Activity Center
END:VEVENT
BEGIN:VEVENT
DTSTART;TZID=America/Detroit:20230314T190000
DTEND;TZID=America/Detroit:20230314T200000
DTSTAMP:20260420T182622
CREATED:20230202T143947Z
LAST-MODIFIED:20230202T143947Z
UID:10003706-1678820400-1678824000@saintthomaszanesville.org
SUMMARY:Faith & Formation
DESCRIPTION:Light to Light Series
URL:https://saintthomaszanesville.org/event/faith-formation/2023-03-14/
LOCATION:Activity Center
END:VEVENT
BEGIN:VEVENT
DTSTART;TZID=America/Detroit:20230307T190000
DTEND;TZID=America/Detroit:20230307T200000
DTSTAMP:20260420T182622
CREATED:20230202T143947Z
LAST-MODIFIED:20230202T143947Z
UID:10003705-1678215600-1678219200@saintthomaszanesville.org
SUMMARY:Faith & Formation
DESCRIPTION:Light to Light Series
URL:https://saintthomaszanesville.org/event/faith-formation/2023-03-07/
LOCATION:Activity Center
END:VEVENT
BEGIN:VEVENT
DTSTART;TZID=America/Detroit:20230228T190000
DTEND;TZID=America/Detroit:20230228T200000
DTSTAMP:20260420T182622
CREATED:20230202T143947Z
LAST-MODIFIED:20230202T143947Z
UID:10003704-1677610800-1677614400@saintthomaszanesville.org
SUMMARY:Faith & Formation
DESCRIPTION:Light to Light Series
URL:https://saintthomaszanesville.org/event/faith-formation/2023-02-28/
LOCATION:Activity Center
END:VEVENT
END:VCALENDAR