BEGIN:VCALENDAR
VERSION:2.0
PRODID:-//Saint Thomas Acquinas Zanesville - ECPv6.15.20//NONSGML v1.0//EN
CALSCALE:GREGORIAN
METHOD:PUBLISH
X-WR-CALNAME:Saint Thomas Acquinas Zanesville
X-ORIGINAL-URL:https://saintthomaszanesville.org
X-WR-CALDESC:Events for Saint Thomas Acquinas Zanesville
REFRESH-INTERVAL;VALUE=DURATION:PT1H
X-Robots-Tag:noindex
X-PUBLISHED-TTL:PT1H
BEGIN:VTIMEZONE
TZID:America/Detroit
BEGIN:DAYLIGHT
TZOFFSETFROM:-0500
TZOFFSETTO:-0400
TZNAME:EDT
DTSTART:20220313T070000
END:DAYLIGHT
BEGIN:STANDARD
TZOFFSETFROM:-0400
TZOFFSETTO:-0500
TZNAME:EST
DTSTART:20221106T060000
END:STANDARD
BEGIN:DAYLIGHT
TZOFFSETFROM:-0500
TZOFFSETTO:-0400
TZNAME:EDT
DTSTART:20230312T070000
END:DAYLIGHT
BEGIN:STANDARD
TZOFFSETFROM:-0400
TZOFFSETTO:-0500
TZNAME:EST
DTSTART:20231105T060000
END:STANDARD
BEGIN:DAYLIGHT
TZOFFSETFROM:-0500
TZOFFSETTO:-0400
TZNAME:EDT
DTSTART:20240310T070000
END:DAYLIGHT
BEGIN:STANDARD
TZOFFSETFROM:-0400
TZOFFSETTO:-0500
TZNAME:EST
DTSTART:20241103T060000
END:STANDARD
BEGIN:DAYLIGHT
TZOFFSETFROM:-0500
TZOFFSETTO:-0400
TZNAME:EDT
DTSTART:20250309T070000
END:DAYLIGHT
BEGIN:STANDARD
TZOFFSETFROM:-0400
TZOFFSETTO:-0500
TZNAME:EST
DTSTART:20251102T060000
END:STANDARD
END:VTIMEZONE
BEGIN:VEVENT
DTSTART;TZID=America/Detroit:20240407T094500
DTEND;TZID=America/Detroit:20240407T223000
DTSTAMP:20260420T161118
CREATED:20231026T154327Z
LAST-MODIFIED:20240829T124728Z
UID:10006947-1712483100-1712529000@saintthomaszanesville.org
SUMMARY:Choir Rehearsal
DESCRIPTION:
URL:https://saintthomaszanesville.org/event/choir-rehersal-2/2024-04-07/
LOCATION:Activity Center
CATEGORIES:Choir
END:VEVENT
BEGIN:VEVENT
DTSTART;TZID=America/Detroit:20240331T094500
DTEND;TZID=America/Detroit:20240331T223000
DTSTAMP:20260420T161118
CREATED:20231026T154327Z
LAST-MODIFIED:20240829T124728Z
UID:10006946-1711878300-1711924200@saintthomaszanesville.org
SUMMARY:Choir Rehearsal
DESCRIPTION:
URL:https://saintthomaszanesville.org/event/choir-rehersal-2/2024-03-31/
LOCATION:Activity Center
CATEGORIES:Choir
END:VEVENT
BEGIN:VEVENT
DTSTART;TZID=America/Detroit:20240324T094500
DTEND;TZID=America/Detroit:20240324T223000
DTSTAMP:20260420T161118
CREATED:20231026T154327Z
LAST-MODIFIED:20240829T124728Z
UID:10006945-1711273500-1711319400@saintthomaszanesville.org
SUMMARY:Choir Rehearsal
DESCRIPTION:
URL:https://saintthomaszanesville.org/event/choir-rehersal-2/2024-03-24/
LOCATION:Activity Center
CATEGORIES:Choir
END:VEVENT
BEGIN:VEVENT
DTSTART;TZID=America/Detroit:20240317T094500
DTEND;TZID=America/Detroit:20240317T223000
DTSTAMP:20260420T161118
CREATED:20231026T154327Z
LAST-MODIFIED:20240829T124728Z
UID:10006944-1710668700-1710714600@saintthomaszanesville.org
SUMMARY:Choir Rehearsal
DESCRIPTION:
URL:https://saintthomaszanesville.org/event/choir-rehersal-2/2024-03-17/
LOCATION:Activity Center
CATEGORIES:Choir
END:VEVENT
BEGIN:VEVENT
DTSTART;TZID=America/Detroit:20240317T091500
DTEND;TZID=America/Detroit:20240317T101500
DTSTAMP:20260420T161118
CREATED:20230202T153157Z
LAST-MODIFIED:20240110T142844Z
UID:10007723-1710666900-1710670500@saintthomaszanesville.org
SUMMARY:Lenten Penance Service
DESCRIPTION:Activity Center
URL:https://saintthomaszanesville.org/event/lenten-penance-service/2024-03-17/
LOCATION:Activity Center
CATEGORIES:Confessions
END:VEVENT
BEGIN:VEVENT
DTSTART;TZID=America/Detroit:20240310T094500
DTEND;TZID=America/Detroit:20240310T223000
DTSTAMP:20260420T161118
CREATED:20231026T154327Z
LAST-MODIFIED:20240829T124728Z
UID:10006943-1710063900-1710109800@saintthomaszanesville.org
SUMMARY:Choir Rehearsal
DESCRIPTION:
URL:https://saintthomaszanesville.org/event/choir-rehersal-2/2024-03-10/
LOCATION:Activity Center
CATEGORIES:Choir
END:VEVENT
BEGIN:VEVENT
DTSTART;TZID=America/Detroit:20240310T091500
DTEND;TZID=America/Detroit:20240310T101500
DTSTAMP:20260420T161118
CREATED:20230202T153157Z
LAST-MODIFIED:20240110T142844Z
UID:10003997-1710062100-1710065700@saintthomaszanesville.org
SUMMARY:Lenten Penance Service
DESCRIPTION:Activity Center
URL:https://saintthomaszanesville.org/event/lenten-penance-service/2024-03-10/
LOCATION:Activity Center
CATEGORIES:Confessions
END:VEVENT
BEGIN:VEVENT
DTSTART;TZID=America/Detroit:20240303T094500
DTEND;TZID=America/Detroit:20240303T223000
DTSTAMP:20260420T161118
CREATED:20231026T154327Z
LAST-MODIFIED:20240829T124728Z
UID:10006942-1709459100-1709505000@saintthomaszanesville.org
SUMMARY:Choir Rehearsal
DESCRIPTION:
URL:https://saintthomaszanesville.org/event/choir-rehersal-2/2024-03-03/
LOCATION:Activity Center
CATEGORIES:Choir
END:VEVENT
BEGIN:VEVENT
DTSTART;TZID=America/Detroit:20240225T094500
DTEND;TZID=America/Detroit:20240225T223000
DTSTAMP:20260420T161118
CREATED:20231026T154327Z
LAST-MODIFIED:20240829T124728Z
UID:10006941-1708854300-1708900200@saintthomaszanesville.org
SUMMARY:Choir Rehearsal
DESCRIPTION:
URL:https://saintthomaszanesville.org/event/choir-rehersal-2/2024-02-25/
LOCATION:Activity Center
CATEGORIES:Choir
END:VEVENT
BEGIN:VEVENT
DTSTART;TZID=America/Detroit:20240218T094500
DTEND;TZID=America/Detroit:20240218T223000
DTSTAMP:20260420T161118
CREATED:20231026T154327Z
LAST-MODIFIED:20240829T124728Z
UID:10006940-1708249500-1708295400@saintthomaszanesville.org
SUMMARY:Choir Rehearsal
DESCRIPTION:
URL:https://saintthomaszanesville.org/event/choir-rehersal-2/2024-02-18/
LOCATION:Activity Center
CATEGORIES:Choir
END:VEVENT
BEGIN:VEVENT
DTSTART;TZID=America/Detroit:20240211T094500
DTEND;TZID=America/Detroit:20240211T223000
DTSTAMP:20260420T161118
CREATED:20231026T154327Z
LAST-MODIFIED:20240829T124728Z
UID:10006939-1707644700-1707690600@saintthomaszanesville.org
SUMMARY:Choir Rehearsal
DESCRIPTION:
URL:https://saintthomaszanesville.org/event/choir-rehersal-2/2024-02-11/
LOCATION:Activity Center
CATEGORIES:Choir
END:VEVENT
BEGIN:VEVENT
DTSTART;TZID=America/Detroit:20240204T094500
DTEND;TZID=America/Detroit:20240204T223000
DTSTAMP:20260420T161118
CREATED:20231026T154327Z
LAST-MODIFIED:20240829T124728Z
UID:10006938-1707039900-1707085800@saintthomaszanesville.org
SUMMARY:Choir Rehearsal
DESCRIPTION:
URL:https://saintthomaszanesville.org/event/choir-rehersal-2/2024-02-04/
LOCATION:Activity Center
CATEGORIES:Choir
END:VEVENT
BEGIN:VEVENT
DTSTART;TZID=America/Detroit:20240128T094500
DTEND;TZID=America/Detroit:20240128T223000
DTSTAMP:20260420T161118
CREATED:20231026T154327Z
LAST-MODIFIED:20240829T124728Z
UID:10006937-1706435100-1706481000@saintthomaszanesville.org
SUMMARY:Choir Rehearsal
DESCRIPTION:
URL:https://saintthomaszanesville.org/event/choir-rehersal-2/2024-01-28/
LOCATION:Activity Center
CATEGORIES:Choir
END:VEVENT
BEGIN:VEVENT
DTSTART;TZID=America/Detroit:20240121T094500
DTEND;TZID=America/Detroit:20240121T223000
DTSTAMP:20260420T161118
CREATED:20231026T154327Z
LAST-MODIFIED:20240829T124728Z
UID:10006936-1705830300-1705876200@saintthomaszanesville.org
SUMMARY:Choir Rehearsal
DESCRIPTION:
URL:https://saintthomaszanesville.org/event/choir-rehersal-2/2024-01-21/
LOCATION:Activity Center
CATEGORIES:Choir
END:VEVENT
BEGIN:VEVENT
DTSTART;TZID=America/Detroit:20240114T094500
DTEND;TZID=America/Detroit:20240114T223000
DTSTAMP:20260420T161118
CREATED:20231026T154327Z
LAST-MODIFIED:20240829T124728Z
UID:10006935-1705225500-1705271400@saintthomaszanesville.org
SUMMARY:Choir Rehearsal
DESCRIPTION:
URL:https://saintthomaszanesville.org/event/choir-rehersal-2/2024-01-14/
LOCATION:Activity Center
CATEGORIES:Choir
END:VEVENT
BEGIN:VEVENT
DTSTART;TZID=America/Detroit:20240107T094500
DTEND;TZID=America/Detroit:20240107T223000
DTSTAMP:20260420T161119
CREATED:20231026T154327Z
LAST-MODIFIED:20240829T124728Z
UID:10006934-1704620700-1704666600@saintthomaszanesville.org
SUMMARY:Choir Rehearsal
DESCRIPTION:
URL:https://saintthomaszanesville.org/event/choir-rehersal-2/2024-01-07/
LOCATION:Activity Center
CATEGORIES:Choir
END:VEVENT
BEGIN:VEVENT
DTSTART;TZID=America/Detroit:20231231T094500
DTEND;TZID=America/Detroit:20231231T223000
DTSTAMP:20260420T161119
CREATED:20231026T154327Z
LAST-MODIFIED:20240829T124728Z
UID:10006933-1704015900-1704061800@saintthomaszanesville.org
SUMMARY:Choir Rehearsal
DESCRIPTION:
URL:https://saintthomaszanesville.org/event/choir-rehersal-2/2023-12-31/
LOCATION:Activity Center
CATEGORIES:Choir
END:VEVENT
BEGIN:VEVENT
DTSTART;TZID=America/Detroit:20231217T094500
DTEND;TZID=America/Detroit:20231217T223000
DTSTAMP:20260420T161119
CREATED:20231026T154327Z
LAST-MODIFIED:20240829T124728Z
UID:10006931-1702806300-1702852200@saintthomaszanesville.org
SUMMARY:Choir Rehearsal
DESCRIPTION:
URL:https://saintthomaszanesville.org/event/choir-rehersal-2/2023-12-17/
LOCATION:Activity Center
CATEGORIES:Choir
END:VEVENT
BEGIN:VEVENT
DTSTART;TZID=America/Detroit:20231210T094500
DTEND;TZID=America/Detroit:20231210T223000
DTSTAMP:20260420T161119
CREATED:20231026T154327Z
LAST-MODIFIED:20240829T124728Z
UID:10006930-1702201500-1702247400@saintthomaszanesville.org
SUMMARY:Choir Rehearsal
DESCRIPTION:
URL:https://saintthomaszanesville.org/event/choir-rehersal-2/2023-12-10/
LOCATION:Activity Center
CATEGORIES:Choir
END:VEVENT
BEGIN:VEVENT
DTSTART;TZID=America/Detroit:20231203T094500
DTEND;TZID=America/Detroit:20231203T223000
DTSTAMP:20260420T161119
CREATED:20231026T154327Z
LAST-MODIFIED:20240829T124728Z
UID:10006929-1701596700-1701642600@saintthomaszanesville.org
SUMMARY:Choir Rehearsal
DESCRIPTION:
URL:https://saintthomaszanesville.org/event/choir-rehersal-2/2023-12-03/
LOCATION:Activity Center
CATEGORIES:Choir
END:VEVENT
BEGIN:VEVENT
DTSTART;TZID=America/Detroit:20231126T094500
DTEND;TZID=America/Detroit:20231126T223000
DTSTAMP:20260420T161119
CREATED:20231026T154327Z
LAST-MODIFIED:20240829T124728Z
UID:10006928-1700991900-1701037800@saintthomaszanesville.org
SUMMARY:Choir Rehearsal
DESCRIPTION:
URL:https://saintthomaszanesville.org/event/choir-rehersal-2/2023-11-26/
LOCATION:Activity Center
CATEGORIES:Choir
END:VEVENT
BEGIN:VEVENT
DTSTART;TZID=America/Detroit:20231119T094500
DTEND;TZID=America/Detroit:20231119T223000
DTSTAMP:20260420T161119
CREATED:20231026T154327Z
LAST-MODIFIED:20240829T124728Z
UID:10006927-1700387100-1700433000@saintthomaszanesville.org
SUMMARY:Choir Rehearsal
DESCRIPTION:
URL:https://saintthomaszanesville.org/event/choir-rehersal-2/2023-11-19/
LOCATION:Activity Center
CATEGORIES:Choir
END:VEVENT
BEGIN:VEVENT
DTSTART;TZID=America/Detroit:20231112T094500
DTEND;TZID=America/Detroit:20231112T223000
DTSTAMP:20260420T161119
CREATED:20231026T154327Z
LAST-MODIFIED:20240829T124728Z
UID:10006926-1699782300-1699828200@saintthomaszanesville.org
SUMMARY:Choir Rehearsal
DESCRIPTION:
URL:https://saintthomaszanesville.org/event/choir-rehersal-2/2023-11-12/
LOCATION:Activity Center
CATEGORIES:Choir
END:VEVENT
BEGIN:VEVENT
DTSTART;TZID=America/Detroit:20231105T094500
DTEND;TZID=America/Detroit:20231105T223000
DTSTAMP:20260420T161119
CREATED:20231026T154327Z
LAST-MODIFIED:20240829T124728Z
UID:10006925-1699177500-1699223400@saintthomaszanesville.org
SUMMARY:Choir Rehearsal
DESCRIPTION:
URL:https://saintthomaszanesville.org/event/choir-rehersal-2/2023-11-05/
LOCATION:Activity Center
CATEGORIES:Choir
END:VEVENT
BEGIN:VEVENT
DTSTART;TZID=America/Detroit:20231029T094500
DTEND;TZID=America/Detroit:20231029T223000
DTSTAMP:20260420T161119
CREATED:20231026T154327Z
LAST-MODIFIED:20240829T124728Z
UID:10006924-1698572700-1698618600@saintthomaszanesville.org
SUMMARY:Choir Rehearsal
DESCRIPTION:
URL:https://saintthomaszanesville.org/event/choir-rehersal-2/2023-10-29/
LOCATION:Activity Center
CATEGORIES:Choir
END:VEVENT
BEGIN:VEVENT
DTSTART;TZID=America/Detroit:20231022T094500
DTEND;TZID=America/Detroit:20231022T223000
DTSTAMP:20260420T161119
CREATED:20230830T133942Z
LAST-MODIFIED:20230830T134024Z
UID:10006923-1697967900-1698013800@saintthomaszanesville.org
SUMMARY:Choir Rehearsal
DESCRIPTION:
URL:https://saintthomaszanesville.org/event/choir-rehersal/2023-10-22/
LOCATION:Activity Center
CATEGORIES:Choir
END:VEVENT
BEGIN:VEVENT
DTSTART;TZID=America/Detroit:20231015T094500
DTEND;TZID=America/Detroit:20231015T223000
DTSTAMP:20260420T161119
CREATED:20230830T133942Z
LAST-MODIFIED:20230830T134024Z
UID:10006922-1697363100-1697409000@saintthomaszanesville.org
SUMMARY:Choir Rehearsal
DESCRIPTION:
URL:https://saintthomaszanesville.org/event/choir-rehersal/2023-10-15/
LOCATION:Activity Center
CATEGORIES:Choir
END:VEVENT
BEGIN:VEVENT
DTSTART;TZID=America/Detroit:20231008T094500
DTEND;TZID=America/Detroit:20231008T223000
DTSTAMP:20260420T161119
CREATED:20230830T133942Z
LAST-MODIFIED:20230830T134024Z
UID:10006921-1696758300-1696804200@saintthomaszanesville.org
SUMMARY:Choir Rehearsal
DESCRIPTION:
URL:https://saintthomaszanesville.org/event/choir-rehersal/2023-10-08/
LOCATION:Activity Center
CATEGORIES:Choir
END:VEVENT
BEGIN:VEVENT
DTSTART;TZID=America/Detroit:20231001T094500
DTEND;TZID=America/Detroit:20231001T223000
DTSTAMP:20260420T161119
CREATED:20230830T133942Z
LAST-MODIFIED:20230830T134024Z
UID:10006920-1696153500-1696199400@saintthomaszanesville.org
SUMMARY:Choir Rehearsal
DESCRIPTION:
URL:https://saintthomaszanesville.org/event/choir-rehersal/2023-10-01/
LOCATION:Activity Center
CATEGORIES:Choir
END:VEVENT
BEGIN:VEVENT
DTSTART;TZID=America/Detroit:20230930T173000
DTEND;TZID=America/Detroit:20230930T210000
DTSTAMP:20260420T161119
CREATED:20230906T130834Z
LAST-MODIFIED:20230906T130834Z
UID:10007460-1696095000-1696107600@saintthomaszanesville.org
SUMMARY:Oktoberfest
DESCRIPTION:
URL:https://saintthomaszanesville.org/event/oktoberfest/
LOCATION:Activity Center
END:VEVENT
END:VCALENDAR