BEGIN:VCALENDAR
VERSION:2.0
PRODID:-//Saint Thomas Acquinas Zanesville - ECPv6.15.20//NONSGML v1.0//EN
CALSCALE:GREGORIAN
METHOD:PUBLISH
X-WR-CALNAME:Saint Thomas Acquinas Zanesville
X-ORIGINAL-URL:https://saintthomaszanesville.org
X-WR-CALDESC:Events for Saint Thomas Acquinas Zanesville
REFRESH-INTERVAL;VALUE=DURATION:PT1H
X-Robots-Tag:noindex
X-PUBLISHED-TTL:PT1H
BEGIN:VTIMEZONE
TZID:America/Detroit
BEGIN:DAYLIGHT
TZOFFSETFROM:-0500
TZOFFSETTO:-0400
TZNAME:EDT
DTSTART:20260308T070000
END:DAYLIGHT
BEGIN:STANDARD
TZOFFSETFROM:-0400
TZOFFSETTO:-0500
TZNAME:EST
DTSTART:20261101T060000
END:STANDARD
BEGIN:DAYLIGHT
TZOFFSETFROM:-0500
TZOFFSETTO:-0400
TZNAME:EDT
DTSTART:20270314T070000
END:DAYLIGHT
BEGIN:STANDARD
TZOFFSETFROM:-0400
TZOFFSETTO:-0500
TZNAME:EST
DTSTART:20271107T060000
END:STANDARD
BEGIN:DAYLIGHT
TZOFFSETFROM:-0500
TZOFFSETTO:-0400
TZNAME:EDT
DTSTART:20280312T070000
END:DAYLIGHT
BEGIN:STANDARD
TZOFFSETFROM:-0400
TZOFFSETTO:-0500
TZNAME:EST
DTSTART:20281105T060000
END:STANDARD
BEGIN:DAYLIGHT
TZOFFSETFROM:-0500
TZOFFSETTO:-0400
TZNAME:EDT
DTSTART:20290311T070000
END:DAYLIGHT
BEGIN:STANDARD
TZOFFSETFROM:-0400
TZOFFSETTO:-0500
TZNAME:EST
DTSTART:20291104T060000
END:STANDARD
END:VTIMEZONE
BEGIN:VEVENT
DTSTART;TZID=America/Detroit:20270908T090000
DTEND;TZID=America/Detroit:20270908T094500
DTSTAMP:20260420T230139
CREATED:20230717T191330Z
LAST-MODIFIED:20251121T143234Z
UID:10005492-1820394000-1820396700@saintthomaszanesville.org
SUMMARY:Mass
DESCRIPTION:
URL:https://saintthomaszanesville.org/event/mass-3/2027-09-08/
LOCATION:St Thomas
CATEGORIES:Mass
END:VEVENT
BEGIN:VEVENT
DTSTART;TZID=America/Detroit:20270915T090000
DTEND;TZID=America/Detroit:20270915T094500
DTSTAMP:20260420T230139
CREATED:20230717T191330Z
LAST-MODIFIED:20251121T143234Z
UID:10005493-1820998800-1821001500@saintthomaszanesville.org
SUMMARY:Mass
DESCRIPTION:
URL:https://saintthomaszanesville.org/event/mass-3/2027-09-15/
LOCATION:St Thomas
CATEGORIES:Mass
END:VEVENT
BEGIN:VEVENT
DTSTART;TZID=America/Detroit:20270922T090000
DTEND;TZID=America/Detroit:20270922T094500
DTSTAMP:20260420T230139
CREATED:20230717T191330Z
LAST-MODIFIED:20251121T143234Z
UID:10005494-1821603600-1821606300@saintthomaszanesville.org
SUMMARY:Mass
DESCRIPTION:
URL:https://saintthomaszanesville.org/event/mass-3/2027-09-22/
LOCATION:St Thomas
CATEGORIES:Mass
END:VEVENT
BEGIN:VEVENT
DTSTART;TZID=America/Detroit:20270929T090000
DTEND;TZID=America/Detroit:20270929T094500
DTSTAMP:20260420T230139
CREATED:20230717T191330Z
LAST-MODIFIED:20251121T143234Z
UID:10005495-1822208400-1822211100@saintthomaszanesville.org
SUMMARY:Mass
DESCRIPTION:
URL:https://saintthomaszanesville.org/event/mass-3/2027-09-29/
LOCATION:St Thomas
CATEGORIES:Mass
END:VEVENT
BEGIN:VEVENT
DTSTART;TZID=America/Detroit:20271006T090000
DTEND;TZID=America/Detroit:20271006T094500
DTSTAMP:20260420T230139
CREATED:20230717T191330Z
LAST-MODIFIED:20251121T143234Z
UID:10005496-1822813200-1822815900@saintthomaszanesville.org
SUMMARY:Mass
DESCRIPTION:
URL:https://saintthomaszanesville.org/event/mass-3/2027-10-06/
LOCATION:St Thomas
CATEGORIES:Mass
END:VEVENT
BEGIN:VEVENT
DTSTART;TZID=America/Detroit:20271013T090000
DTEND;TZID=America/Detroit:20271013T094500
DTSTAMP:20260420T230139
CREATED:20230717T191330Z
LAST-MODIFIED:20251121T143234Z
UID:10005497-1823418000-1823420700@saintthomaszanesville.org
SUMMARY:Mass
DESCRIPTION:
URL:https://saintthomaszanesville.org/event/mass-3/2027-10-13/
LOCATION:St Thomas
CATEGORIES:Mass
END:VEVENT
BEGIN:VEVENT
DTSTART;TZID=America/Detroit:20271020T090000
DTEND;TZID=America/Detroit:20271020T094500
DTSTAMP:20260420T230139
CREATED:20230717T191330Z
LAST-MODIFIED:20251121T143234Z
UID:10005498-1824022800-1824025500@saintthomaszanesville.org
SUMMARY:Mass
DESCRIPTION:
URL:https://saintthomaszanesville.org/event/mass-3/2027-10-20/
LOCATION:St Thomas
CATEGORIES:Mass
END:VEVENT
BEGIN:VEVENT
DTSTART;TZID=America/Detroit:20271027T090000
DTEND;TZID=America/Detroit:20271027T094500
DTSTAMP:20260420T230139
CREATED:20230717T191330Z
LAST-MODIFIED:20251121T143234Z
UID:10005499-1824627600-1824630300@saintthomaszanesville.org
SUMMARY:Mass
DESCRIPTION:
URL:https://saintthomaszanesville.org/event/mass-3/2027-10-27/
LOCATION:St Thomas
CATEGORIES:Mass
END:VEVENT
BEGIN:VEVENT
DTSTART;TZID=America/Detroit:20271103T090000
DTEND;TZID=America/Detroit:20271103T094500
DTSTAMP:20260420T230139
CREATED:20230717T191330Z
LAST-MODIFIED:20251121T143234Z
UID:10005500-1825232400-1825235100@saintthomaszanesville.org
SUMMARY:Mass
DESCRIPTION:
URL:https://saintthomaszanesville.org/event/mass-3/2027-11-03/
LOCATION:St Thomas
CATEGORIES:Mass
END:VEVENT
BEGIN:VEVENT
DTSTART;TZID=America/Detroit:20271110T090000
DTEND;TZID=America/Detroit:20271110T094500
DTSTAMP:20260420T230139
CREATED:20230717T191330Z
LAST-MODIFIED:20251121T143234Z
UID:10005501-1825837200-1825839900@saintthomaszanesville.org
SUMMARY:Mass
DESCRIPTION:
URL:https://saintthomaszanesville.org/event/mass-3/2027-11-10/
LOCATION:St Thomas
CATEGORIES:Mass
END:VEVENT
BEGIN:VEVENT
DTSTART;TZID=America/Detroit:20271117T090000
DTEND;TZID=America/Detroit:20271117T094500
DTSTAMP:20260420T230139
CREATED:20230717T191330Z
LAST-MODIFIED:20251121T143234Z
UID:10005502-1826442000-1826444700@saintthomaszanesville.org
SUMMARY:Mass
DESCRIPTION:
URL:https://saintthomaszanesville.org/event/mass-3/2027-11-17/
LOCATION:St Thomas
CATEGORIES:Mass
END:VEVENT
BEGIN:VEVENT
DTSTART;TZID=America/Detroit:20271124T090000
DTEND;TZID=America/Detroit:20271124T094500
DTSTAMP:20260420T230139
CREATED:20230717T191330Z
LAST-MODIFIED:20251121T143234Z
UID:10005503-1827046800-1827049500@saintthomaszanesville.org
SUMMARY:Mass
DESCRIPTION:
URL:https://saintthomaszanesville.org/event/mass-3/2027-11-24/
LOCATION:St Thomas
CATEGORIES:Mass
END:VEVENT
BEGIN:VEVENT
DTSTART;TZID=America/Detroit:20271201T090000
DTEND;TZID=America/Detroit:20271201T094500
DTSTAMP:20260420T230139
CREATED:20230717T191330Z
LAST-MODIFIED:20251121T143234Z
UID:10005504-1827651600-1827654300@saintthomaszanesville.org
SUMMARY:Mass
DESCRIPTION:
URL:https://saintthomaszanesville.org/event/mass-3/2027-12-01/
LOCATION:St Thomas
CATEGORIES:Mass
END:VEVENT
BEGIN:VEVENT
DTSTART;TZID=America/Detroit:20271208T090000
DTEND;TZID=America/Detroit:20271208T094500
DTSTAMP:20260420T230139
CREATED:20230717T191330Z
LAST-MODIFIED:20251121T143234Z
UID:10005505-1828256400-1828259100@saintthomaszanesville.org
SUMMARY:Mass
DESCRIPTION:
URL:https://saintthomaszanesville.org/event/mass-3/2027-12-08/
LOCATION:St Thomas
CATEGORIES:Mass
END:VEVENT
BEGIN:VEVENT
DTSTART;TZID=America/Detroit:20271215T090000
DTEND;TZID=America/Detroit:20271215T094500
DTSTAMP:20260420T230139
CREATED:20230717T191330Z
LAST-MODIFIED:20251121T143234Z
UID:10005506-1828861200-1828863900@saintthomaszanesville.org
SUMMARY:Mass
DESCRIPTION:
URL:https://saintthomaszanesville.org/event/mass-3/2027-12-15/
LOCATION:St Thomas
CATEGORIES:Mass
END:VEVENT
BEGIN:VEVENT
DTSTART;TZID=America/Detroit:20271222T090000
DTEND;TZID=America/Detroit:20271222T094500
DTSTAMP:20260420T230139
CREATED:20230717T191330Z
LAST-MODIFIED:20251121T143234Z
UID:10005507-1829466000-1829468700@saintthomaszanesville.org
SUMMARY:Mass
DESCRIPTION:
URL:https://saintthomaszanesville.org/event/mass-3/2027-12-22/
LOCATION:St Thomas
CATEGORIES:Mass
END:VEVENT
BEGIN:VEVENT
DTSTART;TZID=America/Detroit:20271229T090000
DTEND;TZID=America/Detroit:20271229T094500
DTSTAMP:20260420T230139
CREATED:20230717T191330Z
LAST-MODIFIED:20251121T143234Z
UID:10005508-1830070800-1830073500@saintthomaszanesville.org
SUMMARY:Mass
DESCRIPTION:
URL:https://saintthomaszanesville.org/event/mass-3/2027-12-29/
LOCATION:St Thomas
CATEGORIES:Mass
END:VEVENT
BEGIN:VEVENT
DTSTART;TZID=America/Detroit:20280105T090000
DTEND;TZID=America/Detroit:20280105T094500
DTSTAMP:20260420T230139
CREATED:20230717T191330Z
LAST-MODIFIED:20251121T143234Z
UID:10005509-1830675600-1830678300@saintthomaszanesville.org
SUMMARY:Mass
DESCRIPTION:
URL:https://saintthomaszanesville.org/event/mass-3/2028-01-05/
LOCATION:St Thomas
CATEGORIES:Mass
END:VEVENT
BEGIN:VEVENT
DTSTART;TZID=America/Detroit:20280112T090000
DTEND;TZID=America/Detroit:20280112T094500
DTSTAMP:20260420T230139
CREATED:20230717T191330Z
LAST-MODIFIED:20251121T143234Z
UID:10005510-1831280400-1831283100@saintthomaszanesville.org
SUMMARY:Mass
DESCRIPTION:
URL:https://saintthomaszanesville.org/event/mass-3/2028-01-12/
LOCATION:St Thomas
CATEGORIES:Mass
END:VEVENT
BEGIN:VEVENT
DTSTART;TZID=America/Detroit:20280119T090000
DTEND;TZID=America/Detroit:20280119T094500
DTSTAMP:20260420T230139
CREATED:20230717T191330Z
LAST-MODIFIED:20251121T143234Z
UID:10005511-1831885200-1831887900@saintthomaszanesville.org
SUMMARY:Mass
DESCRIPTION:
URL:https://saintthomaszanesville.org/event/mass-3/2028-01-19/
LOCATION:St Thomas
CATEGORIES:Mass
END:VEVENT
BEGIN:VEVENT
DTSTART;TZID=America/Detroit:20280126T090000
DTEND;TZID=America/Detroit:20280126T094500
DTSTAMP:20260420T230139
CREATED:20230717T191330Z
LAST-MODIFIED:20251121T143234Z
UID:10005512-1832490000-1832492700@saintthomaszanesville.org
SUMMARY:Mass
DESCRIPTION:
URL:https://saintthomaszanesville.org/event/mass-3/2028-01-26/
LOCATION:St Thomas
CATEGORIES:Mass
END:VEVENT
BEGIN:VEVENT
DTSTART;TZID=America/Detroit:20280202T090000
DTEND;TZID=America/Detroit:20280202T094500
DTSTAMP:20260420T230139
CREATED:20230717T191330Z
LAST-MODIFIED:20251121T143234Z
UID:10005513-1833094800-1833097500@saintthomaszanesville.org
SUMMARY:Mass
DESCRIPTION:
URL:https://saintthomaszanesville.org/event/mass-3/2028-02-02/
LOCATION:St Thomas
CATEGORIES:Mass
END:VEVENT
BEGIN:VEVENT
DTSTART;TZID=America/Detroit:20280209T090000
DTEND;TZID=America/Detroit:20280209T094500
DTSTAMP:20260420T230139
CREATED:20230717T191330Z
LAST-MODIFIED:20251121T143234Z
UID:10005514-1833699600-1833702300@saintthomaszanesville.org
SUMMARY:Mass
DESCRIPTION:
URL:https://saintthomaszanesville.org/event/mass-3/2028-02-09/
LOCATION:St Thomas
CATEGORIES:Mass
END:VEVENT
BEGIN:VEVENT
DTSTART;TZID=America/Detroit:20280216T090000
DTEND;TZID=America/Detroit:20280216T094500
DTSTAMP:20260420T230139
CREATED:20230717T191330Z
LAST-MODIFIED:20251121T143234Z
UID:10005515-1834304400-1834307100@saintthomaszanesville.org
SUMMARY:Mass
DESCRIPTION:
URL:https://saintthomaszanesville.org/event/mass-3/2028-02-16/
LOCATION:St Thomas
CATEGORIES:Mass
END:VEVENT
BEGIN:VEVENT
DTSTART;TZID=America/Detroit:20280223T090000
DTEND;TZID=America/Detroit:20280223T094500
DTSTAMP:20260420T230139
CREATED:20230717T191330Z
LAST-MODIFIED:20251121T143234Z
UID:10005516-1834909200-1834911900@saintthomaszanesville.org
SUMMARY:Mass
DESCRIPTION:
URL:https://saintthomaszanesville.org/event/mass-3/2028-02-23/
LOCATION:St Thomas
CATEGORIES:Mass
END:VEVENT
BEGIN:VEVENT
DTSTART;TZID=America/Detroit:20280301T090000
DTEND;TZID=America/Detroit:20280301T094500
DTSTAMP:20260420T230139
CREATED:20230717T191330Z
LAST-MODIFIED:20251121T143234Z
UID:10005517-1835514000-1835516700@saintthomaszanesville.org
SUMMARY:Mass
DESCRIPTION:
URL:https://saintthomaszanesville.org/event/mass-3/2028-03-01/
LOCATION:St Thomas
CATEGORIES:Mass
END:VEVENT
BEGIN:VEVENT
DTSTART;TZID=America/Detroit:20280308T090000
DTEND;TZID=America/Detroit:20280308T094500
DTSTAMP:20260420T230139
CREATED:20230717T191330Z
LAST-MODIFIED:20251121T143234Z
UID:10005518-1836118800-1836121500@saintthomaszanesville.org
SUMMARY:Mass
DESCRIPTION:
URL:https://saintthomaszanesville.org/event/mass-3/2028-03-08/
LOCATION:St Thomas
CATEGORIES:Mass
END:VEVENT
BEGIN:VEVENT
DTSTART;TZID=America/Detroit:20280315T090000
DTEND;TZID=America/Detroit:20280315T094500
DTSTAMP:20260420T230139
CREATED:20230717T191330Z
LAST-MODIFIED:20251121T143234Z
UID:10005519-1836723600-1836726300@saintthomaszanesville.org
SUMMARY:Mass
DESCRIPTION:
URL:https://saintthomaszanesville.org/event/mass-3/2028-03-15/
LOCATION:St Thomas
CATEGORIES:Mass
END:VEVENT
BEGIN:VEVENT
DTSTART;TZID=America/Detroit:20280322T090000
DTEND;TZID=America/Detroit:20280322T094500
DTSTAMP:20260420T230139
CREATED:20230717T191330Z
LAST-MODIFIED:20251121T143234Z
UID:10005520-1837328400-1837331100@saintthomaszanesville.org
SUMMARY:Mass
DESCRIPTION:
URL:https://saintthomaszanesville.org/event/mass-3/2028-03-22/
LOCATION:St Thomas
CATEGORIES:Mass
END:VEVENT
BEGIN:VEVENT
DTSTART;TZID=America/Detroit:20280329T090000
DTEND;TZID=America/Detroit:20280329T094500
DTSTAMP:20260420T230139
CREATED:20230717T191330Z
LAST-MODIFIED:20251121T143234Z
UID:10005521-1837933200-1837935900@saintthomaszanesville.org
SUMMARY:Mass
DESCRIPTION:
URL:https://saintthomaszanesville.org/event/mass-3/2028-03-29/
LOCATION:St Thomas
CATEGORIES:Mass
END:VEVENT
END:VCALENDAR