BEGIN:VCALENDAR
VERSION:2.0
PRODID:-//Saint Thomas Acquinas Zanesville - ECPv6.15.20//NONSGML v1.0//EN
CALSCALE:GREGORIAN
METHOD:PUBLISH
X-WR-CALNAME:Saint Thomas Acquinas Zanesville
X-ORIGINAL-URL:https://saintthomaszanesville.org
X-WR-CALDESC:Events for Saint Thomas Acquinas Zanesville
REFRESH-INTERVAL;VALUE=DURATION:PT1H
X-Robots-Tag:noindex
X-PUBLISHED-TTL:PT1H
BEGIN:VTIMEZONE
TZID:America/Detroit
BEGIN:DAYLIGHT
TZOFFSETFROM:-0500
TZOFFSETTO:-0400
TZNAME:EDT
DTSTART:20250309T070000
END:DAYLIGHT
BEGIN:STANDARD
TZOFFSETFROM:-0400
TZOFFSETTO:-0500
TZNAME:EST
DTSTART:20251102T060000
END:STANDARD
BEGIN:DAYLIGHT
TZOFFSETFROM:-0500
TZOFFSETTO:-0400
TZNAME:EDT
DTSTART:20260308T070000
END:DAYLIGHT
BEGIN:STANDARD
TZOFFSETFROM:-0400
TZOFFSETTO:-0500
TZNAME:EST
DTSTART:20261101T060000
END:STANDARD
BEGIN:DAYLIGHT
TZOFFSETFROM:-0500
TZOFFSETTO:-0400
TZNAME:EDT
DTSTART:20270314T070000
END:DAYLIGHT
BEGIN:STANDARD
TZOFFSETFROM:-0400
TZOFFSETTO:-0500
TZNAME:EST
DTSTART:20271107T060000
END:STANDARD
BEGIN:DAYLIGHT
TZOFFSETFROM:-0500
TZOFFSETTO:-0400
TZNAME:EDT
DTSTART:20280312T070000
END:DAYLIGHT
BEGIN:STANDARD
TZOFFSETFROM:-0400
TZOFFSETTO:-0500
TZNAME:EST
DTSTART:20281105T060000
END:STANDARD
END:VTIMEZONE
BEGIN:VEVENT
DTSTART;TZID=America/Detroit:20261230T090000
DTEND;TZID=America/Detroit:20261230T094500
DTSTAMP:20260420T113504
CREATED:20230717T191330Z
LAST-MODIFIED:20251121T143234Z
UID:10005456-1798621200-1798623900@saintthomaszanesville.org
SUMMARY:Mass
DESCRIPTION:
URL:https://saintthomaszanesville.org/event/mass-3/2026-12-30/
LOCATION:St Thomas
CATEGORIES:Mass
END:VEVENT
BEGIN:VEVENT
DTSTART;TZID=America/Detroit:20270106T090000
DTEND;TZID=America/Detroit:20270106T094500
DTSTAMP:20260420T113504
CREATED:20230717T191330Z
LAST-MODIFIED:20251121T143234Z
UID:10005457-1799226000-1799228700@saintthomaszanesville.org
SUMMARY:Mass
DESCRIPTION:
URL:https://saintthomaszanesville.org/event/mass-3/2027-01-06/
LOCATION:St Thomas
CATEGORIES:Mass
END:VEVENT
BEGIN:VEVENT
DTSTART;TZID=America/Detroit:20270113T090000
DTEND;TZID=America/Detroit:20270113T094500
DTSTAMP:20260420T113504
CREATED:20230717T191330Z
LAST-MODIFIED:20251121T143234Z
UID:10005458-1799830800-1799833500@saintthomaszanesville.org
SUMMARY:Mass
DESCRIPTION:
URL:https://saintthomaszanesville.org/event/mass-3/2027-01-13/
LOCATION:St Thomas
CATEGORIES:Mass
END:VEVENT
BEGIN:VEVENT
DTSTART;TZID=America/Detroit:20270120T090000
DTEND;TZID=America/Detroit:20270120T094500
DTSTAMP:20260420T113504
CREATED:20230717T191330Z
LAST-MODIFIED:20251121T143234Z
UID:10005459-1800435600-1800438300@saintthomaszanesville.org
SUMMARY:Mass
DESCRIPTION:
URL:https://saintthomaszanesville.org/event/mass-3/2027-01-20/
LOCATION:St Thomas
CATEGORIES:Mass
END:VEVENT
BEGIN:VEVENT
DTSTART;TZID=America/Detroit:20270127T090000
DTEND;TZID=America/Detroit:20270127T094500
DTSTAMP:20260420T113504
CREATED:20230717T191330Z
LAST-MODIFIED:20251121T143234Z
UID:10005460-1801040400-1801043100@saintthomaszanesville.org
SUMMARY:Mass
DESCRIPTION:
URL:https://saintthomaszanesville.org/event/mass-3/2027-01-27/
LOCATION:St Thomas
CATEGORIES:Mass
END:VEVENT
BEGIN:VEVENT
DTSTART;TZID=America/Detroit:20270203T090000
DTEND;TZID=America/Detroit:20270203T094500
DTSTAMP:20260420T113504
CREATED:20230717T191330Z
LAST-MODIFIED:20251121T143234Z
UID:10005461-1801645200-1801647900@saintthomaszanesville.org
SUMMARY:Mass
DESCRIPTION:
URL:https://saintthomaszanesville.org/event/mass-3/2027-02-03/
LOCATION:St Thomas
CATEGORIES:Mass
END:VEVENT
BEGIN:VEVENT
DTSTART;TZID=America/Detroit:20270210T090000
DTEND;TZID=America/Detroit:20270210T094500
DTSTAMP:20260420T113504
CREATED:20230717T191330Z
LAST-MODIFIED:20251121T143234Z
UID:10005462-1802250000-1802252700@saintthomaszanesville.org
SUMMARY:Mass
DESCRIPTION:
URL:https://saintthomaszanesville.org/event/mass-3/2027-02-10/
LOCATION:St Thomas
CATEGORIES:Mass
END:VEVENT
BEGIN:VEVENT
DTSTART;TZID=America/Detroit:20270217T090000
DTEND;TZID=America/Detroit:20270217T094500
DTSTAMP:20260420T113504
CREATED:20230717T191330Z
LAST-MODIFIED:20251121T143234Z
UID:10005463-1802854800-1802857500@saintthomaszanesville.org
SUMMARY:Mass
DESCRIPTION:
URL:https://saintthomaszanesville.org/event/mass-3/2027-02-17/
LOCATION:St Thomas
CATEGORIES:Mass
END:VEVENT
BEGIN:VEVENT
DTSTART;TZID=America/Detroit:20270224T090000
DTEND;TZID=America/Detroit:20270224T094500
DTSTAMP:20260420T113504
CREATED:20230717T191330Z
LAST-MODIFIED:20251121T143234Z
UID:10005464-1803459600-1803462300@saintthomaszanesville.org
SUMMARY:Mass
DESCRIPTION:
URL:https://saintthomaszanesville.org/event/mass-3/2027-02-24/
LOCATION:St Thomas
CATEGORIES:Mass
END:VEVENT
BEGIN:VEVENT
DTSTART;TZID=America/Detroit:20270303T090000
DTEND;TZID=America/Detroit:20270303T094500
DTSTAMP:20260420T113504
CREATED:20230717T191330Z
LAST-MODIFIED:20251121T143234Z
UID:10005465-1804064400-1804067100@saintthomaszanesville.org
SUMMARY:Mass
DESCRIPTION:
URL:https://saintthomaszanesville.org/event/mass-3/2027-03-03/
LOCATION:St Thomas
CATEGORIES:Mass
END:VEVENT
BEGIN:VEVENT
DTSTART;TZID=America/Detroit:20270310T090000
DTEND;TZID=America/Detroit:20270310T094500
DTSTAMP:20260420T113504
CREATED:20230717T191330Z
LAST-MODIFIED:20251121T143234Z
UID:10005466-1804669200-1804671900@saintthomaszanesville.org
SUMMARY:Mass
DESCRIPTION:
URL:https://saintthomaszanesville.org/event/mass-3/2027-03-10/
LOCATION:St Thomas
CATEGORIES:Mass
END:VEVENT
BEGIN:VEVENT
DTSTART;TZID=America/Detroit:20270317T090000
DTEND;TZID=America/Detroit:20270317T094500
DTSTAMP:20260420T113504
CREATED:20230717T191330Z
LAST-MODIFIED:20251121T143234Z
UID:10005467-1805274000-1805276700@saintthomaszanesville.org
SUMMARY:Mass
DESCRIPTION:
URL:https://saintthomaszanesville.org/event/mass-3/2027-03-17/
LOCATION:St Thomas
CATEGORIES:Mass
END:VEVENT
BEGIN:VEVENT
DTSTART;TZID=America/Detroit:20270324T090000
DTEND;TZID=America/Detroit:20270324T094500
DTSTAMP:20260420T113504
CREATED:20230717T191330Z
LAST-MODIFIED:20251121T143234Z
UID:10005468-1805878800-1805881500@saintthomaszanesville.org
SUMMARY:Mass
DESCRIPTION:
URL:https://saintthomaszanesville.org/event/mass-3/2027-03-24/
LOCATION:St Thomas
CATEGORIES:Mass
END:VEVENT
BEGIN:VEVENT
DTSTART;TZID=America/Detroit:20270331T090000
DTEND;TZID=America/Detroit:20270331T094500
DTSTAMP:20260420T113504
CREATED:20230717T191330Z
LAST-MODIFIED:20251121T143234Z
UID:10005469-1806483600-1806486300@saintthomaszanesville.org
SUMMARY:Mass
DESCRIPTION:
URL:https://saintthomaszanesville.org/event/mass-3/2027-03-31/
LOCATION:St Thomas
CATEGORIES:Mass
END:VEVENT
BEGIN:VEVENT
DTSTART;TZID=America/Detroit:20270407T090000
DTEND;TZID=America/Detroit:20270407T094500
DTSTAMP:20260420T113504
CREATED:20230717T191330Z
LAST-MODIFIED:20251121T143234Z
UID:10005470-1807088400-1807091100@saintthomaszanesville.org
SUMMARY:Mass
DESCRIPTION:
URL:https://saintthomaszanesville.org/event/mass-3/2027-04-07/
LOCATION:St Thomas
CATEGORIES:Mass
END:VEVENT
BEGIN:VEVENT
DTSTART;TZID=America/Detroit:20270414T090000
DTEND;TZID=America/Detroit:20270414T094500
DTSTAMP:20260420T113504
CREATED:20230717T191330Z
LAST-MODIFIED:20251121T143234Z
UID:10005471-1807693200-1807695900@saintthomaszanesville.org
SUMMARY:Mass
DESCRIPTION:
URL:https://saintthomaszanesville.org/event/mass-3/2027-04-14/
LOCATION:St Thomas
CATEGORIES:Mass
END:VEVENT
BEGIN:VEVENT
DTSTART;TZID=America/Detroit:20270421T090000
DTEND;TZID=America/Detroit:20270421T094500
DTSTAMP:20260420T113504
CREATED:20230717T191330Z
LAST-MODIFIED:20251121T143234Z
UID:10005472-1808298000-1808300700@saintthomaszanesville.org
SUMMARY:Mass
DESCRIPTION:
URL:https://saintthomaszanesville.org/event/mass-3/2027-04-21/
LOCATION:St Thomas
CATEGORIES:Mass
END:VEVENT
BEGIN:VEVENT
DTSTART;TZID=America/Detroit:20270428T090000
DTEND;TZID=America/Detroit:20270428T094500
DTSTAMP:20260420T113504
CREATED:20230717T191330Z
LAST-MODIFIED:20251121T143234Z
UID:10005473-1808902800-1808905500@saintthomaszanesville.org
SUMMARY:Mass
DESCRIPTION:
URL:https://saintthomaszanesville.org/event/mass-3/2027-04-28/
LOCATION:St Thomas
CATEGORIES:Mass
END:VEVENT
BEGIN:VEVENT
DTSTART;TZID=America/Detroit:20270505T090000
DTEND;TZID=America/Detroit:20270505T094500
DTSTAMP:20260420T113504
CREATED:20230717T191330Z
LAST-MODIFIED:20251121T143234Z
UID:10005474-1809507600-1809510300@saintthomaszanesville.org
SUMMARY:Mass
DESCRIPTION:
URL:https://saintthomaszanesville.org/event/mass-3/2027-05-05/
LOCATION:St Thomas
CATEGORIES:Mass
END:VEVENT
BEGIN:VEVENT
DTSTART;TZID=America/Detroit:20270512T090000
DTEND;TZID=America/Detroit:20270512T094500
DTSTAMP:20260420T113504
CREATED:20230717T191330Z
LAST-MODIFIED:20251121T143234Z
UID:10005475-1810112400-1810115100@saintthomaszanesville.org
SUMMARY:Mass
DESCRIPTION:
URL:https://saintthomaszanesville.org/event/mass-3/2027-05-12/
LOCATION:St Thomas
CATEGORIES:Mass
END:VEVENT
BEGIN:VEVENT
DTSTART;TZID=America/Detroit:20270519T090000
DTEND;TZID=America/Detroit:20270519T094500
DTSTAMP:20260420T113504
CREATED:20230717T191330Z
LAST-MODIFIED:20251121T143234Z
UID:10005476-1810717200-1810719900@saintthomaszanesville.org
SUMMARY:Mass
DESCRIPTION:
URL:https://saintthomaszanesville.org/event/mass-3/2027-05-19/
LOCATION:St Thomas
CATEGORIES:Mass
END:VEVENT
BEGIN:VEVENT
DTSTART;TZID=America/Detroit:20270526T090000
DTEND;TZID=America/Detroit:20270526T094500
DTSTAMP:20260420T113504
CREATED:20230717T191330Z
LAST-MODIFIED:20251121T143234Z
UID:10005477-1811322000-1811324700@saintthomaszanesville.org
SUMMARY:Mass
DESCRIPTION:
URL:https://saintthomaszanesville.org/event/mass-3/2027-05-26/
LOCATION:St Thomas
CATEGORIES:Mass
END:VEVENT
BEGIN:VEVENT
DTSTART;TZID=America/Detroit:20270602T090000
DTEND;TZID=America/Detroit:20270602T094500
DTSTAMP:20260420T113504
CREATED:20230717T191330Z
LAST-MODIFIED:20251121T143234Z
UID:10005478-1811926800-1811929500@saintthomaszanesville.org
SUMMARY:Mass
DESCRIPTION:
URL:https://saintthomaszanesville.org/event/mass-3/2027-06-02/
LOCATION:St Thomas
CATEGORIES:Mass
END:VEVENT
BEGIN:VEVENT
DTSTART;TZID=America/Detroit:20270609T090000
DTEND;TZID=America/Detroit:20270609T094500
DTSTAMP:20260420T113504
CREATED:20230717T191330Z
LAST-MODIFIED:20251121T143234Z
UID:10005479-1812531600-1812534300@saintthomaszanesville.org
SUMMARY:Mass
DESCRIPTION:
URL:https://saintthomaszanesville.org/event/mass-3/2027-06-09/
LOCATION:St Thomas
CATEGORIES:Mass
END:VEVENT
BEGIN:VEVENT
DTSTART;TZID=America/Detroit:20270616T090000
DTEND;TZID=America/Detroit:20270616T094500
DTSTAMP:20260420T113504
CREATED:20230717T191330Z
LAST-MODIFIED:20251121T143234Z
UID:10005480-1813136400-1813139100@saintthomaszanesville.org
SUMMARY:Mass
DESCRIPTION:
URL:https://saintthomaszanesville.org/event/mass-3/2027-06-16/
LOCATION:St Thomas
CATEGORIES:Mass
END:VEVENT
BEGIN:VEVENT
DTSTART;TZID=America/Detroit:20270623T090000
DTEND;TZID=America/Detroit:20270623T094500
DTSTAMP:20260420T113504
CREATED:20230717T191330Z
LAST-MODIFIED:20251121T143234Z
UID:10005481-1813741200-1813743900@saintthomaszanesville.org
SUMMARY:Mass
DESCRIPTION:
URL:https://saintthomaszanesville.org/event/mass-3/2027-06-23/
LOCATION:St Thomas
CATEGORIES:Mass
END:VEVENT
BEGIN:VEVENT
DTSTART;TZID=America/Detroit:20270630T090000
DTEND;TZID=America/Detroit:20270630T094500
DTSTAMP:20260420T113504
CREATED:20230717T191330Z
LAST-MODIFIED:20251121T143234Z
UID:10005482-1814346000-1814348700@saintthomaszanesville.org
SUMMARY:Mass
DESCRIPTION:
URL:https://saintthomaszanesville.org/event/mass-3/2027-06-30/
LOCATION:St Thomas
CATEGORIES:Mass
END:VEVENT
BEGIN:VEVENT
DTSTART;TZID=America/Detroit:20270707T090000
DTEND;TZID=America/Detroit:20270707T094500
DTSTAMP:20260420T113504
CREATED:20230717T191330Z
LAST-MODIFIED:20251121T143234Z
UID:10005483-1814950800-1814953500@saintthomaszanesville.org
SUMMARY:Mass
DESCRIPTION:
URL:https://saintthomaszanesville.org/event/mass-3/2027-07-07/
LOCATION:St Thomas
CATEGORIES:Mass
END:VEVENT
BEGIN:VEVENT
DTSTART;TZID=America/Detroit:20270714T090000
DTEND;TZID=America/Detroit:20270714T094500
DTSTAMP:20260420T113504
CREATED:20230717T191330Z
LAST-MODIFIED:20251121T143234Z
UID:10005484-1815555600-1815558300@saintthomaszanesville.org
SUMMARY:Mass
DESCRIPTION:
URL:https://saintthomaszanesville.org/event/mass-3/2027-07-14/
LOCATION:St Thomas
CATEGORIES:Mass
END:VEVENT
BEGIN:VEVENT
DTSTART;TZID=America/Detroit:20270721T090000
DTEND;TZID=America/Detroit:20270721T094500
DTSTAMP:20260420T113504
CREATED:20230717T191330Z
LAST-MODIFIED:20251121T143234Z
UID:10005485-1816160400-1816163100@saintthomaszanesville.org
SUMMARY:Mass
DESCRIPTION:
URL:https://saintthomaszanesville.org/event/mass-3/2027-07-21/
LOCATION:St Thomas
CATEGORIES:Mass
END:VEVENT
END:VCALENDAR