BEGIN:VCALENDAR
VERSION:2.0
PRODID:-//Saint Thomas Acquinas Zanesville - ECPv6.15.20//NONSGML v1.0//EN
CALSCALE:GREGORIAN
METHOD:PUBLISH
X-ORIGINAL-URL:https://saintthomaszanesville.org
X-WR-CALDESC:Events for Saint Thomas Acquinas Zanesville
REFRESH-INTERVAL;VALUE=DURATION:PT1H
X-Robots-Tag:noindex
X-PUBLISHED-TTL:PT1H
BEGIN:VTIMEZONE
TZID:America/Detroit
BEGIN:DAYLIGHT
TZOFFSETFROM:-0500
TZOFFSETTO:-0400
TZNAME:EDT
DTSTART:20280312T070000
END:DAYLIGHT
BEGIN:STANDARD
TZOFFSETFROM:-0400
TZOFFSETTO:-0500
TZNAME:EST
DTSTART:20281105T060000
END:STANDARD
BEGIN:DAYLIGHT
TZOFFSETFROM:-0500
TZOFFSETTO:-0400
TZNAME:EDT
DTSTART:20290311T070000
END:DAYLIGHT
BEGIN:STANDARD
TZOFFSETFROM:-0400
TZOFFSETTO:-0500
TZNAME:EST
DTSTART:20291104T060000
END:STANDARD
BEGIN:DAYLIGHT
TZOFFSETFROM:-0500
TZOFFSETTO:-0400
TZNAME:EDT
DTSTART:20300310T070000
END:DAYLIGHT
BEGIN:STANDARD
TZOFFSETFROM:-0400
TZOFFSETTO:-0500
TZNAME:EST
DTSTART:20301103T060000
END:STANDARD
BEGIN:DAYLIGHT
TZOFFSETFROM:-0500
TZOFFSETTO:-0400
TZNAME:EDT
DTSTART:20310309T070000
END:DAYLIGHT
BEGIN:STANDARD
TZOFFSETFROM:-0400
TZOFFSETTO:-0500
TZNAME:EST
DTSTART:20311102T060000
END:STANDARD
END:VTIMEZONE
BEGIN:VEVENT
DTSTART;TZID=America/Detroit:20291226T090000
DTEND;TZID=America/Detroit:20291226T094500
DTSTAMP:20260421T232705
CREATED:20230717T191330Z
LAST-MODIFIED:20251121T143234Z
UID:10009744-1892970000-1892972700@saintthomaszanesville.org
SUMMARY:Mass
DESCRIPTION:
URL:https://saintthomaszanesville.org/event/mass-3/2029-12-26/
LOCATION:St Thomas
CATEGORIES:Mass
END:VEVENT
BEGIN:VEVENT
DTSTART;TZID=America/Detroit:20300102T090000
DTEND;TZID=America/Detroit:20300102T094500
DTSTAMP:20260421T232705
CREATED:20230717T191330Z
LAST-MODIFIED:20251121T143234Z
UID:10009745-1893574800-1893577500@saintthomaszanesville.org
SUMMARY:Mass
DESCRIPTION:
URL:https://saintthomaszanesville.org/event/mass-3/2030-01-02/
LOCATION:St Thomas
CATEGORIES:Mass
END:VEVENT
BEGIN:VEVENT
DTSTART;TZID=America/Detroit:20300109T090000
DTEND;TZID=America/Detroit:20300109T094500
DTSTAMP:20260421T232705
CREATED:20230717T191330Z
LAST-MODIFIED:20251121T143234Z
UID:10009746-1894179600-1894182300@saintthomaszanesville.org
SUMMARY:Mass
DESCRIPTION:
URL:https://saintthomaszanesville.org/event/mass-3/2030-01-09/
LOCATION:St Thomas
CATEGORIES:Mass
END:VEVENT
BEGIN:VEVENT
DTSTART;TZID=America/Detroit:20300116T090000
DTEND;TZID=America/Detroit:20300116T094500
DTSTAMP:20260421T232705
CREATED:20230717T191330Z
LAST-MODIFIED:20251121T143234Z
UID:10009747-1894784400-1894787100@saintthomaszanesville.org
SUMMARY:Mass
DESCRIPTION:
URL:https://saintthomaszanesville.org/event/mass-3/2030-01-16/
LOCATION:St Thomas
CATEGORIES:Mass
END:VEVENT
BEGIN:VEVENT
DTSTART;TZID=America/Detroit:20300123T090000
DTEND;TZID=America/Detroit:20300123T094500
DTSTAMP:20260421T232705
CREATED:20230717T191330Z
LAST-MODIFIED:20251121T143234Z
UID:10009748-1895389200-1895391900@saintthomaszanesville.org
SUMMARY:Mass
DESCRIPTION:
URL:https://saintthomaszanesville.org/event/mass-3/2030-01-23/
LOCATION:St Thomas
CATEGORIES:Mass
END:VEVENT
BEGIN:VEVENT
DTSTART;TZID=America/Detroit:20300130T090000
DTEND;TZID=America/Detroit:20300130T094500
DTSTAMP:20260421T232705
CREATED:20230717T191330Z
LAST-MODIFIED:20251121T143234Z
UID:10009749-1895994000-1895996700@saintthomaszanesville.org
SUMMARY:Mass
DESCRIPTION:
URL:https://saintthomaszanesville.org/event/mass-3/2030-01-30/
LOCATION:St Thomas
CATEGORIES:Mass
END:VEVENT
BEGIN:VEVENT
DTSTART;TZID=America/Detroit:20300206T090000
DTEND;TZID=America/Detroit:20300206T094500
DTSTAMP:20260421T232705
CREATED:20230717T191330Z
LAST-MODIFIED:20251121T143234Z
UID:10009750-1896598800-1896601500@saintthomaszanesville.org
SUMMARY:Mass
DESCRIPTION:
URL:https://saintthomaszanesville.org/event/mass-3/2030-02-06/
LOCATION:St Thomas
CATEGORIES:Mass
END:VEVENT
BEGIN:VEVENT
DTSTART;TZID=America/Detroit:20300213T090000
DTEND;TZID=America/Detroit:20300213T094500
DTSTAMP:20260421T232705
CREATED:20230717T191330Z
LAST-MODIFIED:20251121T143234Z
UID:10009751-1897203600-1897206300@saintthomaszanesville.org
SUMMARY:Mass
DESCRIPTION:
URL:https://saintthomaszanesville.org/event/mass-3/2030-02-13/
LOCATION:St Thomas
CATEGORIES:Mass
END:VEVENT
BEGIN:VEVENT
DTSTART;TZID=America/Detroit:20300220T090000
DTEND;TZID=America/Detroit:20300220T094500
DTSTAMP:20260421T232705
CREATED:20230717T191330Z
LAST-MODIFIED:20251121T143234Z
UID:10010018-1897808400-1897811100@saintthomaszanesville.org
SUMMARY:Mass
DESCRIPTION:
URL:https://saintthomaszanesville.org/event/mass-3/2030-02-20/
LOCATION:St Thomas
CATEGORIES:Mass
END:VEVENT
BEGIN:VEVENT
DTSTART;TZID=America/Detroit:20300227T090000
DTEND;TZID=America/Detroit:20300227T094500
DTSTAMP:20260421T232705
CREATED:20230717T191330Z
LAST-MODIFIED:20251121T143234Z
UID:10010019-1898413200-1898415900@saintthomaszanesville.org
SUMMARY:Mass
DESCRIPTION:
URL:https://saintthomaszanesville.org/event/mass-3/2030-02-27/
LOCATION:St Thomas
CATEGORIES:Mass
END:VEVENT
BEGIN:VEVENT
DTSTART;TZID=America/Detroit:20300306T090000
DTEND;TZID=America/Detroit:20300306T094500
DTSTAMP:20260421T232705
CREATED:20230717T191330Z
LAST-MODIFIED:20251121T143234Z
UID:10010020-1899018000-1899020700@saintthomaszanesville.org
SUMMARY:Mass
DESCRIPTION:
URL:https://saintthomaszanesville.org/event/mass-3/2030-03-06/
LOCATION:St Thomas
CATEGORIES:Mass
END:VEVENT
BEGIN:VEVENT
DTSTART;TZID=America/Detroit:20300313T090000
DTEND;TZID=America/Detroit:20300313T094500
DTSTAMP:20260421T232705
CREATED:20230717T191330Z
LAST-MODIFIED:20251121T143234Z
UID:10010021-1899622800-1899625500@saintthomaszanesville.org
SUMMARY:Mass
DESCRIPTION:
URL:https://saintthomaszanesville.org/event/mass-3/2030-03-13/
LOCATION:St Thomas
CATEGORIES:Mass
END:VEVENT
BEGIN:VEVENT
DTSTART;TZID=America/Detroit:20300320T090000
DTEND;TZID=America/Detroit:20300320T094500
DTSTAMP:20260421T232705
CREATED:20230717T191330Z
LAST-MODIFIED:20251121T143234Z
UID:10010022-1900227600-1900230300@saintthomaszanesville.org
SUMMARY:Mass
DESCRIPTION:
URL:https://saintthomaszanesville.org/event/mass-3/2030-03-20/
LOCATION:St Thomas
CATEGORIES:Mass
END:VEVENT
BEGIN:VEVENT
DTSTART;TZID=America/Detroit:20300327T090000
DTEND;TZID=America/Detroit:20300327T094500
DTSTAMP:20260421T232705
CREATED:20230717T191330Z
LAST-MODIFIED:20251121T143234Z
UID:10010023-1900832400-1900835100@saintthomaszanesville.org
SUMMARY:Mass
DESCRIPTION:
URL:https://saintthomaszanesville.org/event/mass-3/2030-03-27/
LOCATION:St Thomas
CATEGORIES:Mass
END:VEVENT
BEGIN:VEVENT
DTSTART;TZID=America/Detroit:20300403T090000
DTEND;TZID=America/Detroit:20300403T094500
DTSTAMP:20260421T232705
CREATED:20230717T191330Z
LAST-MODIFIED:20251121T143234Z
UID:10010024-1901437200-1901439900@saintthomaszanesville.org
SUMMARY:Mass
DESCRIPTION:
URL:https://saintthomaszanesville.org/event/mass-3/2030-04-03/
LOCATION:St Thomas
CATEGORIES:Mass
END:VEVENT
BEGIN:VEVENT
DTSTART;TZID=America/Detroit:20300410T090000
DTEND;TZID=America/Detroit:20300410T094500
DTSTAMP:20260421T232705
CREATED:20230717T191330Z
LAST-MODIFIED:20251121T143234Z
UID:10010025-1902042000-1902044700@saintthomaszanesville.org
SUMMARY:Mass
DESCRIPTION:
URL:https://saintthomaszanesville.org/event/mass-3/2030-04-10/
LOCATION:St Thomas
CATEGORIES:Mass
END:VEVENT
BEGIN:VEVENT
DTSTART;TZID=America/Detroit:20300417T090000
DTEND;TZID=America/Detroit:20300417T094500
DTSTAMP:20260421T232705
CREATED:20230717T191330Z
LAST-MODIFIED:20251121T143234Z
UID:10010026-1902646800-1902649500@saintthomaszanesville.org
SUMMARY:Mass
DESCRIPTION:
URL:https://saintthomaszanesville.org/event/mass-3/2030-04-17/
LOCATION:St Thomas
CATEGORIES:Mass
END:VEVENT
BEGIN:VEVENT
DTSTART;TZID=America/Detroit:20300424T090000
DTEND;TZID=America/Detroit:20300424T094500
DTSTAMP:20260421T232705
CREATED:20230717T191330Z
LAST-MODIFIED:20251121T143234Z
UID:10010027-1903251600-1903254300@saintthomaszanesville.org
SUMMARY:Mass
DESCRIPTION:
URL:https://saintthomaszanesville.org/event/mass-3/2030-04-24/
LOCATION:St Thomas
CATEGORIES:Mass
END:VEVENT
BEGIN:VEVENT
DTSTART;TZID=America/Detroit:20300501T090000
DTEND;TZID=America/Detroit:20300501T094500
DTSTAMP:20260421T232705
CREATED:20230717T191330Z
LAST-MODIFIED:20251121T143234Z
UID:10010028-1903856400-1903859100@saintthomaszanesville.org
SUMMARY:Mass
DESCRIPTION:
URL:https://saintthomaszanesville.org/event/mass-3/2030-05-01/
LOCATION:St Thomas
CATEGORIES:Mass
END:VEVENT
BEGIN:VEVENT
DTSTART;TZID=America/Detroit:20300508T090000
DTEND;TZID=America/Detroit:20300508T094500
DTSTAMP:20260421T232705
CREATED:20230717T191330Z
LAST-MODIFIED:20251121T143234Z
UID:10010029-1904461200-1904463900@saintthomaszanesville.org
SUMMARY:Mass
DESCRIPTION:
URL:https://saintthomaszanesville.org/event/mass-3/2030-05-08/
LOCATION:St Thomas
CATEGORIES:Mass
END:VEVENT
BEGIN:VEVENT
DTSTART;TZID=America/Detroit:20300515T090000
DTEND;TZID=America/Detroit:20300515T094500
DTSTAMP:20260421T232705
CREATED:20230717T191330Z
LAST-MODIFIED:20251121T143234Z
UID:10010030-1905066000-1905068700@saintthomaszanesville.org
SUMMARY:Mass
DESCRIPTION:
URL:https://saintthomaszanesville.org/event/mass-3/2030-05-15/
LOCATION:St Thomas
CATEGORIES:Mass
END:VEVENT
BEGIN:VEVENT
DTSTART;TZID=America/Detroit:20300522T090000
DTEND;TZID=America/Detroit:20300522T094500
DTSTAMP:20260421T232705
CREATED:20230717T191330Z
LAST-MODIFIED:20251121T143234Z
UID:10010031-1905670800-1905673500@saintthomaszanesville.org
SUMMARY:Mass
DESCRIPTION:
URL:https://saintthomaszanesville.org/event/mass-3/2030-05-22/
LOCATION:St Thomas
CATEGORIES:Mass
END:VEVENT
BEGIN:VEVENT
DTSTART;TZID=America/Detroit:20300529T090000
DTEND;TZID=America/Detroit:20300529T094500
DTSTAMP:20260421T232705
CREATED:20230717T191330Z
LAST-MODIFIED:20251121T143234Z
UID:10010032-1906275600-1906278300@saintthomaszanesville.org
SUMMARY:Mass
DESCRIPTION:
URL:https://saintthomaszanesville.org/event/mass-3/2030-05-29/
LOCATION:St Thomas
CATEGORIES:Mass
END:VEVENT
BEGIN:VEVENT
DTSTART;TZID=America/Detroit:20300605T090000
DTEND;TZID=America/Detroit:20300605T094500
DTSTAMP:20260421T232705
CREATED:20230717T191330Z
LAST-MODIFIED:20251121T143234Z
UID:10010033-1906880400-1906883100@saintthomaszanesville.org
SUMMARY:Mass
DESCRIPTION:
URL:https://saintthomaszanesville.org/event/mass-3/2030-06-05/
LOCATION:St Thomas
CATEGORIES:Mass
END:VEVENT
BEGIN:VEVENT
DTSTART;TZID=America/Detroit:20300612T090000
DTEND;TZID=America/Detroit:20300612T094500
DTSTAMP:20260421T232705
CREATED:20230717T191330Z
LAST-MODIFIED:20251121T143234Z
UID:10010034-1907485200-1907487900@saintthomaszanesville.org
SUMMARY:Mass
DESCRIPTION:
URL:https://saintthomaszanesville.org/event/mass-3/2030-06-12/
LOCATION:St Thomas
CATEGORIES:Mass
END:VEVENT
BEGIN:VEVENT
DTSTART;TZID=America/Detroit:20300619T090000
DTEND;TZID=America/Detroit:20300619T094500
DTSTAMP:20260421T232705
CREATED:20230717T191330Z
LAST-MODIFIED:20251121T143234Z
UID:10010035-1908090000-1908092700@saintthomaszanesville.org
SUMMARY:Mass
DESCRIPTION:
URL:https://saintthomaszanesville.org/event/mass-3/2030-06-19/
LOCATION:St Thomas
CATEGORIES:Mass
END:VEVENT
BEGIN:VEVENT
DTSTART;TZID=America/Detroit:20300626T090000
DTEND;TZID=America/Detroit:20300626T094500
DTSTAMP:20260421T232705
CREATED:20230717T191330Z
LAST-MODIFIED:20251121T143234Z
UID:10010036-1908694800-1908697500@saintthomaszanesville.org
SUMMARY:Mass
DESCRIPTION:
URL:https://saintthomaszanesville.org/event/mass-3/2030-06-26/
LOCATION:St Thomas
CATEGORIES:Mass
END:VEVENT
BEGIN:VEVENT
DTSTART;TZID=America/Detroit:20300703T090000
DTEND;TZID=America/Detroit:20300703T094500
DTSTAMP:20260421T232705
CREATED:20230717T191330Z
LAST-MODIFIED:20251121T143234Z
UID:10010037-1909299600-1909302300@saintthomaszanesville.org
SUMMARY:Mass
DESCRIPTION:
URL:https://saintthomaszanesville.org/event/mass-3/2030-07-03/
LOCATION:St Thomas
CATEGORIES:Mass
END:VEVENT
BEGIN:VEVENT
DTSTART;TZID=America/Detroit:20300710T090000
DTEND;TZID=America/Detroit:20300710T094500
DTSTAMP:20260421T232705
CREATED:20230717T191330Z
LAST-MODIFIED:20251121T143234Z
UID:10010038-1909904400-1909907100@saintthomaszanesville.org
SUMMARY:Mass
DESCRIPTION:
URL:https://saintthomaszanesville.org/event/mass-3/2030-07-10/
LOCATION:St Thomas
CATEGORIES:Mass
END:VEVENT
BEGIN:VEVENT
DTSTART;TZID=America/Detroit:20300717T090000
DTEND;TZID=America/Detroit:20300717T094500
DTSTAMP:20260421T232705
CREATED:20230717T191330Z
LAST-MODIFIED:20251121T143234Z
UID:10010039-1910509200-1910511900@saintthomaszanesville.org
SUMMARY:Mass
DESCRIPTION:
URL:https://saintthomaszanesville.org/event/mass-3/2030-07-17/
LOCATION:St Thomas
CATEGORIES:Mass
END:VEVENT
END:VCALENDAR