BEGIN:VCALENDAR
VERSION:2.0
PRODID:-//Saint Thomas Acquinas Zanesville - ECPv6.15.20//NONSGML v1.0//EN
CALSCALE:GREGORIAN
METHOD:PUBLISH
X-ORIGINAL-URL:https://saintthomaszanesville.org
X-WR-CALDESC:Events for Saint Thomas Acquinas Zanesville
REFRESH-INTERVAL;VALUE=DURATION:PT1H
X-Robots-Tag:noindex
X-PUBLISHED-TTL:PT1H
BEGIN:VTIMEZONE
TZID:America/Detroit
BEGIN:DAYLIGHT
TZOFFSETFROM:-0500
TZOFFSETTO:-0400
TZNAME:EDT
DTSTART:20280312T070000
END:DAYLIGHT
BEGIN:STANDARD
TZOFFSETFROM:-0400
TZOFFSETTO:-0500
TZNAME:EST
DTSTART:20281105T060000
END:STANDARD
BEGIN:DAYLIGHT
TZOFFSETFROM:-0500
TZOFFSETTO:-0400
TZNAME:EDT
DTSTART:20290311T070000
END:DAYLIGHT
BEGIN:STANDARD
TZOFFSETFROM:-0400
TZOFFSETTO:-0500
TZNAME:EST
DTSTART:20291104T060000
END:STANDARD
BEGIN:DAYLIGHT
TZOFFSETFROM:-0500
TZOFFSETTO:-0400
TZNAME:EDT
DTSTART:20300310T070000
END:DAYLIGHT
BEGIN:STANDARD
TZOFFSETFROM:-0400
TZOFFSETTO:-0500
TZNAME:EST
DTSTART:20301103T060000
END:STANDARD
BEGIN:DAYLIGHT
TZOFFSETFROM:-0500
TZOFFSETTO:-0400
TZNAME:EDT
DTSTART:20310309T070000
END:DAYLIGHT
BEGIN:STANDARD
TZOFFSETFROM:-0400
TZOFFSETTO:-0500
TZNAME:EST
DTSTART:20311102T060000
END:STANDARD
END:VTIMEZONE
BEGIN:VEVENT
DTSTART;TZID=America/Detroit:20290711T090000
DTEND;TZID=America/Detroit:20290711T094500
DTSTAMP:20260421T211947
CREATED:20230717T191330Z
LAST-MODIFIED:20251121T143234Z
UID:10009609-1878454800-1878457500@saintthomaszanesville.org
SUMMARY:Mass
DESCRIPTION:
URL:https://saintthomaszanesville.org/event/mass-3/2029-07-11/
LOCATION:St Thomas
CATEGORIES:Mass
END:VEVENT
BEGIN:VEVENT
DTSTART;TZID=America/Detroit:20290718T090000
DTEND;TZID=America/Detroit:20290718T094500
DTSTAMP:20260421T211948
CREATED:20230717T191330Z
LAST-MODIFIED:20251121T143234Z
UID:10009610-1879059600-1879062300@saintthomaszanesville.org
SUMMARY:Mass
DESCRIPTION:
URL:https://saintthomaszanesville.org/event/mass-3/2029-07-18/
LOCATION:St Thomas
CATEGORIES:Mass
END:VEVENT
BEGIN:VEVENT
DTSTART;TZID=America/Detroit:20290725T090000
DTEND;TZID=America/Detroit:20290725T094500
DTSTAMP:20260421T211948
CREATED:20230717T191330Z
LAST-MODIFIED:20251121T143234Z
UID:10009611-1879664400-1879667100@saintthomaszanesville.org
SUMMARY:Mass
DESCRIPTION:
URL:https://saintthomaszanesville.org/event/mass-3/2029-07-25/
LOCATION:St Thomas
CATEGORIES:Mass
END:VEVENT
BEGIN:VEVENT
DTSTART;TZID=America/Detroit:20290801T090000
DTEND;TZID=America/Detroit:20290801T094500
DTSTAMP:20260421T211948
CREATED:20230717T191330Z
LAST-MODIFIED:20251121T143234Z
UID:10009612-1880269200-1880271900@saintthomaszanesville.org
SUMMARY:Mass
DESCRIPTION:
URL:https://saintthomaszanesville.org/event/mass-3/2029-08-01/
LOCATION:St Thomas
CATEGORIES:Mass
END:VEVENT
BEGIN:VEVENT
DTSTART;TZID=America/Detroit:20290808T090000
DTEND;TZID=America/Detroit:20290808T094500
DTSTAMP:20260421T211948
CREATED:20230717T191330Z
LAST-MODIFIED:20251121T143234Z
UID:10009613-1880874000-1880876700@saintthomaszanesville.org
SUMMARY:Mass
DESCRIPTION:
URL:https://saintthomaszanesville.org/event/mass-3/2029-08-08/
LOCATION:St Thomas
CATEGORIES:Mass
END:VEVENT
BEGIN:VEVENT
DTSTART;TZID=America/Detroit:20290815T090000
DTEND;TZID=America/Detroit:20290815T094500
DTSTAMP:20260421T211948
CREATED:20230717T191330Z
LAST-MODIFIED:20251121T143234Z
UID:10009614-1881478800-1881481500@saintthomaszanesville.org
SUMMARY:Mass
DESCRIPTION:
URL:https://saintthomaszanesville.org/event/mass-3/2029-08-15/
LOCATION:St Thomas
CATEGORIES:Mass
END:VEVENT
BEGIN:VEVENT
DTSTART;TZID=America/Detroit:20290822T090000
DTEND;TZID=America/Detroit:20290822T094500
DTSTAMP:20260421T211948
CREATED:20230717T191330Z
LAST-MODIFIED:20251121T143234Z
UID:10009615-1882083600-1882086300@saintthomaszanesville.org
SUMMARY:Mass
DESCRIPTION:
URL:https://saintthomaszanesville.org/event/mass-3/2029-08-22/
LOCATION:St Thomas
CATEGORIES:Mass
END:VEVENT
BEGIN:VEVENT
DTSTART;TZID=America/Detroit:20290829T090000
DTEND;TZID=America/Detroit:20290829T094500
DTSTAMP:20260421T211948
CREATED:20230717T191330Z
LAST-MODIFIED:20251121T143234Z
UID:10009616-1882688400-1882691100@saintthomaszanesville.org
SUMMARY:Mass
DESCRIPTION:
URL:https://saintthomaszanesville.org/event/mass-3/2029-08-29/
LOCATION:St Thomas
CATEGORIES:Mass
END:VEVENT
BEGIN:VEVENT
DTSTART;TZID=America/Detroit:20290905T090000
DTEND;TZID=America/Detroit:20290905T094500
DTSTAMP:20260421T211948
CREATED:20230717T191330Z
LAST-MODIFIED:20251121T143234Z
UID:10009617-1883293200-1883295900@saintthomaszanesville.org
SUMMARY:Mass
DESCRIPTION:
URL:https://saintthomaszanesville.org/event/mass-3/2029-09-05/
LOCATION:St Thomas
CATEGORIES:Mass
END:VEVENT
BEGIN:VEVENT
DTSTART;TZID=America/Detroit:20290912T090000
DTEND;TZID=America/Detroit:20290912T094500
DTSTAMP:20260421T211948
CREATED:20230717T191330Z
LAST-MODIFIED:20251121T143234Z
UID:10009618-1883898000-1883900700@saintthomaszanesville.org
SUMMARY:Mass
DESCRIPTION:
URL:https://saintthomaszanesville.org/event/mass-3/2029-09-12/
LOCATION:St Thomas
CATEGORIES:Mass
END:VEVENT
BEGIN:VEVENT
DTSTART;TZID=America/Detroit:20290919T090000
DTEND;TZID=America/Detroit:20290919T094500
DTSTAMP:20260421T211948
CREATED:20230717T191330Z
LAST-MODIFIED:20251121T143234Z
UID:10009619-1884502800-1884505500@saintthomaszanesville.org
SUMMARY:Mass
DESCRIPTION:
URL:https://saintthomaszanesville.org/event/mass-3/2029-09-19/
LOCATION:St Thomas
CATEGORIES:Mass
END:VEVENT
BEGIN:VEVENT
DTSTART;TZID=America/Detroit:20290926T090000
DTEND;TZID=America/Detroit:20290926T094500
DTSTAMP:20260421T211948
CREATED:20230717T191330Z
LAST-MODIFIED:20251121T143234Z
UID:10009620-1885107600-1885110300@saintthomaszanesville.org
SUMMARY:Mass
DESCRIPTION:
URL:https://saintthomaszanesville.org/event/mass-3/2029-09-26/
LOCATION:St Thomas
CATEGORIES:Mass
END:VEVENT
BEGIN:VEVENT
DTSTART;TZID=America/Detroit:20291003T090000
DTEND;TZID=America/Detroit:20291003T094500
DTSTAMP:20260421T211948
CREATED:20230717T191330Z
LAST-MODIFIED:20251121T143234Z
UID:10009621-1885712400-1885715100@saintthomaszanesville.org
SUMMARY:Mass
DESCRIPTION:
URL:https://saintthomaszanesville.org/event/mass-3/2029-10-03/
LOCATION:St Thomas
CATEGORIES:Mass
END:VEVENT
BEGIN:VEVENT
DTSTART;TZID=America/Detroit:20291010T090000
DTEND;TZID=America/Detroit:20291010T094500
DTSTAMP:20260421T211948
CREATED:20230717T191330Z
LAST-MODIFIED:20251121T143234Z
UID:10009622-1886317200-1886319900@saintthomaszanesville.org
SUMMARY:Mass
DESCRIPTION:
URL:https://saintthomaszanesville.org/event/mass-3/2029-10-10/
LOCATION:St Thomas
CATEGORIES:Mass
END:VEVENT
BEGIN:VEVENT
DTSTART;TZID=America/Detroit:20291017T090000
DTEND;TZID=America/Detroit:20291017T094500
DTSTAMP:20260421T211948
CREATED:20230717T191330Z
LAST-MODIFIED:20251121T143234Z
UID:10009623-1886922000-1886924700@saintthomaszanesville.org
SUMMARY:Mass
DESCRIPTION:
URL:https://saintthomaszanesville.org/event/mass-3/2029-10-17/
LOCATION:St Thomas
CATEGORIES:Mass
END:VEVENT
BEGIN:VEVENT
DTSTART;TZID=America/Detroit:20291024T090000
DTEND;TZID=America/Detroit:20291024T094500
DTSTAMP:20260421T211948
CREATED:20230717T191330Z
LAST-MODIFIED:20251121T143234Z
UID:10009624-1887526800-1887529500@saintthomaszanesville.org
SUMMARY:Mass
DESCRIPTION:
URL:https://saintthomaszanesville.org/event/mass-3/2029-10-24/
LOCATION:St Thomas
CATEGORIES:Mass
END:VEVENT
BEGIN:VEVENT
DTSTART;TZID=America/Detroit:20291031T090000
DTEND;TZID=America/Detroit:20291031T094500
DTSTAMP:20260421T211948
CREATED:20230717T191330Z
LAST-MODIFIED:20251121T143234Z
UID:10009625-1888131600-1888134300@saintthomaszanesville.org
SUMMARY:Mass
DESCRIPTION:
URL:https://saintthomaszanesville.org/event/mass-3/2029-10-31/
LOCATION:St Thomas
CATEGORIES:Mass
END:VEVENT
BEGIN:VEVENT
DTSTART;TZID=America/Detroit:20291107T090000
DTEND;TZID=America/Detroit:20291107T094500
DTSTAMP:20260421T211948
CREATED:20230717T191330Z
LAST-MODIFIED:20251121T143234Z
UID:10009626-1888736400-1888739100@saintthomaszanesville.org
SUMMARY:Mass
DESCRIPTION:
URL:https://saintthomaszanesville.org/event/mass-3/2029-11-07/
LOCATION:St Thomas
CATEGORIES:Mass
END:VEVENT
BEGIN:VEVENT
DTSTART;TZID=America/Detroit:20291114T090000
DTEND;TZID=America/Detroit:20291114T094500
DTSTAMP:20260421T211948
CREATED:20230717T191330Z
LAST-MODIFIED:20251121T143234Z
UID:10009627-1889341200-1889343900@saintthomaszanesville.org
SUMMARY:Mass
DESCRIPTION:
URL:https://saintthomaszanesville.org/event/mass-3/2029-11-14/
LOCATION:St Thomas
CATEGORIES:Mass
END:VEVENT
BEGIN:VEVENT
DTSTART;TZID=America/Detroit:20291121T090000
DTEND;TZID=America/Detroit:20291121T094500
DTSTAMP:20260421T211948
CREATED:20230717T191330Z
LAST-MODIFIED:20251121T143234Z
UID:10009628-1889946000-1889948700@saintthomaszanesville.org
SUMMARY:Mass
DESCRIPTION:
URL:https://saintthomaszanesville.org/event/mass-3/2029-11-21/
LOCATION:St Thomas
CATEGORIES:Mass
END:VEVENT
BEGIN:VEVENT
DTSTART;TZID=America/Detroit:20291128T090000
DTEND;TZID=America/Detroit:20291128T094500
DTSTAMP:20260421T211948
CREATED:20230717T191330Z
LAST-MODIFIED:20251121T143234Z
UID:10009693-1890550800-1890553500@saintthomaszanesville.org
SUMMARY:Mass
DESCRIPTION:
URL:https://saintthomaszanesville.org/event/mass-3/2029-11-28/
LOCATION:St Thomas
CATEGORIES:Mass
END:VEVENT
BEGIN:VEVENT
DTSTART;TZID=America/Detroit:20291205T090000
DTEND;TZID=America/Detroit:20291205T094500
DTSTAMP:20260421T211948
CREATED:20230717T191330Z
LAST-MODIFIED:20251121T143234Z
UID:10009694-1891155600-1891158300@saintthomaszanesville.org
SUMMARY:Mass
DESCRIPTION:
URL:https://saintthomaszanesville.org/event/mass-3/2029-12-05/
LOCATION:St Thomas
CATEGORIES:Mass
END:VEVENT
BEGIN:VEVENT
DTSTART;TZID=America/Detroit:20291212T090000
DTEND;TZID=America/Detroit:20291212T094500
DTSTAMP:20260421T211948
CREATED:20230717T191330Z
LAST-MODIFIED:20251121T143234Z
UID:10009742-1891760400-1891763100@saintthomaszanesville.org
SUMMARY:Mass
DESCRIPTION:
URL:https://saintthomaszanesville.org/event/mass-3/2029-12-12/
LOCATION:St Thomas
CATEGORIES:Mass
END:VEVENT
BEGIN:VEVENT
DTSTART;TZID=America/Detroit:20291219T090000
DTEND;TZID=America/Detroit:20291219T094500
DTSTAMP:20260421T211948
CREATED:20230717T191330Z
LAST-MODIFIED:20251121T143234Z
UID:10009743-1892365200-1892367900@saintthomaszanesville.org
SUMMARY:Mass
DESCRIPTION:
URL:https://saintthomaszanesville.org/event/mass-3/2029-12-19/
LOCATION:St Thomas
CATEGORIES:Mass
END:VEVENT
BEGIN:VEVENT
DTSTART;TZID=America/Detroit:20291226T090000
DTEND;TZID=America/Detroit:20291226T094500
DTSTAMP:20260421T211948
CREATED:20230717T191330Z
LAST-MODIFIED:20251121T143234Z
UID:10009744-1892970000-1892972700@saintthomaszanesville.org
SUMMARY:Mass
DESCRIPTION:
URL:https://saintthomaszanesville.org/event/mass-3/2029-12-26/
LOCATION:St Thomas
CATEGORIES:Mass
END:VEVENT
BEGIN:VEVENT
DTSTART;TZID=America/Detroit:20300102T090000
DTEND;TZID=America/Detroit:20300102T094500
DTSTAMP:20260421T211948
CREATED:20230717T191330Z
LAST-MODIFIED:20251121T143234Z
UID:10009745-1893574800-1893577500@saintthomaszanesville.org
SUMMARY:Mass
DESCRIPTION:
URL:https://saintthomaszanesville.org/event/mass-3/2030-01-02/
LOCATION:St Thomas
CATEGORIES:Mass
END:VEVENT
BEGIN:VEVENT
DTSTART;TZID=America/Detroit:20300109T090000
DTEND;TZID=America/Detroit:20300109T094500
DTSTAMP:20260421T211948
CREATED:20230717T191330Z
LAST-MODIFIED:20251121T143234Z
UID:10009746-1894179600-1894182300@saintthomaszanesville.org
SUMMARY:Mass
DESCRIPTION:
URL:https://saintthomaszanesville.org/event/mass-3/2030-01-09/
LOCATION:St Thomas
CATEGORIES:Mass
END:VEVENT
BEGIN:VEVENT
DTSTART;TZID=America/Detroit:20300116T090000
DTEND;TZID=America/Detroit:20300116T094500
DTSTAMP:20260421T211948
CREATED:20230717T191330Z
LAST-MODIFIED:20251121T143234Z
UID:10009747-1894784400-1894787100@saintthomaszanesville.org
SUMMARY:Mass
DESCRIPTION:
URL:https://saintthomaszanesville.org/event/mass-3/2030-01-16/
LOCATION:St Thomas
CATEGORIES:Mass
END:VEVENT
BEGIN:VEVENT
DTSTART;TZID=America/Detroit:20300123T090000
DTEND;TZID=America/Detroit:20300123T094500
DTSTAMP:20260421T211948
CREATED:20230717T191330Z
LAST-MODIFIED:20251121T143234Z
UID:10009748-1895389200-1895391900@saintthomaszanesville.org
SUMMARY:Mass
DESCRIPTION:
URL:https://saintthomaszanesville.org/event/mass-3/2030-01-23/
LOCATION:St Thomas
CATEGORIES:Mass
END:VEVENT
BEGIN:VEVENT
DTSTART;TZID=America/Detroit:20300130T090000
DTEND;TZID=America/Detroit:20300130T094500
DTSTAMP:20260421T211948
CREATED:20230717T191330Z
LAST-MODIFIED:20251121T143234Z
UID:10009749-1895994000-1895996700@saintthomaszanesville.org
SUMMARY:Mass
DESCRIPTION:
URL:https://saintthomaszanesville.org/event/mass-3/2030-01-30/
LOCATION:St Thomas
CATEGORIES:Mass
END:VEVENT
END:VCALENDAR