BEGIN:VCALENDAR
VERSION:2.0
PRODID:-//Saint Thomas Acquinas Zanesville - ECPv6.15.20//NONSGML v1.0//EN
CALSCALE:GREGORIAN
METHOD:PUBLISH
X-ORIGINAL-URL:https://saintthomaszanesville.org
X-WR-CALDESC:Events for Saint Thomas Acquinas Zanesville
REFRESH-INTERVAL;VALUE=DURATION:PT1H
X-Robots-Tag:noindex
X-PUBLISHED-TTL:PT1H
BEGIN:VTIMEZONE
TZID:America/Detroit
BEGIN:DAYLIGHT
TZOFFSETFROM:-0500
TZOFFSETTO:-0400
TZNAME:EDT
DTSTART:20270314T070000
END:DAYLIGHT
BEGIN:STANDARD
TZOFFSETFROM:-0400
TZOFFSETTO:-0500
TZNAME:EST
DTSTART:20271107T060000
END:STANDARD
BEGIN:DAYLIGHT
TZOFFSETFROM:-0500
TZOFFSETTO:-0400
TZNAME:EDT
DTSTART:20280312T070000
END:DAYLIGHT
BEGIN:STANDARD
TZOFFSETFROM:-0400
TZOFFSETTO:-0500
TZNAME:EST
DTSTART:20281105T060000
END:STANDARD
BEGIN:DAYLIGHT
TZOFFSETFROM:-0500
TZOFFSETTO:-0400
TZNAME:EDT
DTSTART:20290311T070000
END:DAYLIGHT
BEGIN:STANDARD
TZOFFSETFROM:-0400
TZOFFSETTO:-0500
TZNAME:EST
DTSTART:20291104T060000
END:STANDARD
BEGIN:DAYLIGHT
TZOFFSETFROM:-0500
TZOFFSETTO:-0400
TZNAME:EDT
DTSTART:20300310T070000
END:DAYLIGHT
BEGIN:STANDARD
TZOFFSETFROM:-0400
TZOFFSETTO:-0500
TZNAME:EST
DTSTART:20301103T060000
END:STANDARD
END:VTIMEZONE
BEGIN:VEVENT
DTSTART;TZID=America/Detroit:20281101T090000
DTEND;TZID=America/Detroit:20281101T094500
DTSTAMP:20260421T162211
CREATED:20230717T191330Z
LAST-MODIFIED:20251121T143234Z
UID:10007704-1856682000-1856684700@saintthomaszanesville.org
SUMMARY:Mass
DESCRIPTION:
URL:https://saintthomaszanesville.org/event/mass-3/2028-11-01/
LOCATION:St Thomas
CATEGORIES:Mass
END:VEVENT
BEGIN:VEVENT
DTSTART;TZID=America/Detroit:20281108T090000
DTEND;TZID=America/Detroit:20281108T094500
DTSTAMP:20260421T162211
CREATED:20230717T191330Z
LAST-MODIFIED:20251121T143234Z
UID:10007705-1857286800-1857289500@saintthomaszanesville.org
SUMMARY:Mass
DESCRIPTION:
URL:https://saintthomaszanesville.org/event/mass-3/2028-11-08/
LOCATION:St Thomas
CATEGORIES:Mass
END:VEVENT
BEGIN:VEVENT
DTSTART;TZID=America/Detroit:20281115T090000
DTEND;TZID=America/Detroit:20281115T094500
DTSTAMP:20260421T162211
CREATED:20230717T191330Z
LAST-MODIFIED:20251121T143234Z
UID:10007706-1857891600-1857894300@saintthomaszanesville.org
SUMMARY:Mass
DESCRIPTION:
URL:https://saintthomaszanesville.org/event/mass-3/2028-11-15/
LOCATION:St Thomas
CATEGORIES:Mass
END:VEVENT
BEGIN:VEVENT
DTSTART;TZID=America/Detroit:20281122T090000
DTEND;TZID=America/Detroit:20281122T094500
DTSTAMP:20260421T162211
CREATED:20230717T191330Z
LAST-MODIFIED:20251121T143234Z
UID:10007707-1858496400-1858499100@saintthomaszanesville.org
SUMMARY:Mass
DESCRIPTION:
URL:https://saintthomaszanesville.org/event/mass-3/2028-11-22/
LOCATION:St Thomas
CATEGORIES:Mass
END:VEVENT
BEGIN:VEVENT
DTSTART;TZID=America/Detroit:20281129T090000
DTEND;TZID=America/Detroit:20281129T094500
DTSTAMP:20260421T162211
CREATED:20230717T191330Z
LAST-MODIFIED:20251121T143234Z
UID:10007708-1859101200-1859103900@saintthomaszanesville.org
SUMMARY:Mass
DESCRIPTION:
URL:https://saintthomaszanesville.org/event/mass-3/2028-11-29/
LOCATION:St Thomas
CATEGORIES:Mass
END:VEVENT
BEGIN:VEVENT
DTSTART;TZID=America/Detroit:20281206T090000
DTEND;TZID=America/Detroit:20281206T094500
DTSTAMP:20260421T162211
CREATED:20230717T191330Z
LAST-MODIFIED:20251121T143234Z
UID:10007709-1859706000-1859708700@saintthomaszanesville.org
SUMMARY:Mass
DESCRIPTION:
URL:https://saintthomaszanesville.org/event/mass-3/2028-12-06/
LOCATION:St Thomas
CATEGORIES:Mass
END:VEVENT
BEGIN:VEVENT
DTSTART;TZID=America/Detroit:20281213T090000
DTEND;TZID=America/Detroit:20281213T094500
DTSTAMP:20260421T162211
CREATED:20230717T191330Z
LAST-MODIFIED:20251121T143234Z
UID:10007710-1860310800-1860313500@saintthomaszanesville.org
SUMMARY:Mass
DESCRIPTION:
URL:https://saintthomaszanesville.org/event/mass-3/2028-12-13/
LOCATION:St Thomas
CATEGORIES:Mass
END:VEVENT
BEGIN:VEVENT
DTSTART;TZID=America/Detroit:20281220T090000
DTEND;TZID=America/Detroit:20281220T094500
DTSTAMP:20260421T162211
CREATED:20230717T191330Z
LAST-MODIFIED:20251121T143234Z
UID:10007711-1860915600-1860918300@saintthomaszanesville.org
SUMMARY:Mass
DESCRIPTION:
URL:https://saintthomaszanesville.org/event/mass-3/2028-12-20/
LOCATION:St Thomas
CATEGORIES:Mass
END:VEVENT
BEGIN:VEVENT
DTSTART;TZID=America/Detroit:20281227T090000
DTEND;TZID=America/Detroit:20281227T094500
DTSTAMP:20260421T162211
CREATED:20230717T191330Z
LAST-MODIFIED:20251121T143234Z
UID:10007712-1861520400-1861523100@saintthomaszanesville.org
SUMMARY:Mass
DESCRIPTION:
URL:https://saintthomaszanesville.org/event/mass-3/2028-12-27/
LOCATION:St Thomas
CATEGORIES:Mass
END:VEVENT
BEGIN:VEVENT
DTSTART;TZID=America/Detroit:20290103T090000
DTEND;TZID=America/Detroit:20290103T094500
DTSTAMP:20260421T162211
CREATED:20230717T191330Z
LAST-MODIFIED:20251121T143234Z
UID:10007713-1862125200-1862127900@saintthomaszanesville.org
SUMMARY:Mass
DESCRIPTION:
URL:https://saintthomaszanesville.org/event/mass-3/2029-01-03/
LOCATION:St Thomas
CATEGORIES:Mass
END:VEVENT
BEGIN:VEVENT
DTSTART;TZID=America/Detroit:20290110T090000
DTEND;TZID=America/Detroit:20290110T094500
DTSTAMP:20260421T162211
CREATED:20230717T191330Z
LAST-MODIFIED:20251121T143234Z
UID:10007714-1862730000-1862732700@saintthomaszanesville.org
SUMMARY:Mass
DESCRIPTION:
URL:https://saintthomaszanesville.org/event/mass-3/2029-01-10/
LOCATION:St Thomas
CATEGORIES:Mass
END:VEVENT
BEGIN:VEVENT
DTSTART;TZID=America/Detroit:20290117T090000
DTEND;TZID=America/Detroit:20290117T094500
DTSTAMP:20260421T162211
CREATED:20230717T191330Z
LAST-MODIFIED:20251121T143234Z
UID:10009584-1863334800-1863337500@saintthomaszanesville.org
SUMMARY:Mass
DESCRIPTION:
URL:https://saintthomaszanesville.org/event/mass-3/2029-01-17/
LOCATION:St Thomas
CATEGORIES:Mass
END:VEVENT
BEGIN:VEVENT
DTSTART;TZID=America/Detroit:20290124T090000
DTEND;TZID=America/Detroit:20290124T094500
DTSTAMP:20260421T162211
CREATED:20230717T191330Z
LAST-MODIFIED:20251121T143234Z
UID:10009585-1863939600-1863942300@saintthomaszanesville.org
SUMMARY:Mass
DESCRIPTION:
URL:https://saintthomaszanesville.org/event/mass-3/2029-01-24/
LOCATION:St Thomas
CATEGORIES:Mass
END:VEVENT
BEGIN:VEVENT
DTSTART;TZID=America/Detroit:20290131T090000
DTEND;TZID=America/Detroit:20290131T094500
DTSTAMP:20260421T162211
CREATED:20230717T191330Z
LAST-MODIFIED:20251121T143234Z
UID:10009586-1864544400-1864547100@saintthomaszanesville.org
SUMMARY:Mass
DESCRIPTION:
URL:https://saintthomaszanesville.org/event/mass-3/2029-01-31/
LOCATION:St Thomas
CATEGORIES:Mass
END:VEVENT
BEGIN:VEVENT
DTSTART;TZID=America/Detroit:20290207T090000
DTEND;TZID=America/Detroit:20290207T094500
DTSTAMP:20260421T162211
CREATED:20230717T191330Z
LAST-MODIFIED:20251121T143234Z
UID:10009587-1865149200-1865151900@saintthomaszanesville.org
SUMMARY:Mass
DESCRIPTION:
URL:https://saintthomaszanesville.org/event/mass-3/2029-02-07/
LOCATION:St Thomas
CATEGORIES:Mass
END:VEVENT
BEGIN:VEVENT
DTSTART;TZID=America/Detroit:20290214T090000
DTEND;TZID=America/Detroit:20290214T094500
DTSTAMP:20260421T162211
CREATED:20230717T191330Z
LAST-MODIFIED:20251121T143234Z
UID:10009588-1865754000-1865756700@saintthomaszanesville.org
SUMMARY:Mass
DESCRIPTION:
URL:https://saintthomaszanesville.org/event/mass-3/2029-02-14/
LOCATION:St Thomas
CATEGORIES:Mass
END:VEVENT
BEGIN:VEVENT
DTSTART;TZID=America/Detroit:20290221T090000
DTEND;TZID=America/Detroit:20290221T094500
DTSTAMP:20260421T162211
CREATED:20230717T191330Z
LAST-MODIFIED:20251121T143234Z
UID:10009589-1866358800-1866361500@saintthomaszanesville.org
SUMMARY:Mass
DESCRIPTION:
URL:https://saintthomaszanesville.org/event/mass-3/2029-02-21/
LOCATION:St Thomas
CATEGORIES:Mass
END:VEVENT
BEGIN:VEVENT
DTSTART;TZID=America/Detroit:20290228T090000
DTEND;TZID=America/Detroit:20290228T094500
DTSTAMP:20260421T162211
CREATED:20230717T191330Z
LAST-MODIFIED:20251121T143234Z
UID:10009590-1866963600-1866966300@saintthomaszanesville.org
SUMMARY:Mass
DESCRIPTION:
URL:https://saintthomaszanesville.org/event/mass-3/2029-02-28/
LOCATION:St Thomas
CATEGORIES:Mass
END:VEVENT
BEGIN:VEVENT
DTSTART;TZID=America/Detroit:20290307T090000
DTEND;TZID=America/Detroit:20290307T094500
DTSTAMP:20260421T162211
CREATED:20230717T191330Z
LAST-MODIFIED:20251121T143234Z
UID:10009591-1867568400-1867571100@saintthomaszanesville.org
SUMMARY:Mass
DESCRIPTION:
URL:https://saintthomaszanesville.org/event/mass-3/2029-03-07/
LOCATION:St Thomas
CATEGORIES:Mass
END:VEVENT
BEGIN:VEVENT
DTSTART;TZID=America/Detroit:20290314T090000
DTEND;TZID=America/Detroit:20290314T094500
DTSTAMP:20260421T162211
CREATED:20230717T191330Z
LAST-MODIFIED:20251121T143234Z
UID:10009592-1868173200-1868175900@saintthomaszanesville.org
SUMMARY:Mass
DESCRIPTION:
URL:https://saintthomaszanesville.org/event/mass-3/2029-03-14/
LOCATION:St Thomas
CATEGORIES:Mass
END:VEVENT
BEGIN:VEVENT
DTSTART;TZID=America/Detroit:20290321T090000
DTEND;TZID=America/Detroit:20290321T094500
DTSTAMP:20260421T162211
CREATED:20230717T191330Z
LAST-MODIFIED:20251121T143234Z
UID:10009593-1868778000-1868780700@saintthomaszanesville.org
SUMMARY:Mass
DESCRIPTION:
URL:https://saintthomaszanesville.org/event/mass-3/2029-03-21/
LOCATION:St Thomas
CATEGORIES:Mass
END:VEVENT
BEGIN:VEVENT
DTSTART;TZID=America/Detroit:20290328T090000
DTEND;TZID=America/Detroit:20290328T094500
DTSTAMP:20260421T162211
CREATED:20230717T191330Z
LAST-MODIFIED:20251121T143234Z
UID:10009594-1869382800-1869385500@saintthomaszanesville.org
SUMMARY:Mass
DESCRIPTION:
URL:https://saintthomaszanesville.org/event/mass-3/2029-03-28/
LOCATION:St Thomas
CATEGORIES:Mass
END:VEVENT
BEGIN:VEVENT
DTSTART;TZID=America/Detroit:20290404T090000
DTEND;TZID=America/Detroit:20290404T094500
DTSTAMP:20260421T162211
CREATED:20230717T191330Z
LAST-MODIFIED:20251121T143234Z
UID:10009595-1869987600-1869990300@saintthomaszanesville.org
SUMMARY:Mass
DESCRIPTION:
URL:https://saintthomaszanesville.org/event/mass-3/2029-04-04/
LOCATION:St Thomas
CATEGORIES:Mass
END:VEVENT
BEGIN:VEVENT
DTSTART;TZID=America/Detroit:20290411T090000
DTEND;TZID=America/Detroit:20290411T094500
DTSTAMP:20260421T162211
CREATED:20230717T191330Z
LAST-MODIFIED:20251121T143234Z
UID:10009596-1870592400-1870595100@saintthomaszanesville.org
SUMMARY:Mass
DESCRIPTION:
URL:https://saintthomaszanesville.org/event/mass-3/2029-04-11/
LOCATION:St Thomas
CATEGORIES:Mass
END:VEVENT
BEGIN:VEVENT
DTSTART;TZID=America/Detroit:20290418T090000
DTEND;TZID=America/Detroit:20290418T094500
DTSTAMP:20260421T162211
CREATED:20230717T191330Z
LAST-MODIFIED:20251121T143234Z
UID:10009597-1871197200-1871199900@saintthomaszanesville.org
SUMMARY:Mass
DESCRIPTION:
URL:https://saintthomaszanesville.org/event/mass-3/2029-04-18/
LOCATION:St Thomas
CATEGORIES:Mass
END:VEVENT
BEGIN:VEVENT
DTSTART;TZID=America/Detroit:20290425T090000
DTEND;TZID=America/Detroit:20290425T094500
DTSTAMP:20260421T162211
CREATED:20230717T191330Z
LAST-MODIFIED:20251121T143234Z
UID:10009598-1871802000-1871804700@saintthomaszanesville.org
SUMMARY:Mass
DESCRIPTION:
URL:https://saintthomaszanesville.org/event/mass-3/2029-04-25/
LOCATION:St Thomas
CATEGORIES:Mass
END:VEVENT
BEGIN:VEVENT
DTSTART;TZID=America/Detroit:20290502T090000
DTEND;TZID=America/Detroit:20290502T094500
DTSTAMP:20260421T162211
CREATED:20230717T191330Z
LAST-MODIFIED:20251121T143234Z
UID:10009599-1872406800-1872409500@saintthomaszanesville.org
SUMMARY:Mass
DESCRIPTION:
URL:https://saintthomaszanesville.org/event/mass-3/2029-05-02/
LOCATION:St Thomas
CATEGORIES:Mass
END:VEVENT
BEGIN:VEVENT
DTSTART;TZID=America/Detroit:20290509T090000
DTEND;TZID=America/Detroit:20290509T094500
DTSTAMP:20260421T162211
CREATED:20230717T191330Z
LAST-MODIFIED:20251121T143234Z
UID:10009600-1873011600-1873014300@saintthomaszanesville.org
SUMMARY:Mass
DESCRIPTION:
URL:https://saintthomaszanesville.org/event/mass-3/2029-05-09/
LOCATION:St Thomas
CATEGORIES:Mass
END:VEVENT
BEGIN:VEVENT
DTSTART;TZID=America/Detroit:20290516T090000
DTEND;TZID=America/Detroit:20290516T094500
DTSTAMP:20260421T162211
CREATED:20230717T191330Z
LAST-MODIFIED:20251121T143234Z
UID:10009601-1873616400-1873619100@saintthomaszanesville.org
SUMMARY:Mass
DESCRIPTION:
URL:https://saintthomaszanesville.org/event/mass-3/2029-05-16/
LOCATION:St Thomas
CATEGORIES:Mass
END:VEVENT
BEGIN:VEVENT
DTSTART;TZID=America/Detroit:20290523T090000
DTEND;TZID=America/Detroit:20290523T094500
DTSTAMP:20260421T162211
CREATED:20230717T191330Z
LAST-MODIFIED:20251121T143234Z
UID:10009602-1874221200-1874223900@saintthomaszanesville.org
SUMMARY:Mass
DESCRIPTION:
URL:https://saintthomaszanesville.org/event/mass-3/2029-05-23/
LOCATION:St Thomas
CATEGORIES:Mass
END:VEVENT
END:VCALENDAR