BEGIN:VCALENDAR
VERSION:2.0
PRODID:-//Saint Thomas Acquinas Zanesville - ECPv6.15.20//NONSGML v1.0//EN
CALSCALE:GREGORIAN
METHOD:PUBLISH
X-WR-CALNAME:Saint Thomas Acquinas Zanesville
X-ORIGINAL-URL:https://saintthomaszanesville.org
X-WR-CALDESC:Events for Saint Thomas Acquinas Zanesville
REFRESH-INTERVAL;VALUE=DURATION:PT1H
X-Robots-Tag:noindex
X-PUBLISHED-TTL:PT1H
BEGIN:VTIMEZONE
TZID:America/Detroit
BEGIN:DAYLIGHT
TZOFFSETFROM:-0500
TZOFFSETTO:-0400
TZNAME:EDT
DTSTART:20270314T070000
END:DAYLIGHT
BEGIN:STANDARD
TZOFFSETFROM:-0400
TZOFFSETTO:-0500
TZNAME:EST
DTSTART:20271107T060000
END:STANDARD
BEGIN:DAYLIGHT
TZOFFSETFROM:-0500
TZOFFSETTO:-0400
TZNAME:EDT
DTSTART:20280312T070000
END:DAYLIGHT
BEGIN:STANDARD
TZOFFSETFROM:-0400
TZOFFSETTO:-0500
TZNAME:EST
DTSTART:20281105T060000
END:STANDARD
BEGIN:DAYLIGHT
TZOFFSETFROM:-0500
TZOFFSETTO:-0400
TZNAME:EDT
DTSTART:20290311T070000
END:DAYLIGHT
BEGIN:STANDARD
TZOFFSETFROM:-0400
TZOFFSETTO:-0500
TZNAME:EST
DTSTART:20291104T060000
END:STANDARD
END:VTIMEZONE
BEGIN:VEVENT
DTSTART;TZID=America/Detroit:20280517T090000
DTEND;TZID=America/Detroit:20280517T094500
DTSTAMP:20260421T041019
CREATED:20230717T191330Z
LAST-MODIFIED:20251121T143234Z
UID:10005528-1842166800-1842169500@saintthomaszanesville.org
SUMMARY:Mass
DESCRIPTION:
URL:https://saintthomaszanesville.org/event/mass-3/2028-05-17/
LOCATION:St Thomas
CATEGORIES:Mass
END:VEVENT
BEGIN:VEVENT
DTSTART;TZID=America/Detroit:20280524T090000
DTEND;TZID=America/Detroit:20280524T094500
DTSTAMP:20260421T041019
CREATED:20230717T191330Z
LAST-MODIFIED:20251121T143234Z
UID:10005529-1842771600-1842774300@saintthomaszanesville.org
SUMMARY:Mass
DESCRIPTION:
URL:https://saintthomaszanesville.org/event/mass-3/2028-05-24/
LOCATION:St Thomas
CATEGORIES:Mass
END:VEVENT
BEGIN:VEVENT
DTSTART;TZID=America/Detroit:20280531T090000
DTEND;TZID=America/Detroit:20280531T094500
DTSTAMP:20260421T041019
CREATED:20230717T191330Z
LAST-MODIFIED:20251121T143234Z
UID:10005530-1843376400-1843379100@saintthomaszanesville.org
SUMMARY:Mass
DESCRIPTION:
URL:https://saintthomaszanesville.org/event/mass-3/2028-05-31/
LOCATION:St Thomas
CATEGORIES:Mass
END:VEVENT
BEGIN:VEVENT
DTSTART;TZID=America/Detroit:20280607T090000
DTEND;TZID=America/Detroit:20280607T094500
DTSTAMP:20260421T041019
CREATED:20230717T191330Z
LAST-MODIFIED:20251121T143234Z
UID:10005531-1843981200-1843983900@saintthomaszanesville.org
SUMMARY:Mass
DESCRIPTION:
URL:https://saintthomaszanesville.org/event/mass-3/2028-06-07/
LOCATION:St Thomas
CATEGORIES:Mass
END:VEVENT
BEGIN:VEVENT
DTSTART;TZID=America/Detroit:20280614T090000
DTEND;TZID=America/Detroit:20280614T094500
DTSTAMP:20260421T041019
CREATED:20230717T191330Z
LAST-MODIFIED:20251121T143234Z
UID:10005532-1844586000-1844588700@saintthomaszanesville.org
SUMMARY:Mass
DESCRIPTION:
URL:https://saintthomaszanesville.org/event/mass-3/2028-06-14/
LOCATION:St Thomas
CATEGORIES:Mass
END:VEVENT
BEGIN:VEVENT
DTSTART;TZID=America/Detroit:20280621T090000
DTEND;TZID=America/Detroit:20280621T094500
DTSTAMP:20260421T041019
CREATED:20230717T191330Z
LAST-MODIFIED:20251121T143234Z
UID:10005533-1845190800-1845193500@saintthomaszanesville.org
SUMMARY:Mass
DESCRIPTION:
URL:https://saintthomaszanesville.org/event/mass-3/2028-06-21/
LOCATION:St Thomas
CATEGORIES:Mass
END:VEVENT
BEGIN:VEVENT
DTSTART;TZID=America/Detroit:20280628T090000
DTEND;TZID=America/Detroit:20280628T094500
DTSTAMP:20260421T041019
CREATED:20230717T191330Z
LAST-MODIFIED:20251121T143234Z
UID:10005534-1845795600-1845798300@saintthomaszanesville.org
SUMMARY:Mass
DESCRIPTION:
URL:https://saintthomaszanesville.org/event/mass-3/2028-06-28/
LOCATION:St Thomas
CATEGORIES:Mass
END:VEVENT
BEGIN:VEVENT
DTSTART;TZID=America/Detroit:20280705T090000
DTEND;TZID=America/Detroit:20280705T094500
DTSTAMP:20260421T041019
CREATED:20230717T191330Z
LAST-MODIFIED:20251121T143234Z
UID:10005535-1846400400-1846403100@saintthomaszanesville.org
SUMMARY:Mass
DESCRIPTION:
URL:https://saintthomaszanesville.org/event/mass-3/2028-07-05/
LOCATION:St Thomas
CATEGORIES:Mass
END:VEVENT
BEGIN:VEVENT
DTSTART;TZID=America/Detroit:20280712T090000
DTEND;TZID=America/Detroit:20280712T094500
DTSTAMP:20260421T041019
CREATED:20230717T191330Z
LAST-MODIFIED:20251121T143234Z
UID:10005536-1847005200-1847007900@saintthomaszanesville.org
SUMMARY:Mass
DESCRIPTION:
URL:https://saintthomaszanesville.org/event/mass-3/2028-07-12/
LOCATION:St Thomas
CATEGORIES:Mass
END:VEVENT
BEGIN:VEVENT
DTSTART;TZID=America/Detroit:20280719T090000
DTEND;TZID=America/Detroit:20280719T094500
DTSTAMP:20260421T041020
CREATED:20230717T191330Z
LAST-MODIFIED:20251121T143234Z
UID:10007689-1847610000-1847612700@saintthomaszanesville.org
SUMMARY:Mass
DESCRIPTION:
URL:https://saintthomaszanesville.org/event/mass-3/2028-07-19/
LOCATION:St Thomas
CATEGORIES:Mass
END:VEVENT
BEGIN:VEVENT
DTSTART;TZID=America/Detroit:20280726T090000
DTEND;TZID=America/Detroit:20280726T094500
DTSTAMP:20260421T041020
CREATED:20230717T191330Z
LAST-MODIFIED:20251121T143234Z
UID:10007690-1848214800-1848217500@saintthomaszanesville.org
SUMMARY:Mass
DESCRIPTION:
URL:https://saintthomaszanesville.org/event/mass-3/2028-07-26/
LOCATION:St Thomas
CATEGORIES:Mass
END:VEVENT
BEGIN:VEVENT
DTSTART;TZID=America/Detroit:20280802T090000
DTEND;TZID=America/Detroit:20280802T094500
DTSTAMP:20260421T041020
CREATED:20230717T191330Z
LAST-MODIFIED:20251121T143234Z
UID:10007691-1848819600-1848822300@saintthomaszanesville.org
SUMMARY:Mass
DESCRIPTION:
URL:https://saintthomaszanesville.org/event/mass-3/2028-08-02/
LOCATION:St Thomas
CATEGORIES:Mass
END:VEVENT
BEGIN:VEVENT
DTSTART;TZID=America/Detroit:20280809T090000
DTEND;TZID=America/Detroit:20280809T094500
DTSTAMP:20260421T041020
CREATED:20230717T191330Z
LAST-MODIFIED:20251121T143234Z
UID:10007692-1849424400-1849427100@saintthomaszanesville.org
SUMMARY:Mass
DESCRIPTION:
URL:https://saintthomaszanesville.org/event/mass-3/2028-08-09/
LOCATION:St Thomas
CATEGORIES:Mass
END:VEVENT
BEGIN:VEVENT
DTSTART;TZID=America/Detroit:20280816T090000
DTEND;TZID=America/Detroit:20280816T094500
DTSTAMP:20260421T041020
CREATED:20230717T191330Z
LAST-MODIFIED:20251121T143234Z
UID:10007693-1850029200-1850031900@saintthomaszanesville.org
SUMMARY:Mass
DESCRIPTION:
URL:https://saintthomaszanesville.org/event/mass-3/2028-08-16/
LOCATION:St Thomas
CATEGORIES:Mass
END:VEVENT
BEGIN:VEVENT
DTSTART;TZID=America/Detroit:20280823T090000
DTEND;TZID=America/Detroit:20280823T094500
DTSTAMP:20260421T041020
CREATED:20230717T191330Z
LAST-MODIFIED:20251121T143234Z
UID:10007694-1850634000-1850636700@saintthomaszanesville.org
SUMMARY:Mass
DESCRIPTION:
URL:https://saintthomaszanesville.org/event/mass-3/2028-08-23/
LOCATION:St Thomas
CATEGORIES:Mass
END:VEVENT
BEGIN:VEVENT
DTSTART;TZID=America/Detroit:20280830T090000
DTEND;TZID=America/Detroit:20280830T094500
DTSTAMP:20260421T041020
CREATED:20230717T191330Z
LAST-MODIFIED:20251121T143234Z
UID:10007695-1851238800-1851241500@saintthomaszanesville.org
SUMMARY:Mass
DESCRIPTION:
URL:https://saintthomaszanesville.org/event/mass-3/2028-08-30/
LOCATION:St Thomas
CATEGORIES:Mass
END:VEVENT
BEGIN:VEVENT
DTSTART;TZID=America/Detroit:20280906T090000
DTEND;TZID=America/Detroit:20280906T094500
DTSTAMP:20260421T041020
CREATED:20230717T191330Z
LAST-MODIFIED:20251121T143234Z
UID:10007696-1851843600-1851846300@saintthomaszanesville.org
SUMMARY:Mass
DESCRIPTION:
URL:https://saintthomaszanesville.org/event/mass-3/2028-09-06/
LOCATION:St Thomas
CATEGORIES:Mass
END:VEVENT
BEGIN:VEVENT
DTSTART;TZID=America/Detroit:20280913T090000
DTEND;TZID=America/Detroit:20280913T094500
DTSTAMP:20260421T041020
CREATED:20230717T191330Z
LAST-MODIFIED:20251121T143234Z
UID:10007697-1852448400-1852451100@saintthomaszanesville.org
SUMMARY:Mass
DESCRIPTION:
URL:https://saintthomaszanesville.org/event/mass-3/2028-09-13/
LOCATION:St Thomas
CATEGORIES:Mass
END:VEVENT
BEGIN:VEVENT
DTSTART;TZID=America/Detroit:20280920T090000
DTEND;TZID=America/Detroit:20280920T094500
DTSTAMP:20260421T041020
CREATED:20230717T191330Z
LAST-MODIFIED:20251121T143234Z
UID:10007698-1853053200-1853055900@saintthomaszanesville.org
SUMMARY:Mass
DESCRIPTION:
URL:https://saintthomaszanesville.org/event/mass-3/2028-09-20/
LOCATION:St Thomas
CATEGORIES:Mass
END:VEVENT
BEGIN:VEVENT
DTSTART;TZID=America/Detroit:20280927T090000
DTEND;TZID=America/Detroit:20280927T094500
DTSTAMP:20260421T041020
CREATED:20230717T191330Z
LAST-MODIFIED:20251121T143234Z
UID:10007699-1853658000-1853660700@saintthomaszanesville.org
SUMMARY:Mass
DESCRIPTION:
URL:https://saintthomaszanesville.org/event/mass-3/2028-09-27/
LOCATION:St Thomas
CATEGORIES:Mass
END:VEVENT
BEGIN:VEVENT
DTSTART;TZID=America/Detroit:20281004T090000
DTEND;TZID=America/Detroit:20281004T094500
DTSTAMP:20260421T041020
CREATED:20230717T191330Z
LAST-MODIFIED:20251121T143234Z
UID:10007700-1854262800-1854265500@saintthomaszanesville.org
SUMMARY:Mass
DESCRIPTION:
URL:https://saintthomaszanesville.org/event/mass-3/2028-10-04/
LOCATION:St Thomas
CATEGORIES:Mass
END:VEVENT
BEGIN:VEVENT
DTSTART;TZID=America/Detroit:20281011T090000
DTEND;TZID=America/Detroit:20281011T094500
DTSTAMP:20260421T041020
CREATED:20230717T191330Z
LAST-MODIFIED:20251121T143234Z
UID:10007701-1854867600-1854870300@saintthomaszanesville.org
SUMMARY:Mass
DESCRIPTION:
URL:https://saintthomaszanesville.org/event/mass-3/2028-10-11/
LOCATION:St Thomas
CATEGORIES:Mass
END:VEVENT
BEGIN:VEVENT
DTSTART;TZID=America/Detroit:20281018T090000
DTEND;TZID=America/Detroit:20281018T094500
DTSTAMP:20260421T041020
CREATED:20230717T191330Z
LAST-MODIFIED:20251121T143234Z
UID:10007702-1855472400-1855475100@saintthomaszanesville.org
SUMMARY:Mass
DESCRIPTION:
URL:https://saintthomaszanesville.org/event/mass-3/2028-10-18/
LOCATION:St Thomas
CATEGORIES:Mass
END:VEVENT
BEGIN:VEVENT
DTSTART;TZID=America/Detroit:20281025T090000
DTEND;TZID=America/Detroit:20281025T094500
DTSTAMP:20260421T041020
CREATED:20230717T191330Z
LAST-MODIFIED:20251121T143234Z
UID:10007703-1856077200-1856079900@saintthomaszanesville.org
SUMMARY:Mass
DESCRIPTION:
URL:https://saintthomaszanesville.org/event/mass-3/2028-10-25/
LOCATION:St Thomas
CATEGORIES:Mass
END:VEVENT
BEGIN:VEVENT
DTSTART;TZID=America/Detroit:20281101T090000
DTEND;TZID=America/Detroit:20281101T094500
DTSTAMP:20260421T041020
CREATED:20230717T191330Z
LAST-MODIFIED:20251121T143234Z
UID:10007704-1856682000-1856684700@saintthomaszanesville.org
SUMMARY:Mass
DESCRIPTION:
URL:https://saintthomaszanesville.org/event/mass-3/2028-11-01/
LOCATION:St Thomas
CATEGORIES:Mass
END:VEVENT
BEGIN:VEVENT
DTSTART;TZID=America/Detroit:20281108T090000
DTEND;TZID=America/Detroit:20281108T094500
DTSTAMP:20260421T041020
CREATED:20230717T191330Z
LAST-MODIFIED:20251121T143234Z
UID:10007705-1857286800-1857289500@saintthomaszanesville.org
SUMMARY:Mass
DESCRIPTION:
URL:https://saintthomaszanesville.org/event/mass-3/2028-11-08/
LOCATION:St Thomas
CATEGORIES:Mass
END:VEVENT
BEGIN:VEVENT
DTSTART;TZID=America/Detroit:20281115T090000
DTEND;TZID=America/Detroit:20281115T094500
DTSTAMP:20260421T041020
CREATED:20230717T191330Z
LAST-MODIFIED:20251121T143234Z
UID:10007706-1857891600-1857894300@saintthomaszanesville.org
SUMMARY:Mass
DESCRIPTION:
URL:https://saintthomaszanesville.org/event/mass-3/2028-11-15/
LOCATION:St Thomas
CATEGORIES:Mass
END:VEVENT
BEGIN:VEVENT
DTSTART;TZID=America/Detroit:20281122T090000
DTEND;TZID=America/Detroit:20281122T094500
DTSTAMP:20260421T041020
CREATED:20230717T191330Z
LAST-MODIFIED:20251121T143234Z
UID:10007707-1858496400-1858499100@saintthomaszanesville.org
SUMMARY:Mass
DESCRIPTION:
URL:https://saintthomaszanesville.org/event/mass-3/2028-11-22/
LOCATION:St Thomas
CATEGORIES:Mass
END:VEVENT
BEGIN:VEVENT
DTSTART;TZID=America/Detroit:20281129T090000
DTEND;TZID=America/Detroit:20281129T094500
DTSTAMP:20260421T041020
CREATED:20230717T191330Z
LAST-MODIFIED:20251121T143234Z
UID:10007708-1859101200-1859103900@saintthomaszanesville.org
SUMMARY:Mass
DESCRIPTION:
URL:https://saintthomaszanesville.org/event/mass-3/2028-11-29/
LOCATION:St Thomas
CATEGORIES:Mass
END:VEVENT
BEGIN:VEVENT
DTSTART;TZID=America/Detroit:20281206T090000
DTEND;TZID=America/Detroit:20281206T094500
DTSTAMP:20260421T041020
CREATED:20230717T191330Z
LAST-MODIFIED:20251121T143234Z
UID:10007709-1859706000-1859708700@saintthomaszanesville.org
SUMMARY:Mass
DESCRIPTION:
URL:https://saintthomaszanesville.org/event/mass-3/2028-12-06/
LOCATION:St Thomas
CATEGORIES:Mass
END:VEVENT
END:VCALENDAR