BEGIN:VCALENDAR
VERSION:2.0
PRODID:-//Saint Thomas Acquinas Zanesville - ECPv6.15.20//NONSGML v1.0//EN
CALSCALE:GREGORIAN
METHOD:PUBLISH
X-WR-CALNAME:Saint Thomas Acquinas Zanesville
X-ORIGINAL-URL:https://saintthomaszanesville.org
X-WR-CALDESC:Events for Saint Thomas Acquinas Zanesville
REFRESH-INTERVAL;VALUE=DURATION:PT1H
X-Robots-Tag:noindex
X-PUBLISHED-TTL:PT1H
BEGIN:VTIMEZONE
TZID:America/Detroit
BEGIN:DAYLIGHT
TZOFFSETFROM:-0500
TZOFFSETTO:-0400
TZNAME:EDT
DTSTART:20250309T070000
END:DAYLIGHT
BEGIN:STANDARD
TZOFFSETFROM:-0400
TZOFFSETTO:-0500
TZNAME:EST
DTSTART:20251102T060000
END:STANDARD
BEGIN:DAYLIGHT
TZOFFSETFROM:-0500
TZOFFSETTO:-0400
TZNAME:EDT
DTSTART:20260308T070000
END:DAYLIGHT
BEGIN:STANDARD
TZOFFSETFROM:-0400
TZOFFSETTO:-0500
TZNAME:EST
DTSTART:20261101T060000
END:STANDARD
BEGIN:DAYLIGHT
TZOFFSETFROM:-0500
TZOFFSETTO:-0400
TZNAME:EDT
DTSTART:20270314T070000
END:DAYLIGHT
BEGIN:STANDARD
TZOFFSETFROM:-0400
TZOFFSETTO:-0500
TZNAME:EST
DTSTART:20271107T060000
END:STANDARD
END:VTIMEZONE
BEGIN:VEVENT
DTSTART;TZID=America/Detroit:20260422T090000
DTEND;TZID=America/Detroit:20260422T094500
DTSTAMP:20260420T090615
CREATED:20230717T191330Z
LAST-MODIFIED:20251121T143234Z
UID:10005420-1776848400-1776851100@saintthomaszanesville.org
SUMMARY:Mass
DESCRIPTION:
URL:https://saintthomaszanesville.org/event/mass-3/2026-04-22/
LOCATION:St Thomas
CATEGORIES:Mass
END:VEVENT
BEGIN:VEVENT
DTSTART;TZID=America/Detroit:20260429T090000
DTEND;TZID=America/Detroit:20260429T094500
DTSTAMP:20260420T090615
CREATED:20230717T191330Z
LAST-MODIFIED:20251121T143234Z
UID:10005421-1777453200-1777455900@saintthomaszanesville.org
SUMMARY:Mass
DESCRIPTION:
URL:https://saintthomaszanesville.org/event/mass-3/2026-04-29/
LOCATION:St Thomas
CATEGORIES:Mass
END:VEVENT
BEGIN:VEVENT
DTSTART;TZID=America/Detroit:20260506T090000
DTEND;TZID=America/Detroit:20260506T094500
DTSTAMP:20260420T090615
CREATED:20230717T191330Z
LAST-MODIFIED:20251121T143234Z
UID:10005422-1778058000-1778060700@saintthomaszanesville.org
SUMMARY:Mass
DESCRIPTION:
URL:https://saintthomaszanesville.org/event/mass-3/2026-05-06/
LOCATION:St Thomas
CATEGORIES:Mass
END:VEVENT
BEGIN:VEVENT
DTSTART;TZID=America/Detroit:20260513T090000
DTEND;TZID=America/Detroit:20260513T094500
DTSTAMP:20260420T090615
CREATED:20230717T191330Z
LAST-MODIFIED:20251121T143234Z
UID:10005423-1778662800-1778665500@saintthomaszanesville.org
SUMMARY:Mass
DESCRIPTION:
URL:https://saintthomaszanesville.org/event/mass-3/2026-05-13/
LOCATION:St Thomas
CATEGORIES:Mass
END:VEVENT
BEGIN:VEVENT
DTSTART;TZID=America/Detroit:20260520T090000
DTEND;TZID=America/Detroit:20260520T094500
DTSTAMP:20260420T090615
CREATED:20230717T191330Z
LAST-MODIFIED:20251121T143234Z
UID:10005424-1779267600-1779270300@saintthomaszanesville.org
SUMMARY:Mass
DESCRIPTION:
URL:https://saintthomaszanesville.org/event/mass-3/2026-05-20/
LOCATION:St Thomas
CATEGORIES:Mass
END:VEVENT
BEGIN:VEVENT
DTSTART;TZID=America/Detroit:20260527T090000
DTEND;TZID=America/Detroit:20260527T094500
DTSTAMP:20260420T090615
CREATED:20230717T191330Z
LAST-MODIFIED:20251121T143234Z
UID:10005425-1779872400-1779875100@saintthomaszanesville.org
SUMMARY:Mass
DESCRIPTION:
URL:https://saintthomaszanesville.org/event/mass-3/2026-05-27/
LOCATION:St Thomas
CATEGORIES:Mass
END:VEVENT
BEGIN:VEVENT
DTSTART;TZID=America/Detroit:20260603T090000
DTEND;TZID=America/Detroit:20260603T094500
DTSTAMP:20260420T090615
CREATED:20230717T191330Z
LAST-MODIFIED:20251121T143234Z
UID:10005426-1780477200-1780479900@saintthomaszanesville.org
SUMMARY:Mass
DESCRIPTION:
URL:https://saintthomaszanesville.org/event/mass-3/2026-06-03/
LOCATION:St Thomas
CATEGORIES:Mass
END:VEVENT
BEGIN:VEVENT
DTSTART;TZID=America/Detroit:20260610T090000
DTEND;TZID=America/Detroit:20260610T094500
DTSTAMP:20260420T090615
CREATED:20230717T191330Z
LAST-MODIFIED:20251121T143234Z
UID:10005427-1781082000-1781084700@saintthomaszanesville.org
SUMMARY:Mass
DESCRIPTION:
URL:https://saintthomaszanesville.org/event/mass-3/2026-06-10/
LOCATION:St Thomas
CATEGORIES:Mass
END:VEVENT
BEGIN:VEVENT
DTSTART;TZID=America/Detroit:20260617T090000
DTEND;TZID=America/Detroit:20260617T094500
DTSTAMP:20260420T090615
CREATED:20230717T191330Z
LAST-MODIFIED:20251121T143234Z
UID:10005428-1781686800-1781689500@saintthomaszanesville.org
SUMMARY:Mass
DESCRIPTION:
URL:https://saintthomaszanesville.org/event/mass-3/2026-06-17/
LOCATION:St Thomas
CATEGORIES:Mass
END:VEVENT
BEGIN:VEVENT
DTSTART;TZID=America/Detroit:20260624T090000
DTEND;TZID=America/Detroit:20260624T094500
DTSTAMP:20260420T090615
CREATED:20230717T191330Z
LAST-MODIFIED:20251121T143234Z
UID:10005429-1782291600-1782294300@saintthomaszanesville.org
SUMMARY:Mass
DESCRIPTION:
URL:https://saintthomaszanesville.org/event/mass-3/2026-06-24/
LOCATION:St Thomas
CATEGORIES:Mass
END:VEVENT
BEGIN:VEVENT
DTSTART;TZID=America/Detroit:20260701T090000
DTEND;TZID=America/Detroit:20260701T094500
DTSTAMP:20260420T090615
CREATED:20230717T191330Z
LAST-MODIFIED:20251121T143234Z
UID:10005430-1782896400-1782899100@saintthomaszanesville.org
SUMMARY:Mass
DESCRIPTION:
URL:https://saintthomaszanesville.org/event/mass-3/2026-07-01/
LOCATION:St Thomas
CATEGORIES:Mass
END:VEVENT
BEGIN:VEVENT
DTSTART;TZID=America/Detroit:20260708T090000
DTEND;TZID=America/Detroit:20260708T094500
DTSTAMP:20260420T090615
CREATED:20230717T191330Z
LAST-MODIFIED:20251121T143234Z
UID:10005431-1783501200-1783503900@saintthomaszanesville.org
SUMMARY:Mass
DESCRIPTION:
URL:https://saintthomaszanesville.org/event/mass-3/2026-07-08/
LOCATION:St Thomas
CATEGORIES:Mass
END:VEVENT
BEGIN:VEVENT
DTSTART;TZID=America/Detroit:20260715T090000
DTEND;TZID=America/Detroit:20260715T094500
DTSTAMP:20260420T090615
CREATED:20230717T191330Z
LAST-MODIFIED:20251121T143234Z
UID:10005432-1784106000-1784108700@saintthomaszanesville.org
SUMMARY:Mass
DESCRIPTION:
URL:https://saintthomaszanesville.org/event/mass-3/2026-07-15/
LOCATION:St Thomas
CATEGORIES:Mass
END:VEVENT
BEGIN:VEVENT
DTSTART;TZID=America/Detroit:20260722T090000
DTEND;TZID=America/Detroit:20260722T094500
DTSTAMP:20260420T090615
CREATED:20230717T191330Z
LAST-MODIFIED:20251121T143234Z
UID:10005433-1784710800-1784713500@saintthomaszanesville.org
SUMMARY:Mass
DESCRIPTION:
URL:https://saintthomaszanesville.org/event/mass-3/2026-07-22/
LOCATION:St Thomas
CATEGORIES:Mass
END:VEVENT
BEGIN:VEVENT
DTSTART;TZID=America/Detroit:20260729T090000
DTEND;TZID=America/Detroit:20260729T094500
DTSTAMP:20260420T090615
CREATED:20230717T191330Z
LAST-MODIFIED:20251121T143234Z
UID:10005434-1785315600-1785318300@saintthomaszanesville.org
SUMMARY:Mass
DESCRIPTION:
URL:https://saintthomaszanesville.org/event/mass-3/2026-07-29/
LOCATION:St Thomas
CATEGORIES:Mass
END:VEVENT
BEGIN:VEVENT
DTSTART;TZID=America/Detroit:20260805T090000
DTEND;TZID=America/Detroit:20260805T094500
DTSTAMP:20260420T090615
CREATED:20230717T191330Z
LAST-MODIFIED:20251121T143234Z
UID:10005435-1785920400-1785923100@saintthomaszanesville.org
SUMMARY:Mass
DESCRIPTION:
URL:https://saintthomaszanesville.org/event/mass-3/2026-08-05/
LOCATION:St Thomas
CATEGORIES:Mass
END:VEVENT
BEGIN:VEVENT
DTSTART;TZID=America/Detroit:20260812T090000
DTEND;TZID=America/Detroit:20260812T094500
DTSTAMP:20260420T090615
CREATED:20230717T191330Z
LAST-MODIFIED:20251121T143234Z
UID:10005436-1786525200-1786527900@saintthomaszanesville.org
SUMMARY:Mass
DESCRIPTION:
URL:https://saintthomaszanesville.org/event/mass-3/2026-08-12/
LOCATION:St Thomas
CATEGORIES:Mass
END:VEVENT
BEGIN:VEVENT
DTSTART;TZID=America/Detroit:20260819T090000
DTEND;TZID=America/Detroit:20260819T094500
DTSTAMP:20260420T090615
CREATED:20230717T191330Z
LAST-MODIFIED:20251121T143234Z
UID:10005437-1787130000-1787132700@saintthomaszanesville.org
SUMMARY:Mass
DESCRIPTION:
URL:https://saintthomaszanesville.org/event/mass-3/2026-08-19/
LOCATION:St Thomas
CATEGORIES:Mass
END:VEVENT
BEGIN:VEVENT
DTSTART;TZID=America/Detroit:20260826T090000
DTEND;TZID=America/Detroit:20260826T094500
DTSTAMP:20260420T090615
CREATED:20230717T191330Z
LAST-MODIFIED:20251121T143234Z
UID:10005438-1787734800-1787737500@saintthomaszanesville.org
SUMMARY:Mass
DESCRIPTION:
URL:https://saintthomaszanesville.org/event/mass-3/2026-08-26/
LOCATION:St Thomas
CATEGORIES:Mass
END:VEVENT
BEGIN:VEVENT
DTSTART;TZID=America/Detroit:20260902T090000
DTEND;TZID=America/Detroit:20260902T094500
DTSTAMP:20260420T090615
CREATED:20230717T191330Z
LAST-MODIFIED:20251121T143234Z
UID:10005439-1788339600-1788342300@saintthomaszanesville.org
SUMMARY:Mass
DESCRIPTION:
URL:https://saintthomaszanesville.org/event/mass-3/2026-09-02/
LOCATION:St Thomas
CATEGORIES:Mass
END:VEVENT
BEGIN:VEVENT
DTSTART;TZID=America/Detroit:20260909T090000
DTEND;TZID=America/Detroit:20260909T094500
DTSTAMP:20260420T090615
CREATED:20230717T191330Z
LAST-MODIFIED:20251121T143234Z
UID:10005440-1788944400-1788947100@saintthomaszanesville.org
SUMMARY:Mass
DESCRIPTION:
URL:https://saintthomaszanesville.org/event/mass-3/2026-09-09/
LOCATION:St Thomas
CATEGORIES:Mass
END:VEVENT
BEGIN:VEVENT
DTSTART;TZID=America/Detroit:20260916T090000
DTEND;TZID=America/Detroit:20260916T094500
DTSTAMP:20260420T090615
CREATED:20230717T191330Z
LAST-MODIFIED:20251121T143234Z
UID:10005441-1789549200-1789551900@saintthomaszanesville.org
SUMMARY:Mass
DESCRIPTION:
URL:https://saintthomaszanesville.org/event/mass-3/2026-09-16/
LOCATION:St Thomas
CATEGORIES:Mass
END:VEVENT
BEGIN:VEVENT
DTSTART;TZID=America/Detroit:20260923T090000
DTEND;TZID=America/Detroit:20260923T094500
DTSTAMP:20260420T090615
CREATED:20230717T191330Z
LAST-MODIFIED:20251121T143234Z
UID:10005442-1790154000-1790156700@saintthomaszanesville.org
SUMMARY:Mass
DESCRIPTION:
URL:https://saintthomaszanesville.org/event/mass-3/2026-09-23/
LOCATION:St Thomas
CATEGORIES:Mass
END:VEVENT
BEGIN:VEVENT
DTSTART;TZID=America/Detroit:20260930T090000
DTEND;TZID=America/Detroit:20260930T094500
DTSTAMP:20260420T090615
CREATED:20230717T191330Z
LAST-MODIFIED:20251121T143234Z
UID:10005443-1790758800-1790761500@saintthomaszanesville.org
SUMMARY:Mass
DESCRIPTION:
URL:https://saintthomaszanesville.org/event/mass-3/2026-09-30/
LOCATION:St Thomas
CATEGORIES:Mass
END:VEVENT
BEGIN:VEVENT
DTSTART;TZID=America/Detroit:20261007T090000
DTEND;TZID=America/Detroit:20261007T094500
DTSTAMP:20260420T090615
CREATED:20230717T191330Z
LAST-MODIFIED:20251121T143234Z
UID:10005444-1791363600-1791366300@saintthomaszanesville.org
SUMMARY:Mass
DESCRIPTION:
URL:https://saintthomaszanesville.org/event/mass-3/2026-10-07/
LOCATION:St Thomas
CATEGORIES:Mass
END:VEVENT
BEGIN:VEVENT
DTSTART;TZID=America/Detroit:20261014T090000
DTEND;TZID=America/Detroit:20261014T094500
DTSTAMP:20260420T090615
CREATED:20230717T191330Z
LAST-MODIFIED:20251121T143234Z
UID:10005445-1791968400-1791971100@saintthomaszanesville.org
SUMMARY:Mass
DESCRIPTION:
URL:https://saintthomaszanesville.org/event/mass-3/2026-10-14/
LOCATION:St Thomas
CATEGORIES:Mass
END:VEVENT
BEGIN:VEVENT
DTSTART;TZID=America/Detroit:20261021T090000
DTEND;TZID=America/Detroit:20261021T094500
DTSTAMP:20260420T090615
CREATED:20230717T191330Z
LAST-MODIFIED:20251121T143234Z
UID:10005446-1792573200-1792575900@saintthomaszanesville.org
SUMMARY:Mass
DESCRIPTION:
URL:https://saintthomaszanesville.org/event/mass-3/2026-10-21/
LOCATION:St Thomas
CATEGORIES:Mass
END:VEVENT
BEGIN:VEVENT
DTSTART;TZID=America/Detroit:20261028T090000
DTEND;TZID=America/Detroit:20261028T094500
DTSTAMP:20260420T090615
CREATED:20230717T191330Z
LAST-MODIFIED:20251121T143234Z
UID:10005447-1793178000-1793180700@saintthomaszanesville.org
SUMMARY:Mass
DESCRIPTION:
URL:https://saintthomaszanesville.org/event/mass-3/2026-10-28/
LOCATION:St Thomas
CATEGORIES:Mass
END:VEVENT
BEGIN:VEVENT
DTSTART;TZID=America/Detroit:20261104T090000
DTEND;TZID=America/Detroit:20261104T094500
DTSTAMP:20260420T090615
CREATED:20230717T191330Z
LAST-MODIFIED:20251121T143234Z
UID:10005448-1793782800-1793785500@saintthomaszanesville.org
SUMMARY:Mass
DESCRIPTION:
URL:https://saintthomaszanesville.org/event/mass-3/2026-11-04/
LOCATION:St Thomas
CATEGORIES:Mass
END:VEVENT
BEGIN:VEVENT
DTSTART;TZID=America/Detroit:20261111T090000
DTEND;TZID=America/Detroit:20261111T094500
DTSTAMP:20260420T090615
CREATED:20230717T191330Z
LAST-MODIFIED:20251121T143234Z
UID:10005449-1794387600-1794390300@saintthomaszanesville.org
SUMMARY:Mass
DESCRIPTION:
URL:https://saintthomaszanesville.org/event/mass-3/2026-11-11/
LOCATION:St Thomas
CATEGORIES:Mass
END:VEVENT
END:VCALENDAR