BEGIN:VCALENDAR
VERSION:2.0
PRODID:-//Saint Thomas Acquinas Zanesville - ECPv6.15.20//NONSGML v1.0//EN
CALSCALE:GREGORIAN
METHOD:PUBLISH
X-ORIGINAL-URL:https://saintthomaszanesville.org
X-WR-CALDESC:Events for Saint Thomas Acquinas Zanesville
REFRESH-INTERVAL;VALUE=DURATION:PT1H
X-Robots-Tag:noindex
X-PUBLISHED-TTL:PT1H
BEGIN:VTIMEZONE
TZID:America/Detroit
BEGIN:DAYLIGHT
TZOFFSETFROM:-0500
TZOFFSETTO:-0400
TZNAME:EDT
DTSTART:20260308T070000
END:DAYLIGHT
BEGIN:STANDARD
TZOFFSETFROM:-0400
TZOFFSETTO:-0500
TZNAME:EST
DTSTART:20261101T060000
END:STANDARD
BEGIN:DAYLIGHT
TZOFFSETFROM:-0500
TZOFFSETTO:-0400
TZNAME:EDT
DTSTART:20270314T070000
END:DAYLIGHT
BEGIN:STANDARD
TZOFFSETFROM:-0400
TZOFFSETTO:-0500
TZNAME:EST
DTSTART:20271107T060000
END:STANDARD
BEGIN:DAYLIGHT
TZOFFSETFROM:-0500
TZOFFSETTO:-0400
TZNAME:EDT
DTSTART:20280312T070000
END:DAYLIGHT
BEGIN:STANDARD
TZOFFSETFROM:-0400
TZOFFSETTO:-0500
TZNAME:EST
DTSTART:20281105T060000
END:STANDARD
END:VTIMEZONE
BEGIN:VEVENT
DTSTART;TZID=America/Detroit:20270103T074500
DTEND;TZID=America/Detroit:20270103T084500
DTSTAMP:20260420T082524
CREATED:20240626T174505Z
LAST-MODIFIED:20250917T124608Z
UID:10008851-1798962300-1798965900@saintthomaszanesville.org
SUMMARY:Mass
DESCRIPTION:
URL:https://saintthomaszanesville.org/event/mass-2-2/2027-01-03/
CATEGORIES:Mass
END:VEVENT
BEGIN:VEVENT
DTSTART;TZID=America/Detroit:20270110T074500
DTEND;TZID=America/Detroit:20270110T084500
DTSTAMP:20260420T082524
CREATED:20240626T174505Z
LAST-MODIFIED:20250917T124608Z
UID:10008852-1799567100-1799570700@saintthomaszanesville.org
SUMMARY:Mass
DESCRIPTION:
URL:https://saintthomaszanesville.org/event/mass-2-2/2027-01-10/
CATEGORIES:Mass
END:VEVENT
BEGIN:VEVENT
DTSTART;TZID=America/Detroit:20270117T074500
DTEND;TZID=America/Detroit:20270117T084500
DTSTAMP:20260420T082524
CREATED:20240626T174505Z
LAST-MODIFIED:20250917T124608Z
UID:10008853-1800171900-1800175500@saintthomaszanesville.org
SUMMARY:Mass
DESCRIPTION:
URL:https://saintthomaszanesville.org/event/mass-2-2/2027-01-17/
CATEGORIES:Mass
END:VEVENT
BEGIN:VEVENT
DTSTART;TZID=America/Detroit:20270124T074500
DTEND;TZID=America/Detroit:20270124T084500
DTSTAMP:20260420T082524
CREATED:20240626T174505Z
LAST-MODIFIED:20250917T124608Z
UID:10008854-1800776700-1800780300@saintthomaszanesville.org
SUMMARY:Mass
DESCRIPTION:
URL:https://saintthomaszanesville.org/event/mass-2-2/2027-01-24/
CATEGORIES:Mass
END:VEVENT
BEGIN:VEVENT
DTSTART;TZID=America/Detroit:20270131T074500
DTEND;TZID=America/Detroit:20270131T084500
DTSTAMP:20260420T082524
CREATED:20240626T174505Z
LAST-MODIFIED:20250917T124608Z
UID:10008855-1801381500-1801385100@saintthomaszanesville.org
SUMMARY:Mass
DESCRIPTION:
URL:https://saintthomaszanesville.org/event/mass-2-2/2027-01-31/
CATEGORIES:Mass
END:VEVENT
BEGIN:VEVENT
DTSTART;TZID=America/Detroit:20270207T074500
DTEND;TZID=America/Detroit:20270207T084500
DTSTAMP:20260420T082524
CREATED:20240626T174505Z
LAST-MODIFIED:20250917T124608Z
UID:10008856-1801986300-1801989900@saintthomaszanesville.org
SUMMARY:Mass
DESCRIPTION:
URL:https://saintthomaszanesville.org/event/mass-2-2/2027-02-07/
CATEGORIES:Mass
END:VEVENT
BEGIN:VEVENT
DTSTART;TZID=America/Detroit:20270214T074500
DTEND;TZID=America/Detroit:20270214T084500
DTSTAMP:20260420T082524
CREATED:20240626T174505Z
LAST-MODIFIED:20250917T124608Z
UID:10008857-1802591100-1802594700@saintthomaszanesville.org
SUMMARY:Mass
DESCRIPTION:
URL:https://saintthomaszanesville.org/event/mass-2-2/2027-02-14/
CATEGORIES:Mass
END:VEVENT
BEGIN:VEVENT
DTSTART;TZID=America/Detroit:20270221T074500
DTEND;TZID=America/Detroit:20270221T084500
DTSTAMP:20260420T082524
CREATED:20240626T174505Z
LAST-MODIFIED:20250917T124608Z
UID:10008858-1803195900-1803199500@saintthomaszanesville.org
SUMMARY:Mass
DESCRIPTION:
URL:https://saintthomaszanesville.org/event/mass-2-2/2027-02-21/
CATEGORIES:Mass
END:VEVENT
BEGIN:VEVENT
DTSTART;TZID=America/Detroit:20270228T074500
DTEND;TZID=America/Detroit:20270228T084500
DTSTAMP:20260420T082524
CREATED:20240626T174505Z
LAST-MODIFIED:20250917T124608Z
UID:10008859-1803800700-1803804300@saintthomaszanesville.org
SUMMARY:Mass
DESCRIPTION:
URL:https://saintthomaszanesville.org/event/mass-2-2/2027-02-28/
CATEGORIES:Mass
END:VEVENT
BEGIN:VEVENT
DTSTART;TZID=America/Detroit:20270307T074500
DTEND;TZID=America/Detroit:20270307T084500
DTSTAMP:20260420T082524
CREATED:20240626T174505Z
LAST-MODIFIED:20250917T124608Z
UID:10008860-1804405500-1804409100@saintthomaszanesville.org
SUMMARY:Mass
DESCRIPTION:
URL:https://saintthomaszanesville.org/event/mass-2-2/2027-03-07/
CATEGORIES:Mass
END:VEVENT
BEGIN:VEVENT
DTSTART;TZID=America/Detroit:20270314T074500
DTEND;TZID=America/Detroit:20270314T084500
DTSTAMP:20260420T082524
CREATED:20240626T174505Z
LAST-MODIFIED:20250917T124608Z
UID:10008861-1805010300-1805013900@saintthomaszanesville.org
SUMMARY:Mass
DESCRIPTION:
URL:https://saintthomaszanesville.org/event/mass-2-2/2027-03-14/
CATEGORIES:Mass
END:VEVENT
BEGIN:VEVENT
DTSTART;TZID=America/Detroit:20270321T074500
DTEND;TZID=America/Detroit:20270321T084500
DTSTAMP:20260420T082524
CREATED:20240626T174505Z
LAST-MODIFIED:20250917T124608Z
UID:10008862-1805615100-1805618700@saintthomaszanesville.org
SUMMARY:Mass
DESCRIPTION:
URL:https://saintthomaszanesville.org/event/mass-2-2/2027-03-21/
CATEGORIES:Mass
END:VEVENT
BEGIN:VEVENT
DTSTART;TZID=America/Detroit:20270328T074500
DTEND;TZID=America/Detroit:20270328T084500
DTSTAMP:20260420T082524
CREATED:20240626T174505Z
LAST-MODIFIED:20250917T124608Z
UID:10008863-1806219900-1806223500@saintthomaszanesville.org
SUMMARY:Mass
DESCRIPTION:
URL:https://saintthomaszanesville.org/event/mass-2-2/2027-03-28/
CATEGORIES:Mass
END:VEVENT
BEGIN:VEVENT
DTSTART;TZID=America/Detroit:20270404T074500
DTEND;TZID=America/Detroit:20270404T084500
DTSTAMP:20260420T082524
CREATED:20240626T174505Z
LAST-MODIFIED:20250917T124608Z
UID:10008864-1806824700-1806828300@saintthomaszanesville.org
SUMMARY:Mass
DESCRIPTION:
URL:https://saintthomaszanesville.org/event/mass-2-2/2027-04-04/
CATEGORIES:Mass
END:VEVENT
BEGIN:VEVENT
DTSTART;TZID=America/Detroit:20270411T074500
DTEND;TZID=America/Detroit:20270411T084500
DTSTAMP:20260420T082525
CREATED:20240626T174505Z
LAST-MODIFIED:20250917T124608Z
UID:10008865-1807429500-1807433100@saintthomaszanesville.org
SUMMARY:Mass
DESCRIPTION:
URL:https://saintthomaszanesville.org/event/mass-2-2/2027-04-11/
CATEGORIES:Mass
END:VEVENT
BEGIN:VEVENT
DTSTART;TZID=America/Detroit:20270418T074500
DTEND;TZID=America/Detroit:20270418T084500
DTSTAMP:20260420T082525
CREATED:20240626T174505Z
LAST-MODIFIED:20250917T124608Z
UID:10008866-1808034300-1808037900@saintthomaszanesville.org
SUMMARY:Mass
DESCRIPTION:
URL:https://saintthomaszanesville.org/event/mass-2-2/2027-04-18/
CATEGORIES:Mass
END:VEVENT
BEGIN:VEVENT
DTSTART;TZID=America/Detroit:20270425T074500
DTEND;TZID=America/Detroit:20270425T084500
DTSTAMP:20260420T082525
CREATED:20240626T174505Z
LAST-MODIFIED:20250917T124608Z
UID:10008867-1808639100-1808642700@saintthomaszanesville.org
SUMMARY:Mass
DESCRIPTION:
URL:https://saintthomaszanesville.org/event/mass-2-2/2027-04-25/
CATEGORIES:Mass
END:VEVENT
BEGIN:VEVENT
DTSTART;TZID=America/Detroit:20270502T074500
DTEND;TZID=America/Detroit:20270502T084500
DTSTAMP:20260420T082525
CREATED:20240626T174505Z
LAST-MODIFIED:20250917T124608Z
UID:10008868-1809243900-1809247500@saintthomaszanesville.org
SUMMARY:Mass
DESCRIPTION:
URL:https://saintthomaszanesville.org/event/mass-2-2/2027-05-02/
CATEGORIES:Mass
END:VEVENT
BEGIN:VEVENT
DTSTART;TZID=America/Detroit:20270509T074500
DTEND;TZID=America/Detroit:20270509T084500
DTSTAMP:20260420T082525
CREATED:20240626T174505Z
LAST-MODIFIED:20250917T124608Z
UID:10008869-1809848700-1809852300@saintthomaszanesville.org
SUMMARY:Mass
DESCRIPTION:
URL:https://saintthomaszanesville.org/event/mass-2-2/2027-05-09/
CATEGORIES:Mass
END:VEVENT
BEGIN:VEVENT
DTSTART;TZID=America/Detroit:20270516T074500
DTEND;TZID=America/Detroit:20270516T084500
DTSTAMP:20260420T082525
CREATED:20240626T174505Z
LAST-MODIFIED:20250917T124608Z
UID:10008870-1810453500-1810457100@saintthomaszanesville.org
SUMMARY:Mass
DESCRIPTION:
URL:https://saintthomaszanesville.org/event/mass-2-2/2027-05-16/
CATEGORIES:Mass
END:VEVENT
BEGIN:VEVENT
DTSTART;TZID=America/Detroit:20270523T074500
DTEND;TZID=America/Detroit:20270523T084500
DTSTAMP:20260420T082525
CREATED:20240626T174505Z
LAST-MODIFIED:20250917T124608Z
UID:10008871-1811058300-1811061900@saintthomaszanesville.org
SUMMARY:Mass
DESCRIPTION:
URL:https://saintthomaszanesville.org/event/mass-2-2/2027-05-23/
CATEGORIES:Mass
END:VEVENT
BEGIN:VEVENT
DTSTART;TZID=America/Detroit:20270530T074500
DTEND;TZID=America/Detroit:20270530T084500
DTSTAMP:20260420T082525
CREATED:20240626T174505Z
LAST-MODIFIED:20250917T124608Z
UID:10008872-1811663100-1811666700@saintthomaszanesville.org
SUMMARY:Mass
DESCRIPTION:
URL:https://saintthomaszanesville.org/event/mass-2-2/2027-05-30/
CATEGORIES:Mass
END:VEVENT
BEGIN:VEVENT
DTSTART;TZID=America/Detroit:20270606T074500
DTEND;TZID=America/Detroit:20270606T084500
DTSTAMP:20260420T082525
CREATED:20240626T174505Z
LAST-MODIFIED:20250917T124608Z
UID:10008873-1812267900-1812271500@saintthomaszanesville.org
SUMMARY:Mass
DESCRIPTION:
URL:https://saintthomaszanesville.org/event/mass-2-2/2027-06-06/
CATEGORIES:Mass
END:VEVENT
BEGIN:VEVENT
DTSTART;TZID=America/Detroit:20270613T074500
DTEND;TZID=America/Detroit:20270613T084500
DTSTAMP:20260420T082525
CREATED:20240626T174505Z
LAST-MODIFIED:20250917T124608Z
UID:10008874-1812872700-1812876300@saintthomaszanesville.org
SUMMARY:Mass
DESCRIPTION:
URL:https://saintthomaszanesville.org/event/mass-2-2/2027-06-13/
CATEGORIES:Mass
END:VEVENT
BEGIN:VEVENT
DTSTART;TZID=America/Detroit:20270620T074500
DTEND;TZID=America/Detroit:20270620T084500
DTSTAMP:20260420T082525
CREATED:20240626T174505Z
LAST-MODIFIED:20250917T124608Z
UID:10008875-1813477500-1813481100@saintthomaszanesville.org
SUMMARY:Mass
DESCRIPTION:
URL:https://saintthomaszanesville.org/event/mass-2-2/2027-06-20/
CATEGORIES:Mass
END:VEVENT
BEGIN:VEVENT
DTSTART;TZID=America/Detroit:20270627T074500
DTEND;TZID=America/Detroit:20270627T084500
DTSTAMP:20260420T082525
CREATED:20240626T174505Z
LAST-MODIFIED:20250917T124608Z
UID:10008876-1814082300-1814085900@saintthomaszanesville.org
SUMMARY:Mass
DESCRIPTION:
URL:https://saintthomaszanesville.org/event/mass-2-2/2027-06-27/
CATEGORIES:Mass
END:VEVENT
BEGIN:VEVENT
DTSTART;TZID=America/Detroit:20270704T074500
DTEND;TZID=America/Detroit:20270704T084500
DTSTAMP:20260420T082525
CREATED:20240626T174505Z
LAST-MODIFIED:20250917T124608Z
UID:10008877-1814687100-1814690700@saintthomaszanesville.org
SUMMARY:Mass
DESCRIPTION:
URL:https://saintthomaszanesville.org/event/mass-2-2/2027-07-04/
CATEGORIES:Mass
END:VEVENT
BEGIN:VEVENT
DTSTART;TZID=America/Detroit:20270711T074500
DTEND;TZID=America/Detroit:20270711T084500
DTSTAMP:20260420T082525
CREATED:20240626T174505Z
LAST-MODIFIED:20250917T124608Z
UID:10008878-1815291900-1815295500@saintthomaszanesville.org
SUMMARY:Mass
DESCRIPTION:
URL:https://saintthomaszanesville.org/event/mass-2-2/2027-07-11/
CATEGORIES:Mass
END:VEVENT
BEGIN:VEVENT
DTSTART;TZID=America/Detroit:20270718T074500
DTEND;TZID=America/Detroit:20270718T084500
DTSTAMP:20260420T082525
CREATED:20240626T174505Z
LAST-MODIFIED:20250917T124608Z
UID:10008879-1815896700-1815900300@saintthomaszanesville.org
SUMMARY:Mass
DESCRIPTION:
URL:https://saintthomaszanesville.org/event/mass-2-2/2027-07-18/
CATEGORIES:Mass
END:VEVENT
BEGIN:VEVENT
DTSTART;TZID=America/Detroit:20270725T074500
DTEND;TZID=America/Detroit:20270725T084500
DTSTAMP:20260420T082525
CREATED:20240626T174505Z
LAST-MODIFIED:20250917T124608Z
UID:10008880-1816501500-1816505100@saintthomaszanesville.org
SUMMARY:Mass
DESCRIPTION:
URL:https://saintthomaszanesville.org/event/mass-2-2/2027-07-25/
CATEGORIES:Mass
END:VEVENT
END:VCALENDAR