BEGIN:VCALENDAR
VERSION:2.0
PRODID:-//Saint Thomas Acquinas Zanesville - ECPv6.15.20//NONSGML v1.0//EN
CALSCALE:GREGORIAN
METHOD:PUBLISH
X-WR-CALNAME:Saint Thomas Acquinas Zanesville
X-ORIGINAL-URL:https://saintthomaszanesville.org
X-WR-CALDESC:Events for Saint Thomas Acquinas Zanesville
REFRESH-INTERVAL;VALUE=DURATION:PT1H
X-Robots-Tag:noindex
X-PUBLISHED-TTL:PT1H
BEGIN:VTIMEZONE
TZID:America/Detroit
BEGIN:DAYLIGHT
TZOFFSETFROM:-0500
TZOFFSETTO:-0400
TZNAME:EDT
DTSTART:20250309T070000
END:DAYLIGHT
BEGIN:STANDARD
TZOFFSETFROM:-0400
TZOFFSETTO:-0500
TZNAME:EST
DTSTART:20251102T060000
END:STANDARD
BEGIN:DAYLIGHT
TZOFFSETFROM:-0500
TZOFFSETTO:-0400
TZNAME:EDT
DTSTART:20260308T070000
END:DAYLIGHT
BEGIN:STANDARD
TZOFFSETFROM:-0400
TZOFFSETTO:-0500
TZNAME:EST
DTSTART:20261101T060000
END:STANDARD
BEGIN:DAYLIGHT
TZOFFSETFROM:-0500
TZOFFSETTO:-0400
TZNAME:EDT
DTSTART:20270314T070000
END:DAYLIGHT
BEGIN:STANDARD
TZOFFSETFROM:-0400
TZOFFSETTO:-0500
TZNAME:EST
DTSTART:20271107T060000
END:STANDARD
BEGIN:DAYLIGHT
TZOFFSETFROM:-0500
TZOFFSETTO:-0400
TZNAME:EDT
DTSTART:20280312T070000
END:DAYLIGHT
BEGIN:STANDARD
TZOFFSETFROM:-0400
TZOFFSETTO:-0500
TZNAME:EST
DTSTART:20281105T060000
END:STANDARD
END:VTIMEZONE
BEGIN:VEVENT
DTSTART;TZID=America/Detroit:20260719T074500
DTEND;TZID=America/Detroit:20260719T084500
DTSTAMP:20260420T052153
CREATED:20240626T174505Z
LAST-MODIFIED:20250917T124608Z
UID:10008827-1784447100-1784450700@saintthomaszanesville.org
SUMMARY:Mass
DESCRIPTION:
URL:https://saintthomaszanesville.org/event/mass-2-2/2026-07-19/
CATEGORIES:Mass
END:VEVENT
BEGIN:VEVENT
DTSTART;TZID=America/Detroit:20260726T074500
DTEND;TZID=America/Detroit:20260726T084500
DTSTAMP:20260420T052153
CREATED:20240626T174505Z
LAST-MODIFIED:20250917T124608Z
UID:10008828-1785051900-1785055500@saintthomaszanesville.org
SUMMARY:Mass
DESCRIPTION:
URL:https://saintthomaszanesville.org/event/mass-2-2/2026-07-26/
CATEGORIES:Mass
END:VEVENT
BEGIN:VEVENT
DTSTART;TZID=America/Detroit:20260802T074500
DTEND;TZID=America/Detroit:20260802T084500
DTSTAMP:20260420T052153
CREATED:20240626T174505Z
LAST-MODIFIED:20250917T124608Z
UID:10008829-1785656700-1785660300@saintthomaszanesville.org
SUMMARY:Mass
DESCRIPTION:
URL:https://saintthomaszanesville.org/event/mass-2-2/2026-08-02/
CATEGORIES:Mass
END:VEVENT
BEGIN:VEVENT
DTSTART;TZID=America/Detroit:20260809T074500
DTEND;TZID=America/Detroit:20260809T084500
DTSTAMP:20260420T052153
CREATED:20240626T174505Z
LAST-MODIFIED:20250917T124608Z
UID:10008830-1786261500-1786265100@saintthomaszanesville.org
SUMMARY:Mass
DESCRIPTION:
URL:https://saintthomaszanesville.org/event/mass-2-2/2026-08-09/
CATEGORIES:Mass
END:VEVENT
BEGIN:VEVENT
DTSTART;TZID=America/Detroit:20260816T074500
DTEND;TZID=America/Detroit:20260816T084500
DTSTAMP:20260420T052153
CREATED:20240626T174505Z
LAST-MODIFIED:20250917T124608Z
UID:10008831-1786866300-1786869900@saintthomaszanesville.org
SUMMARY:Mass
DESCRIPTION:
URL:https://saintthomaszanesville.org/event/mass-2-2/2026-08-16/
CATEGORIES:Mass
END:VEVENT
BEGIN:VEVENT
DTSTART;TZID=America/Detroit:20260823T074500
DTEND;TZID=America/Detroit:20260823T084500
DTSTAMP:20260420T052153
CREATED:20240626T174505Z
LAST-MODIFIED:20250917T124608Z
UID:10008832-1787471100-1787474700@saintthomaszanesville.org
SUMMARY:Mass
DESCRIPTION:
URL:https://saintthomaszanesville.org/event/mass-2-2/2026-08-23/
CATEGORIES:Mass
END:VEVENT
BEGIN:VEVENT
DTSTART;TZID=America/Detroit:20260830T074500
DTEND;TZID=America/Detroit:20260830T084500
DTSTAMP:20260420T052153
CREATED:20240626T174505Z
LAST-MODIFIED:20250917T124608Z
UID:10008833-1788075900-1788079500@saintthomaszanesville.org
SUMMARY:Mass
DESCRIPTION:
URL:https://saintthomaszanesville.org/event/mass-2-2/2026-08-30/
CATEGORIES:Mass
END:VEVENT
BEGIN:VEVENT
DTSTART;TZID=America/Detroit:20260906T074500
DTEND;TZID=America/Detroit:20260906T084500
DTSTAMP:20260420T052153
CREATED:20240626T174505Z
LAST-MODIFIED:20250917T124608Z
UID:10008834-1788680700-1788684300@saintthomaszanesville.org
SUMMARY:Mass
DESCRIPTION:
URL:https://saintthomaszanesville.org/event/mass-2-2/2026-09-06/
CATEGORIES:Mass
END:VEVENT
BEGIN:VEVENT
DTSTART;TZID=America/Detroit:20260913T074500
DTEND;TZID=America/Detroit:20260913T084500
DTSTAMP:20260420T052153
CREATED:20240626T174505Z
LAST-MODIFIED:20250917T124608Z
UID:10008835-1789285500-1789289100@saintthomaszanesville.org
SUMMARY:Mass
DESCRIPTION:
URL:https://saintthomaszanesville.org/event/mass-2-2/2026-09-13/
CATEGORIES:Mass
END:VEVENT
BEGIN:VEVENT
DTSTART;TZID=America/Detroit:20260920T074500
DTEND;TZID=America/Detroit:20260920T084500
DTSTAMP:20260420T052153
CREATED:20240626T174505Z
LAST-MODIFIED:20250917T124608Z
UID:10008836-1789890300-1789893900@saintthomaszanesville.org
SUMMARY:Mass
DESCRIPTION:
URL:https://saintthomaszanesville.org/event/mass-2-2/2026-09-20/
CATEGORIES:Mass
END:VEVENT
BEGIN:VEVENT
DTSTART;TZID=America/Detroit:20260927T074500
DTEND;TZID=America/Detroit:20260927T084500
DTSTAMP:20260420T052153
CREATED:20240626T174505Z
LAST-MODIFIED:20250917T124608Z
UID:10008837-1790495100-1790498700@saintthomaszanesville.org
SUMMARY:Mass
DESCRIPTION:
URL:https://saintthomaszanesville.org/event/mass-2-2/2026-09-27/
CATEGORIES:Mass
END:VEVENT
BEGIN:VEVENT
DTSTART;TZID=America/Detroit:20261004T074500
DTEND;TZID=America/Detroit:20261004T084500
DTSTAMP:20260420T052154
CREATED:20240626T174505Z
LAST-MODIFIED:20250917T124608Z
UID:10008838-1791099900-1791103500@saintthomaszanesville.org
SUMMARY:Mass
DESCRIPTION:
URL:https://saintthomaszanesville.org/event/mass-2-2/2026-10-04/
CATEGORIES:Mass
END:VEVENT
BEGIN:VEVENT
DTSTART;TZID=America/Detroit:20261011T074500
DTEND;TZID=America/Detroit:20261011T084500
DTSTAMP:20260420T052154
CREATED:20240626T174505Z
LAST-MODIFIED:20250917T124608Z
UID:10008839-1791704700-1791708300@saintthomaszanesville.org
SUMMARY:Mass
DESCRIPTION:
URL:https://saintthomaszanesville.org/event/mass-2-2/2026-10-11/
CATEGORIES:Mass
END:VEVENT
BEGIN:VEVENT
DTSTART;TZID=America/Detroit:20261018T074500
DTEND;TZID=America/Detroit:20261018T084500
DTSTAMP:20260420T052154
CREATED:20240626T174505Z
LAST-MODIFIED:20250917T124608Z
UID:10008840-1792309500-1792313100@saintthomaszanesville.org
SUMMARY:Mass
DESCRIPTION:
URL:https://saintthomaszanesville.org/event/mass-2-2/2026-10-18/
CATEGORIES:Mass
END:VEVENT
BEGIN:VEVENT
DTSTART;TZID=America/Detroit:20261025T074500
DTEND;TZID=America/Detroit:20261025T084500
DTSTAMP:20260420T052154
CREATED:20240626T174505Z
LAST-MODIFIED:20250917T124608Z
UID:10008841-1792914300-1792917900@saintthomaszanesville.org
SUMMARY:Mass
DESCRIPTION:
URL:https://saintthomaszanesville.org/event/mass-2-2/2026-10-25/
CATEGORIES:Mass
END:VEVENT
BEGIN:VEVENT
DTSTART;TZID=America/Detroit:20261101T074500
DTEND;TZID=America/Detroit:20261101T084500
DTSTAMP:20260420T052154
CREATED:20240626T174505Z
LAST-MODIFIED:20250917T124608Z
UID:10008842-1793519100-1793522700@saintthomaszanesville.org
SUMMARY:Mass
DESCRIPTION:
URL:https://saintthomaszanesville.org/event/mass-2-2/2026-11-01/
CATEGORIES:Mass
END:VEVENT
BEGIN:VEVENT
DTSTART;TZID=America/Detroit:20261108T074500
DTEND;TZID=America/Detroit:20261108T084500
DTSTAMP:20260420T052154
CREATED:20240626T174505Z
LAST-MODIFIED:20250917T124608Z
UID:10008843-1794123900-1794127500@saintthomaszanesville.org
SUMMARY:Mass
DESCRIPTION:
URL:https://saintthomaszanesville.org/event/mass-2-2/2026-11-08/
CATEGORIES:Mass
END:VEVENT
BEGIN:VEVENT
DTSTART;TZID=America/Detroit:20261115T074500
DTEND;TZID=America/Detroit:20261115T084500
DTSTAMP:20260420T052154
CREATED:20240626T174505Z
LAST-MODIFIED:20250917T124608Z
UID:10008844-1794728700-1794732300@saintthomaszanesville.org
SUMMARY:Mass
DESCRIPTION:
URL:https://saintthomaszanesville.org/event/mass-2-2/2026-11-15/
CATEGORIES:Mass
END:VEVENT
BEGIN:VEVENT
DTSTART;TZID=America/Detroit:20261122T074500
DTEND;TZID=America/Detroit:20261122T084500
DTSTAMP:20260420T052154
CREATED:20240626T174505Z
LAST-MODIFIED:20250917T124608Z
UID:10008845-1795333500-1795337100@saintthomaszanesville.org
SUMMARY:Mass
DESCRIPTION:
URL:https://saintthomaszanesville.org/event/mass-2-2/2026-11-22/
CATEGORIES:Mass
END:VEVENT
BEGIN:VEVENT
DTSTART;TZID=America/Detroit:20261129T074500
DTEND;TZID=America/Detroit:20261129T084500
DTSTAMP:20260420T052154
CREATED:20240626T174505Z
LAST-MODIFIED:20250917T124608Z
UID:10008846-1795938300-1795941900@saintthomaszanesville.org
SUMMARY:Mass
DESCRIPTION:
URL:https://saintthomaszanesville.org/event/mass-2-2/2026-11-29/
CATEGORIES:Mass
END:VEVENT
BEGIN:VEVENT
DTSTART;TZID=America/Detroit:20261206T074500
DTEND;TZID=America/Detroit:20261206T084500
DTSTAMP:20260420T052154
CREATED:20240626T174505Z
LAST-MODIFIED:20250917T124608Z
UID:10008847-1796543100-1796546700@saintthomaszanesville.org
SUMMARY:Mass
DESCRIPTION:
URL:https://saintthomaszanesville.org/event/mass-2-2/2026-12-06/
CATEGORIES:Mass
END:VEVENT
BEGIN:VEVENT
DTSTART;TZID=America/Detroit:20261213T074500
DTEND;TZID=America/Detroit:20261213T084500
DTSTAMP:20260420T052154
CREATED:20240626T174505Z
LAST-MODIFIED:20250917T124608Z
UID:10008848-1797147900-1797151500@saintthomaszanesville.org
SUMMARY:Mass
DESCRIPTION:
URL:https://saintthomaszanesville.org/event/mass-2-2/2026-12-13/
CATEGORIES:Mass
END:VEVENT
BEGIN:VEVENT
DTSTART;TZID=America/Detroit:20261220T074500
DTEND;TZID=America/Detroit:20261220T084500
DTSTAMP:20260420T052154
CREATED:20240626T174505Z
LAST-MODIFIED:20250917T124608Z
UID:10008849-1797752700-1797756300@saintthomaszanesville.org
SUMMARY:Mass
DESCRIPTION:
URL:https://saintthomaszanesville.org/event/mass-2-2/2026-12-20/
CATEGORIES:Mass
END:VEVENT
BEGIN:VEVENT
DTSTART;TZID=America/Detroit:20261227T074500
DTEND;TZID=America/Detroit:20261227T084500
DTSTAMP:20260420T052154
CREATED:20240626T174505Z
LAST-MODIFIED:20250917T124608Z
UID:10008850-1798357500-1798361100@saintthomaszanesville.org
SUMMARY:Mass
DESCRIPTION:
URL:https://saintthomaszanesville.org/event/mass-2-2/2026-12-27/
CATEGORIES:Mass
END:VEVENT
BEGIN:VEVENT
DTSTART;TZID=America/Detroit:20270103T074500
DTEND;TZID=America/Detroit:20270103T084500
DTSTAMP:20260420T052154
CREATED:20240626T174505Z
LAST-MODIFIED:20250917T124608Z
UID:10008851-1798962300-1798965900@saintthomaszanesville.org
SUMMARY:Mass
DESCRIPTION:
URL:https://saintthomaszanesville.org/event/mass-2-2/2027-01-03/
CATEGORIES:Mass
END:VEVENT
BEGIN:VEVENT
DTSTART;TZID=America/Detroit:20270110T074500
DTEND;TZID=America/Detroit:20270110T084500
DTSTAMP:20260420T052154
CREATED:20240626T174505Z
LAST-MODIFIED:20250917T124608Z
UID:10008852-1799567100-1799570700@saintthomaszanesville.org
SUMMARY:Mass
DESCRIPTION:
URL:https://saintthomaszanesville.org/event/mass-2-2/2027-01-10/
CATEGORIES:Mass
END:VEVENT
BEGIN:VEVENT
DTSTART;TZID=America/Detroit:20270117T074500
DTEND;TZID=America/Detroit:20270117T084500
DTSTAMP:20260420T052154
CREATED:20240626T174505Z
LAST-MODIFIED:20250917T124608Z
UID:10008853-1800171900-1800175500@saintthomaszanesville.org
SUMMARY:Mass
DESCRIPTION:
URL:https://saintthomaszanesville.org/event/mass-2-2/2027-01-17/
CATEGORIES:Mass
END:VEVENT
BEGIN:VEVENT
DTSTART;TZID=America/Detroit:20270124T074500
DTEND;TZID=America/Detroit:20270124T084500
DTSTAMP:20260420T052154
CREATED:20240626T174505Z
LAST-MODIFIED:20250917T124608Z
UID:10008854-1800776700-1800780300@saintthomaszanesville.org
SUMMARY:Mass
DESCRIPTION:
URL:https://saintthomaszanesville.org/event/mass-2-2/2027-01-24/
CATEGORIES:Mass
END:VEVENT
BEGIN:VEVENT
DTSTART;TZID=America/Detroit:20270131T074500
DTEND;TZID=America/Detroit:20270131T084500
DTSTAMP:20260420T052154
CREATED:20240626T174505Z
LAST-MODIFIED:20250917T124608Z
UID:10008855-1801381500-1801385100@saintthomaszanesville.org
SUMMARY:Mass
DESCRIPTION:
URL:https://saintthomaszanesville.org/event/mass-2-2/2027-01-31/
CATEGORIES:Mass
END:VEVENT
BEGIN:VEVENT
DTSTART;TZID=America/Detroit:20270207T074500
DTEND;TZID=America/Detroit:20270207T084500
DTSTAMP:20260420T052154
CREATED:20240626T174505Z
LAST-MODIFIED:20250917T124608Z
UID:10008856-1801986300-1801989900@saintthomaszanesville.org
SUMMARY:Mass
DESCRIPTION:
URL:https://saintthomaszanesville.org/event/mass-2-2/2027-02-07/
CATEGORIES:Mass
END:VEVENT
END:VCALENDAR