BEGIN:VCALENDAR
VERSION:2.0
PRODID:-//Saint Thomas Acquinas Zanesville - ECPv6.15.20//NONSGML v1.0//EN
CALSCALE:GREGORIAN
METHOD:PUBLISH
X-ORIGINAL-URL:https://saintthomaszanesville.org
X-WR-CALDESC:Events for Saint Thomas Acquinas Zanesville
REFRESH-INTERVAL;VALUE=DURATION:PT1H
X-Robots-Tag:noindex
X-PUBLISHED-TTL:PT1H
BEGIN:VTIMEZONE
TZID:America/Detroit
BEGIN:DAYLIGHT
TZOFFSETFROM:-0500
TZOFFSETTO:-0400
TZNAME:EDT
DTSTART:20280312T070000
END:DAYLIGHT
BEGIN:STANDARD
TZOFFSETFROM:-0400
TZOFFSETTO:-0500
TZNAME:EST
DTSTART:20281105T060000
END:STANDARD
BEGIN:DAYLIGHT
TZOFFSETFROM:-0500
TZOFFSETTO:-0400
TZNAME:EDT
DTSTART:20290311T070000
END:DAYLIGHT
BEGIN:STANDARD
TZOFFSETFROM:-0400
TZOFFSETTO:-0500
TZNAME:EST
DTSTART:20291104T060000
END:STANDARD
BEGIN:DAYLIGHT
TZOFFSETFROM:-0500
TZOFFSETTO:-0400
TZNAME:EDT
DTSTART:20300310T070000
END:DAYLIGHT
BEGIN:STANDARD
TZOFFSETFROM:-0400
TZOFFSETTO:-0500
TZNAME:EST
DTSTART:20301103T060000
END:STANDARD
END:VTIMEZONE
BEGIN:VEVENT
DTSTART;TZID=America/Detroit:20290422T074500
DTEND;TZID=America/Detroit:20290422T084500
DTSTAMP:20260421T073933
CREATED:20240626T174505Z
LAST-MODIFIED:20250917T124608Z
UID:10008971-1871538300-1871541900@saintthomaszanesville.org
SUMMARY:Mass
DESCRIPTION:
URL:https://saintthomaszanesville.org/event/mass-2-2/2029-04-22/
CATEGORIES:Mass
END:VEVENT
BEGIN:VEVENT
DTSTART;TZID=America/Detroit:20290429T074500
DTEND;TZID=America/Detroit:20290429T084500
DTSTAMP:20260421T073933
CREATED:20240626T174505Z
LAST-MODIFIED:20250917T124608Z
UID:10008972-1872143100-1872146700@saintthomaszanesville.org
SUMMARY:Mass
DESCRIPTION:
URL:https://saintthomaszanesville.org/event/mass-2-2/2029-04-29/
CATEGORIES:Mass
END:VEVENT
BEGIN:VEVENT
DTSTART;TZID=America/Detroit:20290506T074500
DTEND;TZID=America/Detroit:20290506T084500
DTSTAMP:20260421T073933
CREATED:20240626T174505Z
LAST-MODIFIED:20250917T124608Z
UID:10008973-1872747900-1872751500@saintthomaszanesville.org
SUMMARY:Mass
DESCRIPTION:
URL:https://saintthomaszanesville.org/event/mass-2-2/2029-05-06/
CATEGORIES:Mass
END:VEVENT
BEGIN:VEVENT
DTSTART;TZID=America/Detroit:20290513T074500
DTEND;TZID=America/Detroit:20290513T084500
DTSTAMP:20260421T073933
CREATED:20240626T174505Z
LAST-MODIFIED:20250917T124608Z
UID:10008974-1873352700-1873356300@saintthomaszanesville.org
SUMMARY:Mass
DESCRIPTION:
URL:https://saintthomaszanesville.org/event/mass-2-2/2029-05-13/
CATEGORIES:Mass
END:VEVENT
BEGIN:VEVENT
DTSTART;TZID=America/Detroit:20290520T074500
DTEND;TZID=America/Detroit:20290520T084500
DTSTAMP:20260421T073933
CREATED:20240626T174505Z
LAST-MODIFIED:20250917T124608Z
UID:10008975-1873957500-1873961100@saintthomaszanesville.org
SUMMARY:Mass
DESCRIPTION:
URL:https://saintthomaszanesville.org/event/mass-2-2/2029-05-20/
CATEGORIES:Mass
END:VEVENT
BEGIN:VEVENT
DTSTART;TZID=America/Detroit:20290527T074500
DTEND;TZID=America/Detroit:20290527T084500
DTSTAMP:20260421T073933
CREATED:20240626T174505Z
LAST-MODIFIED:20250917T124608Z
UID:10008976-1874562300-1874565900@saintthomaszanesville.org
SUMMARY:Mass
DESCRIPTION:
URL:https://saintthomaszanesville.org/event/mass-2-2/2029-05-27/
CATEGORIES:Mass
END:VEVENT
BEGIN:VEVENT
DTSTART;TZID=America/Detroit:20290603T074500
DTEND;TZID=America/Detroit:20290603T084500
DTSTAMP:20260421T073933
CREATED:20240626T174505Z
LAST-MODIFIED:20250917T124608Z
UID:10008977-1875167100-1875170700@saintthomaszanesville.org
SUMMARY:Mass
DESCRIPTION:
URL:https://saintthomaszanesville.org/event/mass-2-2/2029-06-03/
CATEGORIES:Mass
END:VEVENT
BEGIN:VEVENT
DTSTART;TZID=America/Detroit:20290610T074500
DTEND;TZID=America/Detroit:20290610T084500
DTSTAMP:20260421T073933
CREATED:20240626T174505Z
LAST-MODIFIED:20250917T124608Z
UID:10008978-1875771900-1875775500@saintthomaszanesville.org
SUMMARY:Mass
DESCRIPTION:
URL:https://saintthomaszanesville.org/event/mass-2-2/2029-06-10/
CATEGORIES:Mass
END:VEVENT
BEGIN:VEVENT
DTSTART;TZID=America/Detroit:20290617T074500
DTEND;TZID=America/Detroit:20290617T084500
DTSTAMP:20260421T073933
CREATED:20240626T174505Z
LAST-MODIFIED:20250917T124608Z
UID:10008979-1876376700-1876380300@saintthomaszanesville.org
SUMMARY:Mass
DESCRIPTION:
URL:https://saintthomaszanesville.org/event/mass-2-2/2029-06-17/
CATEGORIES:Mass
END:VEVENT
BEGIN:VEVENT
DTSTART;TZID=America/Detroit:20290624T074500
DTEND;TZID=America/Detroit:20290624T084500
DTSTAMP:20260421T073933
CREATED:20240626T174505Z
LAST-MODIFIED:20250917T124608Z
UID:10008980-1876981500-1876985100@saintthomaszanesville.org
SUMMARY:Mass
DESCRIPTION:
URL:https://saintthomaszanesville.org/event/mass-2-2/2029-06-24/
CATEGORIES:Mass
END:VEVENT
BEGIN:VEVENT
DTSTART;TZID=America/Detroit:20290701T074500
DTEND;TZID=America/Detroit:20290701T084500
DTSTAMP:20260421T073933
CREATED:20240626T174505Z
LAST-MODIFIED:20250917T124608Z
UID:10009322-1877586300-1877589900@saintthomaszanesville.org
SUMMARY:Mass
DESCRIPTION:
URL:https://saintthomaszanesville.org/event/mass-2-2/2029-07-01/
CATEGORIES:Mass
END:VEVENT
BEGIN:VEVENT
DTSTART;TZID=America/Detroit:20290708T074500
DTEND;TZID=America/Detroit:20290708T084500
DTSTAMP:20260421T073933
CREATED:20240626T174505Z
LAST-MODIFIED:20250917T124608Z
UID:10009323-1878191100-1878194700@saintthomaszanesville.org
SUMMARY:Mass
DESCRIPTION:
URL:https://saintthomaszanesville.org/event/mass-2-2/2029-07-08/
CATEGORIES:Mass
END:VEVENT
BEGIN:VEVENT
DTSTART;TZID=America/Detroit:20290715T074500
DTEND;TZID=America/Detroit:20290715T084500
DTSTAMP:20260421T073933
CREATED:20240626T174505Z
LAST-MODIFIED:20250917T124608Z
UID:10009324-1878795900-1878799500@saintthomaszanesville.org
SUMMARY:Mass
DESCRIPTION:
URL:https://saintthomaszanesville.org/event/mass-2-2/2029-07-15/
CATEGORIES:Mass
END:VEVENT
BEGIN:VEVENT
DTSTART;TZID=America/Detroit:20290722T074500
DTEND;TZID=America/Detroit:20290722T084500
DTSTAMP:20260421T073933
CREATED:20240626T174505Z
LAST-MODIFIED:20250917T124608Z
UID:10009325-1879400700-1879404300@saintthomaszanesville.org
SUMMARY:Mass
DESCRIPTION:
URL:https://saintthomaszanesville.org/event/mass-2-2/2029-07-22/
CATEGORIES:Mass
END:VEVENT
BEGIN:VEVENT
DTSTART;TZID=America/Detroit:20290729T074500
DTEND;TZID=America/Detroit:20290729T084500
DTSTAMP:20260421T073933
CREATED:20240626T174505Z
LAST-MODIFIED:20250917T124608Z
UID:10009326-1880005500-1880009100@saintthomaszanesville.org
SUMMARY:Mass
DESCRIPTION:
URL:https://saintthomaszanesville.org/event/mass-2-2/2029-07-29/
CATEGORIES:Mass
END:VEVENT
BEGIN:VEVENT
DTSTART;TZID=America/Detroit:20290805T074500
DTEND;TZID=America/Detroit:20290805T084500
DTSTAMP:20260421T073933
CREATED:20240626T174505Z
LAST-MODIFIED:20250917T124608Z
UID:10009327-1880610300-1880613900@saintthomaszanesville.org
SUMMARY:Mass
DESCRIPTION:
URL:https://saintthomaszanesville.org/event/mass-2-2/2029-08-05/
CATEGORIES:Mass
END:VEVENT
BEGIN:VEVENT
DTSTART;TZID=America/Detroit:20290812T074500
DTEND;TZID=America/Detroit:20290812T084500
DTSTAMP:20260421T073933
CREATED:20240626T174505Z
LAST-MODIFIED:20250917T124608Z
UID:10009328-1881215100-1881218700@saintthomaszanesville.org
SUMMARY:Mass
DESCRIPTION:
URL:https://saintthomaszanesville.org/event/mass-2-2/2029-08-12/
CATEGORIES:Mass
END:VEVENT
BEGIN:VEVENT
DTSTART;TZID=America/Detroit:20290819T074500
DTEND;TZID=America/Detroit:20290819T084500
DTSTAMP:20260421T073933
CREATED:20240626T174505Z
LAST-MODIFIED:20250917T124608Z
UID:10009329-1881819900-1881823500@saintthomaszanesville.org
SUMMARY:Mass
DESCRIPTION:
URL:https://saintthomaszanesville.org/event/mass-2-2/2029-08-19/
CATEGORIES:Mass
END:VEVENT
BEGIN:VEVENT
DTSTART;TZID=America/Detroit:20290826T074500
DTEND;TZID=America/Detroit:20290826T084500
DTSTAMP:20260421T073933
CREATED:20240626T174505Z
LAST-MODIFIED:20250917T124608Z
UID:10009330-1882424700-1882428300@saintthomaszanesville.org
SUMMARY:Mass
DESCRIPTION:
URL:https://saintthomaszanesville.org/event/mass-2-2/2029-08-26/
CATEGORIES:Mass
END:VEVENT
BEGIN:VEVENT
DTSTART;TZID=America/Detroit:20290902T074500
DTEND;TZID=America/Detroit:20290902T084500
DTSTAMP:20260421T073933
CREATED:20240626T174505Z
LAST-MODIFIED:20250917T124608Z
UID:10009654-1883029500-1883033100@saintthomaszanesville.org
SUMMARY:Mass
DESCRIPTION:
URL:https://saintthomaszanesville.org/event/mass-2-2/2029-09-02/
CATEGORIES:Mass
END:VEVENT
BEGIN:VEVENT
DTSTART;TZID=America/Detroit:20290909T074500
DTEND;TZID=America/Detroit:20290909T084500
DTSTAMP:20260421T073933
CREATED:20240626T174505Z
LAST-MODIFIED:20250917T124608Z
UID:10009655-1883634300-1883637900@saintthomaszanesville.org
SUMMARY:Mass
DESCRIPTION:
URL:https://saintthomaszanesville.org/event/mass-2-2/2029-09-09/
CATEGORIES:Mass
END:VEVENT
BEGIN:VEVENT
DTSTART;TZID=America/Detroit:20290916T074500
DTEND;TZID=America/Detroit:20290916T084500
DTSTAMP:20260421T073933
CREATED:20240626T174505Z
LAST-MODIFIED:20250917T124608Z
UID:10009656-1884239100-1884242700@saintthomaszanesville.org
SUMMARY:Mass
DESCRIPTION:
URL:https://saintthomaszanesville.org/event/mass-2-2/2029-09-16/
CATEGORIES:Mass
END:VEVENT
BEGIN:VEVENT
DTSTART;TZID=America/Detroit:20290923T074500
DTEND;TZID=America/Detroit:20290923T084500
DTSTAMP:20260421T073933
CREATED:20240626T174505Z
LAST-MODIFIED:20250917T124608Z
UID:10009657-1884843900-1884847500@saintthomaszanesville.org
SUMMARY:Mass
DESCRIPTION:
URL:https://saintthomaszanesville.org/event/mass-2-2/2029-09-23/
CATEGORIES:Mass
END:VEVENT
BEGIN:VEVENT
DTSTART;TZID=America/Detroit:20290930T074500
DTEND;TZID=America/Detroit:20290930T084500
DTSTAMP:20260421T073933
CREATED:20240626T174505Z
LAST-MODIFIED:20250917T124608Z
UID:10009658-1885448700-1885452300@saintthomaszanesville.org
SUMMARY:Mass
DESCRIPTION:
URL:https://saintthomaszanesville.org/event/mass-2-2/2029-09-30/
CATEGORIES:Mass
END:VEVENT
BEGIN:VEVENT
DTSTART;TZID=America/Detroit:20291007T074500
DTEND;TZID=America/Detroit:20291007T084500
DTSTAMP:20260421T073933
CREATED:20240626T174505Z
LAST-MODIFIED:20250917T124608Z
UID:10009659-1886053500-1886057100@saintthomaszanesville.org
SUMMARY:Mass
DESCRIPTION:
URL:https://saintthomaszanesville.org/event/mass-2-2/2029-10-07/
CATEGORIES:Mass
END:VEVENT
BEGIN:VEVENT
DTSTART;TZID=America/Detroit:20291014T074500
DTEND;TZID=America/Detroit:20291014T084500
DTSTAMP:20260421T073933
CREATED:20240626T174505Z
LAST-MODIFIED:20250917T124608Z
UID:10009660-1886658300-1886661900@saintthomaszanesville.org
SUMMARY:Mass
DESCRIPTION:
URL:https://saintthomaszanesville.org/event/mass-2-2/2029-10-14/
CATEGORIES:Mass
END:VEVENT
BEGIN:VEVENT
DTSTART;TZID=America/Detroit:20291021T074500
DTEND;TZID=America/Detroit:20291021T084500
DTSTAMP:20260421T073933
CREATED:20240626T174505Z
LAST-MODIFIED:20250917T124608Z
UID:10009661-1887263100-1887266700@saintthomaszanesville.org
SUMMARY:Mass
DESCRIPTION:
URL:https://saintthomaszanesville.org/event/mass-2-2/2029-10-21/
CATEGORIES:Mass
END:VEVENT
BEGIN:VEVENT
DTSTART;TZID=America/Detroit:20291028T074500
DTEND;TZID=America/Detroit:20291028T084500
DTSTAMP:20260421T073933
CREATED:20240626T174505Z
LAST-MODIFIED:20250917T124608Z
UID:10009662-1887867900-1887871500@saintthomaszanesville.org
SUMMARY:Mass
DESCRIPTION:
URL:https://saintthomaszanesville.org/event/mass-2-2/2029-10-28/
CATEGORIES:Mass
END:VEVENT
BEGIN:VEVENT
DTSTART;TZID=America/Detroit:20291104T074500
DTEND;TZID=America/Detroit:20291104T084500
DTSTAMP:20260421T073933
CREATED:20240626T174505Z
LAST-MODIFIED:20250917T124608Z
UID:10009663-1888472700-1888476300@saintthomaszanesville.org
SUMMARY:Mass
DESCRIPTION:
URL:https://saintthomaszanesville.org/event/mass-2-2/2029-11-04/
CATEGORIES:Mass
END:VEVENT
BEGIN:VEVENT
DTSTART;TZID=America/Detroit:20291111T074500
DTEND;TZID=America/Detroit:20291111T084500
DTSTAMP:20260421T073933
CREATED:20240626T174505Z
LAST-MODIFIED:20250917T124608Z
UID:10009664-1889077500-1889081100@saintthomaszanesville.org
SUMMARY:Mass
DESCRIPTION:
URL:https://saintthomaszanesville.org/event/mass-2-2/2029-11-11/
CATEGORIES:Mass
END:VEVENT
END:VCALENDAR