BEGIN:VCALENDAR
VERSION:2.0
PRODID:-//Saint Thomas Acquinas Zanesville - ECPv6.15.20//NONSGML v1.0//EN
CALSCALE:GREGORIAN
METHOD:PUBLISH
X-WR-CALNAME:Saint Thomas Acquinas Zanesville
X-ORIGINAL-URL:https://saintthomaszanesville.org
X-WR-CALDESC:Events for Saint Thomas Acquinas Zanesville
REFRESH-INTERVAL;VALUE=DURATION:PT1H
X-Robots-Tag:noindex
X-PUBLISHED-TTL:PT1H
BEGIN:VTIMEZONE
TZID:America/Detroit
BEGIN:DAYLIGHT
TZOFFSETFROM:-0500
TZOFFSETTO:-0400
TZNAME:EDT
DTSTART:20260308T070000
END:DAYLIGHT
BEGIN:STANDARD
TZOFFSETFROM:-0400
TZOFFSETTO:-0500
TZNAME:EST
DTSTART:20261101T060000
END:STANDARD
BEGIN:DAYLIGHT
TZOFFSETFROM:-0500
TZOFFSETTO:-0400
TZNAME:EDT
DTSTART:20270314T070000
END:DAYLIGHT
BEGIN:STANDARD
TZOFFSETFROM:-0400
TZOFFSETTO:-0500
TZNAME:EST
DTSTART:20271107T060000
END:STANDARD
BEGIN:DAYLIGHT
TZOFFSETFROM:-0500
TZOFFSETTO:-0400
TZNAME:EDT
DTSTART:20280312T070000
END:DAYLIGHT
BEGIN:STANDARD
TZOFFSETFROM:-0400
TZOFFSETTO:-0500
TZNAME:EST
DTSTART:20281105T060000
END:STANDARD
BEGIN:DAYLIGHT
TZOFFSETFROM:-0500
TZOFFSETTO:-0400
TZNAME:EDT
DTSTART:20290311T070000
END:DAYLIGHT
BEGIN:STANDARD
TZOFFSETFROM:-0400
TZOFFSETTO:-0500
TZNAME:EST
DTSTART:20291104T060000
END:STANDARD
END:VTIMEZONE
BEGIN:VEVENT
DTSTART;TZID=America/Detroit:20271205T110000
DTEND;TZID=America/Detroit:20271205T120000
DTSTAMP:20260420T211053
CREATED:20240626T174409Z
LAST-MODIFIED:20241205T172135Z
UID:10009164-1828004400-1828008000@saintthomaszanesville.org
SUMMARY:Mass
DESCRIPTION:
URL:https://saintthomaszanesville.org/event/mass-2/2027-12-05/
CATEGORIES:Mass
END:VEVENT
BEGIN:VEVENT
DTSTART;TZID=America/Detroit:20271212T110000
DTEND;TZID=America/Detroit:20271212T120000
DTSTAMP:20260420T211053
CREATED:20240626T174409Z
LAST-MODIFIED:20241205T172135Z
UID:10009165-1828609200-1828612800@saintthomaszanesville.org
SUMMARY:Mass
DESCRIPTION:
URL:https://saintthomaszanesville.org/event/mass-2/2027-12-12/
CATEGORIES:Mass
END:VEVENT
BEGIN:VEVENT
DTSTART;TZID=America/Detroit:20271219T110000
DTEND;TZID=America/Detroit:20271219T120000
DTSTAMP:20260420T211053
CREATED:20240626T174409Z
LAST-MODIFIED:20241205T172135Z
UID:10009166-1829214000-1829217600@saintthomaszanesville.org
SUMMARY:Mass
DESCRIPTION:
URL:https://saintthomaszanesville.org/event/mass-2/2027-12-19/
CATEGORIES:Mass
END:VEVENT
BEGIN:VEVENT
DTSTART;TZID=America/Detroit:20271226T110000
DTEND;TZID=America/Detroit:20271226T120000
DTSTAMP:20260420T211053
CREATED:20240626T174409Z
LAST-MODIFIED:20241205T172135Z
UID:10009167-1829818800-1829822400@saintthomaszanesville.org
SUMMARY:Mass
DESCRIPTION:
URL:https://saintthomaszanesville.org/event/mass-2/2027-12-26/
CATEGORIES:Mass
END:VEVENT
BEGIN:VEVENT
DTSTART;TZID=America/Detroit:20280102T110000
DTEND;TZID=America/Detroit:20280102T120000
DTSTAMP:20260420T211053
CREATED:20240626T174409Z
LAST-MODIFIED:20241205T172135Z
UID:10009168-1830423600-1830427200@saintthomaszanesville.org
SUMMARY:Mass
DESCRIPTION:
URL:https://saintthomaszanesville.org/event/mass-2/2028-01-02/
CATEGORIES:Mass
END:VEVENT
BEGIN:VEVENT
DTSTART;TZID=America/Detroit:20280109T110000
DTEND;TZID=America/Detroit:20280109T120000
DTSTAMP:20260420T211053
CREATED:20240626T174409Z
LAST-MODIFIED:20241205T172135Z
UID:10009169-1831028400-1831032000@saintthomaszanesville.org
SUMMARY:Mass
DESCRIPTION:
URL:https://saintthomaszanesville.org/event/mass-2/2028-01-09/
CATEGORIES:Mass
END:VEVENT
BEGIN:VEVENT
DTSTART;TZID=America/Detroit:20280116T110000
DTEND;TZID=America/Detroit:20280116T120000
DTSTAMP:20260420T211053
CREATED:20240626T174409Z
LAST-MODIFIED:20241205T172135Z
UID:10009170-1831633200-1831636800@saintthomaszanesville.org
SUMMARY:Mass
DESCRIPTION:
URL:https://saintthomaszanesville.org/event/mass-2/2028-01-16/
CATEGORIES:Mass
END:VEVENT
BEGIN:VEVENT
DTSTART;TZID=America/Detroit:20280123T110000
DTEND;TZID=America/Detroit:20280123T120000
DTSTAMP:20260420T211053
CREATED:20240626T174409Z
LAST-MODIFIED:20241205T172135Z
UID:10009171-1832238000-1832241600@saintthomaszanesville.org
SUMMARY:Mass
DESCRIPTION:
URL:https://saintthomaszanesville.org/event/mass-2/2028-01-23/
CATEGORIES:Mass
END:VEVENT
BEGIN:VEVENT
DTSTART;TZID=America/Detroit:20280130T110000
DTEND;TZID=America/Detroit:20280130T120000
DTSTAMP:20260420T211053
CREATED:20240626T174409Z
LAST-MODIFIED:20241205T172135Z
UID:10009172-1832842800-1832846400@saintthomaszanesville.org
SUMMARY:Mass
DESCRIPTION:
URL:https://saintthomaszanesville.org/event/mass-2/2028-01-30/
CATEGORIES:Mass
END:VEVENT
BEGIN:VEVENT
DTSTART;TZID=America/Detroit:20280206T110000
DTEND;TZID=America/Detroit:20280206T120000
DTSTAMP:20260420T211053
CREATED:20240626T174409Z
LAST-MODIFIED:20241205T172135Z
UID:10009173-1833447600-1833451200@saintthomaszanesville.org
SUMMARY:Mass
DESCRIPTION:
URL:https://saintthomaszanesville.org/event/mass-2/2028-02-06/
CATEGORIES:Mass
END:VEVENT
BEGIN:VEVENT
DTSTART;TZID=America/Detroit:20280213T110000
DTEND;TZID=America/Detroit:20280213T120000
DTSTAMP:20260420T211053
CREATED:20240626T174409Z
LAST-MODIFIED:20241205T172135Z
UID:10009174-1834052400-1834056000@saintthomaszanesville.org
SUMMARY:Mass
DESCRIPTION:
URL:https://saintthomaszanesville.org/event/mass-2/2028-02-13/
CATEGORIES:Mass
END:VEVENT
BEGIN:VEVENT
DTSTART;TZID=America/Detroit:20280220T110000
DTEND;TZID=America/Detroit:20280220T120000
DTSTAMP:20260420T211053
CREATED:20240626T174409Z
LAST-MODIFIED:20241205T172135Z
UID:10009175-1834657200-1834660800@saintthomaszanesville.org
SUMMARY:Mass
DESCRIPTION:
URL:https://saintthomaszanesville.org/event/mass-2/2028-02-20/
CATEGORIES:Mass
END:VEVENT
BEGIN:VEVENT
DTSTART;TZID=America/Detroit:20280227T110000
DTEND;TZID=America/Detroit:20280227T120000
DTSTAMP:20260420T211053
CREATED:20240626T174409Z
LAST-MODIFIED:20241205T172135Z
UID:10009176-1835262000-1835265600@saintthomaszanesville.org
SUMMARY:Mass
DESCRIPTION:
URL:https://saintthomaszanesville.org/event/mass-2/2028-02-27/
CATEGORIES:Mass
END:VEVENT
BEGIN:VEVENT
DTSTART;TZID=America/Detroit:20280305T110000
DTEND;TZID=America/Detroit:20280305T120000
DTSTAMP:20260420T211053
CREATED:20240626T174409Z
LAST-MODIFIED:20241205T172135Z
UID:10009177-1835866800-1835870400@saintthomaszanesville.org
SUMMARY:Mass
DESCRIPTION:
URL:https://saintthomaszanesville.org/event/mass-2/2028-03-05/
CATEGORIES:Mass
END:VEVENT
BEGIN:VEVENT
DTSTART;TZID=America/Detroit:20280312T110000
DTEND;TZID=America/Detroit:20280312T120000
DTSTAMP:20260420T211053
CREATED:20240626T174409Z
LAST-MODIFIED:20241205T172135Z
UID:10009178-1836471600-1836475200@saintthomaszanesville.org
SUMMARY:Mass
DESCRIPTION:
URL:https://saintthomaszanesville.org/event/mass-2/2028-03-12/
CATEGORIES:Mass
END:VEVENT
BEGIN:VEVENT
DTSTART;TZID=America/Detroit:20280319T110000
DTEND;TZID=America/Detroit:20280319T120000
DTSTAMP:20260420T211053
CREATED:20240626T174409Z
LAST-MODIFIED:20241205T172135Z
UID:10009179-1837076400-1837080000@saintthomaszanesville.org
SUMMARY:Mass
DESCRIPTION:
URL:https://saintthomaszanesville.org/event/mass-2/2028-03-19/
CATEGORIES:Mass
END:VEVENT
BEGIN:VEVENT
DTSTART;TZID=America/Detroit:20280326T110000
DTEND;TZID=America/Detroit:20280326T120000
DTSTAMP:20260420T211053
CREATED:20240626T174409Z
LAST-MODIFIED:20241205T172135Z
UID:10009180-1837681200-1837684800@saintthomaszanesville.org
SUMMARY:Mass
DESCRIPTION:
URL:https://saintthomaszanesville.org/event/mass-2/2028-03-26/
CATEGORIES:Mass
END:VEVENT
BEGIN:VEVENT
DTSTART;TZID=America/Detroit:20280402T110000
DTEND;TZID=America/Detroit:20280402T120000
DTSTAMP:20260420T211053
CREATED:20240626T174409Z
LAST-MODIFIED:20241205T172135Z
UID:10009181-1838286000-1838289600@saintthomaszanesville.org
SUMMARY:Mass
DESCRIPTION:
URL:https://saintthomaszanesville.org/event/mass-2/2028-04-02/
CATEGORIES:Mass
END:VEVENT
BEGIN:VEVENT
DTSTART;TZID=America/Detroit:20280409T110000
DTEND;TZID=America/Detroit:20280409T120000
DTSTAMP:20260420T211053
CREATED:20240626T174409Z
LAST-MODIFIED:20241205T172135Z
UID:10009182-1838890800-1838894400@saintthomaszanesville.org
SUMMARY:Mass
DESCRIPTION:
URL:https://saintthomaszanesville.org/event/mass-2/2028-04-09/
CATEGORIES:Mass
END:VEVENT
BEGIN:VEVENT
DTSTART;TZID=America/Detroit:20280416T110000
DTEND;TZID=America/Detroit:20280416T120000
DTSTAMP:20260420T211053
CREATED:20240626T174409Z
LAST-MODIFIED:20241205T172135Z
UID:10009183-1839495600-1839499200@saintthomaszanesville.org
SUMMARY:Mass
DESCRIPTION:
URL:https://saintthomaszanesville.org/event/mass-2/2028-04-16/
CATEGORIES:Mass
END:VEVENT
BEGIN:VEVENT
DTSTART;TZID=America/Detroit:20280423T110000
DTEND;TZID=America/Detroit:20280423T120000
DTSTAMP:20260420T211053
CREATED:20240626T174409Z
LAST-MODIFIED:20241205T172135Z
UID:10009184-1840100400-1840104000@saintthomaszanesville.org
SUMMARY:Mass
DESCRIPTION:
URL:https://saintthomaszanesville.org/event/mass-2/2028-04-23/
CATEGORIES:Mass
END:VEVENT
BEGIN:VEVENT
DTSTART;TZID=America/Detroit:20280430T110000
DTEND;TZID=America/Detroit:20280430T120000
DTSTAMP:20260420T211053
CREATED:20240626T174409Z
LAST-MODIFIED:20241205T172135Z
UID:10009185-1840705200-1840708800@saintthomaszanesville.org
SUMMARY:Mass
DESCRIPTION:
URL:https://saintthomaszanesville.org/event/mass-2/2028-04-30/
CATEGORIES:Mass
END:VEVENT
BEGIN:VEVENT
DTSTART;TZID=America/Detroit:20280507T110000
DTEND;TZID=America/Detroit:20280507T120000
DTSTAMP:20260420T211053
CREATED:20240626T174409Z
LAST-MODIFIED:20241205T172135Z
UID:10009186-1841310000-1841313600@saintthomaszanesville.org
SUMMARY:Mass
DESCRIPTION:
URL:https://saintthomaszanesville.org/event/mass-2/2028-05-07/
CATEGORIES:Mass
END:VEVENT
BEGIN:VEVENT
DTSTART;TZID=America/Detroit:20280514T110000
DTEND;TZID=America/Detroit:20280514T120000
DTSTAMP:20260420T211053
CREATED:20240626T174409Z
LAST-MODIFIED:20241205T172135Z
UID:10009187-1841914800-1841918400@saintthomaszanesville.org
SUMMARY:Mass
DESCRIPTION:
URL:https://saintthomaszanesville.org/event/mass-2/2028-05-14/
CATEGORIES:Mass
END:VEVENT
BEGIN:VEVENT
DTSTART;TZID=America/Detroit:20280521T110000
DTEND;TZID=America/Detroit:20280521T120000
DTSTAMP:20260420T211053
CREATED:20240626T174409Z
LAST-MODIFIED:20241205T172135Z
UID:10009188-1842519600-1842523200@saintthomaszanesville.org
SUMMARY:Mass
DESCRIPTION:
URL:https://saintthomaszanesville.org/event/mass-2/2028-05-21/
CATEGORIES:Mass
END:VEVENT
BEGIN:VEVENT
DTSTART;TZID=America/Detroit:20280528T110000
DTEND;TZID=America/Detroit:20280528T120000
DTSTAMP:20260420T211053
CREATED:20240626T174409Z
LAST-MODIFIED:20241205T172135Z
UID:10009189-1843124400-1843128000@saintthomaszanesville.org
SUMMARY:Mass
DESCRIPTION:
URL:https://saintthomaszanesville.org/event/mass-2/2028-05-28/
CATEGORIES:Mass
END:VEVENT
BEGIN:VEVENT
DTSTART;TZID=America/Detroit:20280604T110000
DTEND;TZID=America/Detroit:20280604T120000
DTSTAMP:20260420T211053
CREATED:20240626T174409Z
LAST-MODIFIED:20241205T172135Z
UID:10009190-1843729200-1843732800@saintthomaszanesville.org
SUMMARY:Mass
DESCRIPTION:
URL:https://saintthomaszanesville.org/event/mass-2/2028-06-04/
CATEGORIES:Mass
END:VEVENT
BEGIN:VEVENT
DTSTART;TZID=America/Detroit:20280611T110000
DTEND;TZID=America/Detroit:20280611T120000
DTSTAMP:20260420T211053
CREATED:20240626T174409Z
LAST-MODIFIED:20241205T172135Z
UID:10009191-1844334000-1844337600@saintthomaszanesville.org
SUMMARY:Mass
DESCRIPTION:
URL:https://saintthomaszanesville.org/event/mass-2/2028-06-11/
CATEGORIES:Mass
END:VEVENT
BEGIN:VEVENT
DTSTART;TZID=America/Detroit:20280618T110000
DTEND;TZID=America/Detroit:20280618T120000
DTSTAMP:20260420T211053
CREATED:20240626T174409Z
LAST-MODIFIED:20241205T172135Z
UID:10009192-1844938800-1844942400@saintthomaszanesville.org
SUMMARY:Mass
DESCRIPTION:
URL:https://saintthomaszanesville.org/event/mass-2/2028-06-18/
CATEGORIES:Mass
END:VEVENT
BEGIN:VEVENT
DTSTART;TZID=America/Detroit:20280625T110000
DTEND;TZID=America/Detroit:20280625T120000
DTSTAMP:20260420T211053
CREATED:20240626T174409Z
LAST-MODIFIED:20241205T172135Z
UID:10009193-1845543600-1845547200@saintthomaszanesville.org
SUMMARY:Mass
DESCRIPTION:
URL:https://saintthomaszanesville.org/event/mass-2/2028-06-25/
CATEGORIES:Mass
END:VEVENT
END:VCALENDAR