BEGIN:VCALENDAR
VERSION:2.0
PRODID:-//Saint Thomas Acquinas Zanesville - ECPv6.15.20//NONSGML v1.0//EN
CALSCALE:GREGORIAN
METHOD:PUBLISH
X-ORIGINAL-URL:https://saintthomaszanesville.org
X-WR-CALDESC:Events for Saint Thomas Acquinas Zanesville
REFRESH-INTERVAL;VALUE=DURATION:PT1H
X-Robots-Tag:noindex
X-PUBLISHED-TTL:PT1H
BEGIN:VTIMEZONE
TZID:America/Detroit
BEGIN:DAYLIGHT
TZOFFSETFROM:-0500
TZOFFSETTO:-0400
TZNAME:EDT
DTSTART:20250309T070000
END:DAYLIGHT
BEGIN:STANDARD
TZOFFSETFROM:-0400
TZOFFSETTO:-0500
TZNAME:EST
DTSTART:20251102T060000
END:STANDARD
BEGIN:DAYLIGHT
TZOFFSETFROM:-0500
TZOFFSETTO:-0400
TZNAME:EDT
DTSTART:20260308T070000
END:DAYLIGHT
BEGIN:STANDARD
TZOFFSETFROM:-0400
TZOFFSETTO:-0500
TZNAME:EST
DTSTART:20261101T060000
END:STANDARD
BEGIN:DAYLIGHT
TZOFFSETFROM:-0500
TZOFFSETTO:-0400
TZNAME:EDT
DTSTART:20270314T070000
END:DAYLIGHT
BEGIN:STANDARD
TZOFFSETFROM:-0400
TZOFFSETTO:-0500
TZNAME:EST
DTSTART:20271107T060000
END:STANDARD
BEGIN:DAYLIGHT
TZOFFSETFROM:-0500
TZOFFSETTO:-0400
TZNAME:EDT
DTSTART:20280312T070000
END:DAYLIGHT
BEGIN:STANDARD
TZOFFSETFROM:-0400
TZOFFSETTO:-0500
TZNAME:EST
DTSTART:20281105T060000
END:STANDARD
END:VTIMEZONE
BEGIN:VEVENT
DTSTART;TZID=America/Detroit:20260719T110000
DTEND;TZID=America/Detroit:20260719T120000
DTSTAMP:20260420T053750
CREATED:20240626T174409Z
LAST-MODIFIED:20241205T172135Z
UID:10009092-1784458800-1784462400@saintthomaszanesville.org
SUMMARY:Mass
DESCRIPTION:
URL:https://saintthomaszanesville.org/event/mass-2/2026-07-19/
CATEGORIES:Mass
END:VEVENT
BEGIN:VEVENT
DTSTART;TZID=America/Detroit:20260726T110000
DTEND;TZID=America/Detroit:20260726T120000
DTSTAMP:20260420T053750
CREATED:20240626T174409Z
LAST-MODIFIED:20241205T172135Z
UID:10009093-1785063600-1785067200@saintthomaszanesville.org
SUMMARY:Mass
DESCRIPTION:
URL:https://saintthomaszanesville.org/event/mass-2/2026-07-26/
CATEGORIES:Mass
END:VEVENT
BEGIN:VEVENT
DTSTART;TZID=America/Detroit:20260802T110000
DTEND;TZID=America/Detroit:20260802T120000
DTSTAMP:20260420T053750
CREATED:20240626T174409Z
LAST-MODIFIED:20241205T172135Z
UID:10009094-1785668400-1785672000@saintthomaszanesville.org
SUMMARY:Mass
DESCRIPTION:
URL:https://saintthomaszanesville.org/event/mass-2/2026-08-02/
CATEGORIES:Mass
END:VEVENT
BEGIN:VEVENT
DTSTART;TZID=America/Detroit:20260809T110000
DTEND;TZID=America/Detroit:20260809T120000
DTSTAMP:20260420T053750
CREATED:20240626T174409Z
LAST-MODIFIED:20241205T172135Z
UID:10009095-1786273200-1786276800@saintthomaszanesville.org
SUMMARY:Mass
DESCRIPTION:
URL:https://saintthomaszanesville.org/event/mass-2/2026-08-09/
CATEGORIES:Mass
END:VEVENT
BEGIN:VEVENT
DTSTART;TZID=America/Detroit:20260816T110000
DTEND;TZID=America/Detroit:20260816T120000
DTSTAMP:20260420T053750
CREATED:20240626T174409Z
LAST-MODIFIED:20241205T172135Z
UID:10009096-1786878000-1786881600@saintthomaszanesville.org
SUMMARY:Mass
DESCRIPTION:
URL:https://saintthomaszanesville.org/event/mass-2/2026-08-16/
CATEGORIES:Mass
END:VEVENT
BEGIN:VEVENT
DTSTART;TZID=America/Detroit:20260823T110000
DTEND;TZID=America/Detroit:20260823T120000
DTSTAMP:20260420T053750
CREATED:20240626T174409Z
LAST-MODIFIED:20241205T172135Z
UID:10009097-1787482800-1787486400@saintthomaszanesville.org
SUMMARY:Mass
DESCRIPTION:
URL:https://saintthomaszanesville.org/event/mass-2/2026-08-23/
CATEGORIES:Mass
END:VEVENT
BEGIN:VEVENT
DTSTART;TZID=America/Detroit:20260830T110000
DTEND;TZID=America/Detroit:20260830T120000
DTSTAMP:20260420T053750
CREATED:20240626T174409Z
LAST-MODIFIED:20241205T172135Z
UID:10009098-1788087600-1788091200@saintthomaszanesville.org
SUMMARY:Mass
DESCRIPTION:
URL:https://saintthomaszanesville.org/event/mass-2/2026-08-30/
CATEGORIES:Mass
END:VEVENT
BEGIN:VEVENT
DTSTART;TZID=America/Detroit:20260906T110000
DTEND;TZID=America/Detroit:20260906T120000
DTSTAMP:20260420T053750
CREATED:20240626T174409Z
LAST-MODIFIED:20241205T172135Z
UID:10009099-1788692400-1788696000@saintthomaszanesville.org
SUMMARY:Mass
DESCRIPTION:
URL:https://saintthomaszanesville.org/event/mass-2/2026-09-06/
CATEGORIES:Mass
END:VEVENT
BEGIN:VEVENT
DTSTART;TZID=America/Detroit:20260913T110000
DTEND;TZID=America/Detroit:20260913T120000
DTSTAMP:20260420T053750
CREATED:20240626T174409Z
LAST-MODIFIED:20241205T172135Z
UID:10009100-1789297200-1789300800@saintthomaszanesville.org
SUMMARY:Mass
DESCRIPTION:
URL:https://saintthomaszanesville.org/event/mass-2/2026-09-13/
CATEGORIES:Mass
END:VEVENT
BEGIN:VEVENT
DTSTART;TZID=America/Detroit:20260920T110000
DTEND;TZID=America/Detroit:20260920T120000
DTSTAMP:20260420T053750
CREATED:20240626T174409Z
LAST-MODIFIED:20241205T172135Z
UID:10009101-1789902000-1789905600@saintthomaszanesville.org
SUMMARY:Mass
DESCRIPTION:
URL:https://saintthomaszanesville.org/event/mass-2/2026-09-20/
CATEGORIES:Mass
END:VEVENT
BEGIN:VEVENT
DTSTART;TZID=America/Detroit:20260927T110000
DTEND;TZID=America/Detroit:20260927T120000
DTSTAMP:20260420T053750
CREATED:20240626T174409Z
LAST-MODIFIED:20241205T172135Z
UID:10009102-1790506800-1790510400@saintthomaszanesville.org
SUMMARY:Mass
DESCRIPTION:
URL:https://saintthomaszanesville.org/event/mass-2/2026-09-27/
CATEGORIES:Mass
END:VEVENT
BEGIN:VEVENT
DTSTART;TZID=America/Detroit:20261004T110000
DTEND;TZID=America/Detroit:20261004T120000
DTSTAMP:20260420T053750
CREATED:20240626T174409Z
LAST-MODIFIED:20241205T172135Z
UID:10009103-1791111600-1791115200@saintthomaszanesville.org
SUMMARY:Mass
DESCRIPTION:
URL:https://saintthomaszanesville.org/event/mass-2/2026-10-04/
CATEGORIES:Mass
END:VEVENT
BEGIN:VEVENT
DTSTART;TZID=America/Detroit:20261011T110000
DTEND;TZID=America/Detroit:20261011T120000
DTSTAMP:20260420T053750
CREATED:20240626T174409Z
LAST-MODIFIED:20241205T172135Z
UID:10009104-1791716400-1791720000@saintthomaszanesville.org
SUMMARY:Mass
DESCRIPTION:
URL:https://saintthomaszanesville.org/event/mass-2/2026-10-11/
CATEGORIES:Mass
END:VEVENT
BEGIN:VEVENT
DTSTART;TZID=America/Detroit:20261018T110000
DTEND;TZID=America/Detroit:20261018T120000
DTSTAMP:20260420T053750
CREATED:20240626T174409Z
LAST-MODIFIED:20241205T172135Z
UID:10009105-1792321200-1792324800@saintthomaszanesville.org
SUMMARY:Mass
DESCRIPTION:
URL:https://saintthomaszanesville.org/event/mass-2/2026-10-18/
CATEGORIES:Mass
END:VEVENT
BEGIN:VEVENT
DTSTART;TZID=America/Detroit:20261025T110000
DTEND;TZID=America/Detroit:20261025T120000
DTSTAMP:20260420T053750
CREATED:20240626T174409Z
LAST-MODIFIED:20241205T172135Z
UID:10009106-1792926000-1792929600@saintthomaszanesville.org
SUMMARY:Mass
DESCRIPTION:
URL:https://saintthomaszanesville.org/event/mass-2/2026-10-25/
CATEGORIES:Mass
END:VEVENT
BEGIN:VEVENT
DTSTART;TZID=America/Detroit:20261101T110000
DTEND;TZID=America/Detroit:20261101T120000
DTSTAMP:20260420T053750
CREATED:20240626T174409Z
LAST-MODIFIED:20241205T172135Z
UID:10009107-1793530800-1793534400@saintthomaszanesville.org
SUMMARY:Mass
DESCRIPTION:
URL:https://saintthomaszanesville.org/event/mass-2/2026-11-01/
CATEGORIES:Mass
END:VEVENT
BEGIN:VEVENT
DTSTART;TZID=America/Detroit:20261108T110000
DTEND;TZID=America/Detroit:20261108T120000
DTSTAMP:20260420T053750
CREATED:20240626T174409Z
LAST-MODIFIED:20241205T172135Z
UID:10009108-1794135600-1794139200@saintthomaszanesville.org
SUMMARY:Mass
DESCRIPTION:
URL:https://saintthomaszanesville.org/event/mass-2/2026-11-08/
CATEGORIES:Mass
END:VEVENT
BEGIN:VEVENT
DTSTART;TZID=America/Detroit:20261115T110000
DTEND;TZID=America/Detroit:20261115T120000
DTSTAMP:20260420T053750
CREATED:20240626T174409Z
LAST-MODIFIED:20241205T172135Z
UID:10009109-1794740400-1794744000@saintthomaszanesville.org
SUMMARY:Mass
DESCRIPTION:
URL:https://saintthomaszanesville.org/event/mass-2/2026-11-15/
CATEGORIES:Mass
END:VEVENT
BEGIN:VEVENT
DTSTART;TZID=America/Detroit:20261122T110000
DTEND;TZID=America/Detroit:20261122T120000
DTSTAMP:20260420T053750
CREATED:20240626T174409Z
LAST-MODIFIED:20241205T172135Z
UID:10009110-1795345200-1795348800@saintthomaszanesville.org
SUMMARY:Mass
DESCRIPTION:
URL:https://saintthomaszanesville.org/event/mass-2/2026-11-22/
CATEGORIES:Mass
END:VEVENT
BEGIN:VEVENT
DTSTART;TZID=America/Detroit:20261129T110000
DTEND;TZID=America/Detroit:20261129T120000
DTSTAMP:20260420T053750
CREATED:20240626T174409Z
LAST-MODIFIED:20241205T172135Z
UID:10009111-1795950000-1795953600@saintthomaszanesville.org
SUMMARY:Mass
DESCRIPTION:
URL:https://saintthomaszanesville.org/event/mass-2/2026-11-29/
CATEGORIES:Mass
END:VEVENT
BEGIN:VEVENT
DTSTART;TZID=America/Detroit:20261206T110000
DTEND;TZID=America/Detroit:20261206T120000
DTSTAMP:20260420T053750
CREATED:20240626T174409Z
LAST-MODIFIED:20241205T172135Z
UID:10009112-1796554800-1796558400@saintthomaszanesville.org
SUMMARY:Mass
DESCRIPTION:
URL:https://saintthomaszanesville.org/event/mass-2/2026-12-06/
CATEGORIES:Mass
END:VEVENT
BEGIN:VEVENT
DTSTART;TZID=America/Detroit:20261213T110000
DTEND;TZID=America/Detroit:20261213T120000
DTSTAMP:20260420T053750
CREATED:20240626T174409Z
LAST-MODIFIED:20241205T172135Z
UID:10009113-1797159600-1797163200@saintthomaszanesville.org
SUMMARY:Mass
DESCRIPTION:
URL:https://saintthomaszanesville.org/event/mass-2/2026-12-13/
CATEGORIES:Mass
END:VEVENT
BEGIN:VEVENT
DTSTART;TZID=America/Detroit:20261220T110000
DTEND;TZID=America/Detroit:20261220T120000
DTSTAMP:20260420T053750
CREATED:20240626T174409Z
LAST-MODIFIED:20241205T172135Z
UID:10009114-1797764400-1797768000@saintthomaszanesville.org
SUMMARY:Mass
DESCRIPTION:
URL:https://saintthomaszanesville.org/event/mass-2/2026-12-20/
CATEGORIES:Mass
END:VEVENT
BEGIN:VEVENT
DTSTART;TZID=America/Detroit:20261227T110000
DTEND;TZID=America/Detroit:20261227T120000
DTSTAMP:20260420T053750
CREATED:20240626T174409Z
LAST-MODIFIED:20241205T172135Z
UID:10009115-1798369200-1798372800@saintthomaszanesville.org
SUMMARY:Mass
DESCRIPTION:
URL:https://saintthomaszanesville.org/event/mass-2/2026-12-27/
CATEGORIES:Mass
END:VEVENT
BEGIN:VEVENT
DTSTART;TZID=America/Detroit:20270103T110000
DTEND;TZID=America/Detroit:20270103T120000
DTSTAMP:20260420T053750
CREATED:20240626T174409Z
LAST-MODIFIED:20241205T172135Z
UID:10009116-1798974000-1798977600@saintthomaszanesville.org
SUMMARY:Mass
DESCRIPTION:
URL:https://saintthomaszanesville.org/event/mass-2/2027-01-03/
CATEGORIES:Mass
END:VEVENT
BEGIN:VEVENT
DTSTART;TZID=America/Detroit:20270110T110000
DTEND;TZID=America/Detroit:20270110T120000
DTSTAMP:20260420T053750
CREATED:20240626T174409Z
LAST-MODIFIED:20241205T172135Z
UID:10009117-1799578800-1799582400@saintthomaszanesville.org
SUMMARY:Mass
DESCRIPTION:
URL:https://saintthomaszanesville.org/event/mass-2/2027-01-10/
CATEGORIES:Mass
END:VEVENT
BEGIN:VEVENT
DTSTART;TZID=America/Detroit:20270117T110000
DTEND;TZID=America/Detroit:20270117T120000
DTSTAMP:20260420T053750
CREATED:20240626T174409Z
LAST-MODIFIED:20241205T172135Z
UID:10009118-1800183600-1800187200@saintthomaszanesville.org
SUMMARY:Mass
DESCRIPTION:
URL:https://saintthomaszanesville.org/event/mass-2/2027-01-17/
CATEGORIES:Mass
END:VEVENT
BEGIN:VEVENT
DTSTART;TZID=America/Detroit:20270124T110000
DTEND;TZID=America/Detroit:20270124T120000
DTSTAMP:20260420T053750
CREATED:20240626T174409Z
LAST-MODIFIED:20241205T172135Z
UID:10009119-1800788400-1800792000@saintthomaszanesville.org
SUMMARY:Mass
DESCRIPTION:
URL:https://saintthomaszanesville.org/event/mass-2/2027-01-24/
CATEGORIES:Mass
END:VEVENT
BEGIN:VEVENT
DTSTART;TZID=America/Detroit:20270131T110000
DTEND;TZID=America/Detroit:20270131T120000
DTSTAMP:20260420T053750
CREATED:20240626T174409Z
LAST-MODIFIED:20241205T172135Z
UID:10009120-1801393200-1801396800@saintthomaszanesville.org
SUMMARY:Mass
DESCRIPTION:
URL:https://saintthomaszanesville.org/event/mass-2/2027-01-31/
CATEGORIES:Mass
END:VEVENT
BEGIN:VEVENT
DTSTART;TZID=America/Detroit:20270207T110000
DTEND;TZID=America/Detroit:20270207T120000
DTSTAMP:20260420T053750
CREATED:20240626T174409Z
LAST-MODIFIED:20241205T172135Z
UID:10009121-1801998000-1802001600@saintthomaszanesville.org
SUMMARY:Mass
DESCRIPTION:
URL:https://saintthomaszanesville.org/event/mass-2/2027-02-07/
CATEGORIES:Mass
END:VEVENT
END:VCALENDAR