BEGIN:VCALENDAR
VERSION:2.0
PRODID:-//Saint Thomas Acquinas Zanesville - ECPv6.15.20//NONSGML v1.0//EN
CALSCALE:GREGORIAN
METHOD:PUBLISH
X-ORIGINAL-URL:https://saintthomaszanesville.org
X-WR-CALDESC:Events for Saint Thomas Acquinas Zanesville
REFRESH-INTERVAL;VALUE=DURATION:PT1H
X-Robots-Tag:noindex
X-PUBLISHED-TTL:PT1H
BEGIN:VTIMEZONE
TZID:America/Detroit
BEGIN:DAYLIGHT
TZOFFSETFROM:-0500
TZOFFSETTO:-0400
TZNAME:EDT
DTSTART:20280312T070000
END:DAYLIGHT
BEGIN:STANDARD
TZOFFSETFROM:-0400
TZOFFSETTO:-0500
TZNAME:EST
DTSTART:20281105T060000
END:STANDARD
BEGIN:DAYLIGHT
TZOFFSETFROM:-0500
TZOFFSETTO:-0400
TZNAME:EDT
DTSTART:20290311T070000
END:DAYLIGHT
BEGIN:STANDARD
TZOFFSETFROM:-0400
TZOFFSETTO:-0500
TZNAME:EST
DTSTART:20291104T060000
END:STANDARD
BEGIN:DAYLIGHT
TZOFFSETFROM:-0500
TZOFFSETTO:-0400
TZNAME:EDT
DTSTART:20300310T070000
END:DAYLIGHT
BEGIN:STANDARD
TZOFFSETFROM:-0400
TZOFFSETTO:-0500
TZNAME:EST
DTSTART:20301103T060000
END:STANDARD
END:VTIMEZONE
BEGIN:VEVENT
DTSTART;TZID=America/Detroit:20291007T110000
DTEND;TZID=America/Detroit:20291007T120000
DTSTAMP:20260421T193053
CREATED:20240626T174409Z
LAST-MODIFIED:20241205T172135Z
UID:10009645-1886065200-1886068800@saintthomaszanesville.org
SUMMARY:Mass
DESCRIPTION:
URL:https://saintthomaszanesville.org/event/mass-2/2029-10-07/
CATEGORIES:Mass
END:VEVENT
BEGIN:VEVENT
DTSTART;TZID=America/Detroit:20291014T110000
DTEND;TZID=America/Detroit:20291014T120000
DTSTAMP:20260421T193053
CREATED:20240626T174409Z
LAST-MODIFIED:20241205T172135Z
UID:10009646-1886670000-1886673600@saintthomaszanesville.org
SUMMARY:Mass
DESCRIPTION:
URL:https://saintthomaszanesville.org/event/mass-2/2029-10-14/
CATEGORIES:Mass
END:VEVENT
BEGIN:VEVENT
DTSTART;TZID=America/Detroit:20291021T110000
DTEND;TZID=America/Detroit:20291021T120000
DTSTAMP:20260421T193053
CREATED:20240626T174409Z
LAST-MODIFIED:20241205T172135Z
UID:10009647-1887274800-1887278400@saintthomaszanesville.org
SUMMARY:Mass
DESCRIPTION:
URL:https://saintthomaszanesville.org/event/mass-2/2029-10-21/
CATEGORIES:Mass
END:VEVENT
BEGIN:VEVENT
DTSTART;TZID=America/Detroit:20291028T110000
DTEND;TZID=America/Detroit:20291028T120000
DTSTAMP:20260421T193053
CREATED:20240626T174409Z
LAST-MODIFIED:20241205T172135Z
UID:10009648-1887879600-1887883200@saintthomaszanesville.org
SUMMARY:Mass
DESCRIPTION:
URL:https://saintthomaszanesville.org/event/mass-2/2029-10-28/
CATEGORIES:Mass
END:VEVENT
BEGIN:VEVENT
DTSTART;TZID=America/Detroit:20291104T110000
DTEND;TZID=America/Detroit:20291104T120000
DTSTAMP:20260421T193053
CREATED:20240626T174409Z
LAST-MODIFIED:20241205T172135Z
UID:10009649-1888484400-1888488000@saintthomaszanesville.org
SUMMARY:Mass
DESCRIPTION:
URL:https://saintthomaszanesville.org/event/mass-2/2029-11-04/
CATEGORIES:Mass
END:VEVENT
BEGIN:VEVENT
DTSTART;TZID=America/Detroit:20291111T110000
DTEND;TZID=America/Detroit:20291111T120000
DTSTAMP:20260421T193053
CREATED:20240626T174409Z
LAST-MODIFIED:20241205T172135Z
UID:10009650-1889089200-1889092800@saintthomaszanesville.org
SUMMARY:Mass
DESCRIPTION:
URL:https://saintthomaszanesville.org/event/mass-2/2029-11-11/
CATEGORIES:Mass
END:VEVENT
BEGIN:VEVENT
DTSTART;TZID=America/Detroit:20291118T110000
DTEND;TZID=America/Detroit:20291118T120000
DTSTAMP:20260421T193053
CREATED:20240626T174409Z
LAST-MODIFIED:20241205T172135Z
UID:10009651-1889694000-1889697600@saintthomaszanesville.org
SUMMARY:Mass
DESCRIPTION:
URL:https://saintthomaszanesville.org/event/mass-2/2029-11-18/
CATEGORIES:Mass
END:VEVENT
BEGIN:VEVENT
DTSTART;TZID=America/Detroit:20291125T110000
DTEND;TZID=America/Detroit:20291125T120000
DTSTAMP:20260421T193053
CREATED:20240626T174409Z
LAST-MODIFIED:20241205T172135Z
UID:10009652-1890298800-1890302400@saintthomaszanesville.org
SUMMARY:Mass
DESCRIPTION:
URL:https://saintthomaszanesville.org/event/mass-2/2029-11-25/
CATEGORIES:Mass
END:VEVENT
BEGIN:VEVENT
DTSTART;TZID=America/Detroit:20291202T110000
DTEND;TZID=America/Detroit:20291202T120000
DTSTAMP:20260421T193053
CREATED:20240626T174409Z
LAST-MODIFIED:20241205T172135Z
UID:10009653-1890903600-1890907200@saintthomaszanesville.org
SUMMARY:Mass
DESCRIPTION:
URL:https://saintthomaszanesville.org/event/mass-2/2029-12-02/
CATEGORIES:Mass
END:VEVENT
END:VCALENDAR