BEGIN:VCALENDAR
VERSION:2.0
PRODID:-//Saint Thomas Acquinas Zanesville - ECPv6.15.20//NONSGML v1.0//EN
CALSCALE:GREGORIAN
METHOD:PUBLISH
X-ORIGINAL-URL:https://saintthomaszanesville.org
X-WR-CALDESC:Events for Saint Thomas Acquinas Zanesville
REFRESH-INTERVAL;VALUE=DURATION:PT1H
X-Robots-Tag:noindex
X-PUBLISHED-TTL:PT1H
BEGIN:VTIMEZONE
TZID:America/Detroit
BEGIN:DAYLIGHT
TZOFFSETFROM:-0500
TZOFFSETTO:-0400
TZNAME:EDT
DTSTART:20280312T070000
END:DAYLIGHT
BEGIN:STANDARD
TZOFFSETFROM:-0400
TZOFFSETTO:-0500
TZNAME:EST
DTSTART:20281105T060000
END:STANDARD
BEGIN:DAYLIGHT
TZOFFSETFROM:-0500
TZOFFSETTO:-0400
TZNAME:EDT
DTSTART:20290311T070000
END:DAYLIGHT
BEGIN:STANDARD
TZOFFSETFROM:-0400
TZOFFSETTO:-0500
TZNAME:EST
DTSTART:20291104T060000
END:STANDARD
BEGIN:DAYLIGHT
TZOFFSETFROM:-0500
TZOFFSETTO:-0400
TZNAME:EDT
DTSTART:20300310T070000
END:DAYLIGHT
BEGIN:STANDARD
TZOFFSETFROM:-0400
TZOFFSETTO:-0500
TZNAME:EST
DTSTART:20301103T060000
END:STANDARD
END:VTIMEZONE
BEGIN:VEVENT
DTSTART;TZID=America/Detroit:20290128T110000
DTEND;TZID=America/Detroit:20290128T120000
DTSTAMP:20260421T083143
CREATED:20240626T174409Z
LAST-MODIFIED:20241205T172135Z
UID:10009224-1864292400-1864296000@saintthomaszanesville.org
SUMMARY:Mass
DESCRIPTION:
URL:https://saintthomaszanesville.org/event/mass-2/2029-01-28/
CATEGORIES:Mass
END:VEVENT
BEGIN:VEVENT
DTSTART;TZID=America/Detroit:20290204T110000
DTEND;TZID=America/Detroit:20290204T120000
DTSTAMP:20260421T083143
CREATED:20240626T174409Z
LAST-MODIFIED:20241205T172135Z
UID:10009225-1864897200-1864900800@saintthomaszanesville.org
SUMMARY:Mass
DESCRIPTION:
URL:https://saintthomaszanesville.org/event/mass-2/2029-02-04/
CATEGORIES:Mass
END:VEVENT
BEGIN:VEVENT
DTSTART;TZID=America/Detroit:20290211T110000
DTEND;TZID=America/Detroit:20290211T120000
DTSTAMP:20260421T083143
CREATED:20240626T174409Z
LAST-MODIFIED:20241205T172135Z
UID:10009226-1865502000-1865505600@saintthomaszanesville.org
SUMMARY:Mass
DESCRIPTION:
URL:https://saintthomaszanesville.org/event/mass-2/2029-02-11/
CATEGORIES:Mass
END:VEVENT
BEGIN:VEVENT
DTSTART;TZID=America/Detroit:20290218T110000
DTEND;TZID=America/Detroit:20290218T120000
DTSTAMP:20260421T083143
CREATED:20240626T174409Z
LAST-MODIFIED:20241205T172135Z
UID:10009227-1866106800-1866110400@saintthomaszanesville.org
SUMMARY:Mass
DESCRIPTION:
URL:https://saintthomaszanesville.org/event/mass-2/2029-02-18/
CATEGORIES:Mass
END:VEVENT
BEGIN:VEVENT
DTSTART;TZID=America/Detroit:20290225T110000
DTEND;TZID=America/Detroit:20290225T120000
DTSTAMP:20260421T083143
CREATED:20240626T174409Z
LAST-MODIFIED:20241205T172135Z
UID:10009228-1866711600-1866715200@saintthomaszanesville.org
SUMMARY:Mass
DESCRIPTION:
URL:https://saintthomaszanesville.org/event/mass-2/2029-02-25/
CATEGORIES:Mass
END:VEVENT
BEGIN:VEVENT
DTSTART;TZID=America/Detroit:20290304T110000
DTEND;TZID=America/Detroit:20290304T120000
DTSTAMP:20260421T083143
CREATED:20240626T174409Z
LAST-MODIFIED:20241205T172135Z
UID:10009229-1867316400-1867320000@saintthomaszanesville.org
SUMMARY:Mass
DESCRIPTION:
URL:https://saintthomaszanesville.org/event/mass-2/2029-03-04/
CATEGORIES:Mass
END:VEVENT
BEGIN:VEVENT
DTSTART;TZID=America/Detroit:20290311T110000
DTEND;TZID=America/Detroit:20290311T120000
DTSTAMP:20260421T083143
CREATED:20240626T174409Z
LAST-MODIFIED:20241205T172135Z
UID:10009230-1867921200-1867924800@saintthomaszanesville.org
SUMMARY:Mass
DESCRIPTION:
URL:https://saintthomaszanesville.org/event/mass-2/2029-03-11/
CATEGORIES:Mass
END:VEVENT
BEGIN:VEVENT
DTSTART;TZID=America/Detroit:20290318T110000
DTEND;TZID=America/Detroit:20290318T120000
DTSTAMP:20260421T083143
CREATED:20240626T174409Z
LAST-MODIFIED:20241205T172135Z
UID:10009231-1868526000-1868529600@saintthomaszanesville.org
SUMMARY:Mass
DESCRIPTION:
URL:https://saintthomaszanesville.org/event/mass-2/2029-03-18/
CATEGORIES:Mass
END:VEVENT
BEGIN:VEVENT
DTSTART;TZID=America/Detroit:20290325T110000
DTEND;TZID=America/Detroit:20290325T120000
DTSTAMP:20260421T083143
CREATED:20240626T174409Z
LAST-MODIFIED:20241205T172135Z
UID:10009232-1869130800-1869134400@saintthomaszanesville.org
SUMMARY:Mass
DESCRIPTION:
URL:https://saintthomaszanesville.org/event/mass-2/2029-03-25/
CATEGORIES:Mass
END:VEVENT
BEGIN:VEVENT
DTSTART;TZID=America/Detroit:20290401T110000
DTEND;TZID=America/Detroit:20290401T120000
DTSTAMP:20260421T083143
CREATED:20240626T174409Z
LAST-MODIFIED:20241205T172135Z
UID:10009233-1869735600-1869739200@saintthomaszanesville.org
SUMMARY:Mass
DESCRIPTION:
URL:https://saintthomaszanesville.org/event/mass-2/2029-04-01/
CATEGORIES:Mass
END:VEVENT
BEGIN:VEVENT
DTSTART;TZID=America/Detroit:20290408T110000
DTEND;TZID=America/Detroit:20290408T120000
DTSTAMP:20260421T083143
CREATED:20240626T174409Z
LAST-MODIFIED:20241205T172135Z
UID:10009234-1870340400-1870344000@saintthomaszanesville.org
SUMMARY:Mass
DESCRIPTION:
URL:https://saintthomaszanesville.org/event/mass-2/2029-04-08/
CATEGORIES:Mass
END:VEVENT
BEGIN:VEVENT
DTSTART;TZID=America/Detroit:20290415T110000
DTEND;TZID=America/Detroit:20290415T120000
DTSTAMP:20260421T083143
CREATED:20240626T174409Z
LAST-MODIFIED:20241205T172135Z
UID:10009235-1870945200-1870948800@saintthomaszanesville.org
SUMMARY:Mass
DESCRIPTION:
URL:https://saintthomaszanesville.org/event/mass-2/2029-04-15/
CATEGORIES:Mass
END:VEVENT
BEGIN:VEVENT
DTSTART;TZID=America/Detroit:20290422T110000
DTEND;TZID=America/Detroit:20290422T120000
DTSTAMP:20260421T083143
CREATED:20240626T174409Z
LAST-MODIFIED:20241205T172135Z
UID:10009236-1871550000-1871553600@saintthomaszanesville.org
SUMMARY:Mass
DESCRIPTION:
URL:https://saintthomaszanesville.org/event/mass-2/2029-04-22/
CATEGORIES:Mass
END:VEVENT
BEGIN:VEVENT
DTSTART;TZID=America/Detroit:20290429T110000
DTEND;TZID=America/Detroit:20290429T120000
DTSTAMP:20260421T083143
CREATED:20240626T174409Z
LAST-MODIFIED:20241205T172135Z
UID:10009237-1872154800-1872158400@saintthomaszanesville.org
SUMMARY:Mass
DESCRIPTION:
URL:https://saintthomaszanesville.org/event/mass-2/2029-04-29/
CATEGORIES:Mass
END:VEVENT
BEGIN:VEVENT
DTSTART;TZID=America/Detroit:20290506T110000
DTEND;TZID=America/Detroit:20290506T120000
DTSTAMP:20260421T083143
CREATED:20240626T174409Z
LAST-MODIFIED:20241205T172135Z
UID:10009238-1872759600-1872763200@saintthomaszanesville.org
SUMMARY:Mass
DESCRIPTION:
URL:https://saintthomaszanesville.org/event/mass-2/2029-05-06/
CATEGORIES:Mass
END:VEVENT
BEGIN:VEVENT
DTSTART;TZID=America/Detroit:20290513T110000
DTEND;TZID=America/Detroit:20290513T120000
DTSTAMP:20260421T083143
CREATED:20240626T174409Z
LAST-MODIFIED:20241205T172135Z
UID:10009239-1873364400-1873368000@saintthomaszanesville.org
SUMMARY:Mass
DESCRIPTION:
URL:https://saintthomaszanesville.org/event/mass-2/2029-05-13/
CATEGORIES:Mass
END:VEVENT
BEGIN:VEVENT
DTSTART;TZID=America/Detroit:20290520T110000
DTEND;TZID=America/Detroit:20290520T120000
DTSTAMP:20260421T083143
CREATED:20240626T174409Z
LAST-MODIFIED:20241205T172135Z
UID:10009240-1873969200-1873972800@saintthomaszanesville.org
SUMMARY:Mass
DESCRIPTION:
URL:https://saintthomaszanesville.org/event/mass-2/2029-05-20/
CATEGORIES:Mass
END:VEVENT
BEGIN:VEVENT
DTSTART;TZID=America/Detroit:20290527T110000
DTEND;TZID=America/Detroit:20290527T120000
DTSTAMP:20260421T083143
CREATED:20240626T174409Z
LAST-MODIFIED:20241205T172135Z
UID:10009241-1874574000-1874577600@saintthomaszanesville.org
SUMMARY:Mass
DESCRIPTION:
URL:https://saintthomaszanesville.org/event/mass-2/2029-05-27/
CATEGORIES:Mass
END:VEVENT
BEGIN:VEVENT
DTSTART;TZID=America/Detroit:20290603T110000
DTEND;TZID=America/Detroit:20290603T120000
DTSTAMP:20260421T083143
CREATED:20240626T174409Z
LAST-MODIFIED:20241205T172135Z
UID:10009242-1875178800-1875182400@saintthomaszanesville.org
SUMMARY:Mass
DESCRIPTION:
URL:https://saintthomaszanesville.org/event/mass-2/2029-06-03/
CATEGORIES:Mass
END:VEVENT
BEGIN:VEVENT
DTSTART;TZID=America/Detroit:20290610T110000
DTEND;TZID=America/Detroit:20290610T120000
DTSTAMP:20260421T083143
CREATED:20240626T174409Z
LAST-MODIFIED:20241205T172135Z
UID:10009243-1875783600-1875787200@saintthomaszanesville.org
SUMMARY:Mass
DESCRIPTION:
URL:https://saintthomaszanesville.org/event/mass-2/2029-06-10/
CATEGORIES:Mass
END:VEVENT
BEGIN:VEVENT
DTSTART;TZID=America/Detroit:20290617T110000
DTEND;TZID=America/Detroit:20290617T120000
DTSTAMP:20260421T083143
CREATED:20240626T174409Z
LAST-MODIFIED:20241205T172135Z
UID:10009244-1876388400-1876392000@saintthomaszanesville.org
SUMMARY:Mass
DESCRIPTION:
URL:https://saintthomaszanesville.org/event/mass-2/2029-06-17/
CATEGORIES:Mass
END:VEVENT
BEGIN:VEVENT
DTSTART;TZID=America/Detroit:20290624T110000
DTEND;TZID=America/Detroit:20290624T120000
DTSTAMP:20260421T083143
CREATED:20240626T174409Z
LAST-MODIFIED:20241205T172135Z
UID:10009245-1876993200-1876996800@saintthomaszanesville.org
SUMMARY:Mass
DESCRIPTION:
URL:https://saintthomaszanesville.org/event/mass-2/2029-06-24/
CATEGORIES:Mass
END:VEVENT
BEGIN:VEVENT
DTSTART;TZID=America/Detroit:20290701T110000
DTEND;TZID=America/Detroit:20290701T120000
DTSTAMP:20260421T083143
CREATED:20240626T174409Z
LAST-MODIFIED:20241205T172135Z
UID:10009631-1877598000-1877601600@saintthomaszanesville.org
SUMMARY:Mass
DESCRIPTION:
URL:https://saintthomaszanesville.org/event/mass-2/2029-07-01/
CATEGORIES:Mass
END:VEVENT
BEGIN:VEVENT
DTSTART;TZID=America/Detroit:20290708T110000
DTEND;TZID=America/Detroit:20290708T120000
DTSTAMP:20260421T083143
CREATED:20240626T174409Z
LAST-MODIFIED:20241205T172135Z
UID:10009632-1878202800-1878206400@saintthomaszanesville.org
SUMMARY:Mass
DESCRIPTION:
URL:https://saintthomaszanesville.org/event/mass-2/2029-07-08/
CATEGORIES:Mass
END:VEVENT
BEGIN:VEVENT
DTSTART;TZID=America/Detroit:20290715T110000
DTEND;TZID=America/Detroit:20290715T120000
DTSTAMP:20260421T083143
CREATED:20240626T174409Z
LAST-MODIFIED:20241205T172135Z
UID:10009633-1878807600-1878811200@saintthomaszanesville.org
SUMMARY:Mass
DESCRIPTION:
URL:https://saintthomaszanesville.org/event/mass-2/2029-07-15/
CATEGORIES:Mass
END:VEVENT
BEGIN:VEVENT
DTSTART;TZID=America/Detroit:20290722T110000
DTEND;TZID=America/Detroit:20290722T120000
DTSTAMP:20260421T083143
CREATED:20240626T174409Z
LAST-MODIFIED:20241205T172135Z
UID:10009634-1879412400-1879416000@saintthomaszanesville.org
SUMMARY:Mass
DESCRIPTION:
URL:https://saintthomaszanesville.org/event/mass-2/2029-07-22/
CATEGORIES:Mass
END:VEVENT
BEGIN:VEVENT
DTSTART;TZID=America/Detroit:20290729T110000
DTEND;TZID=America/Detroit:20290729T120000
DTSTAMP:20260421T083143
CREATED:20240626T174409Z
LAST-MODIFIED:20241205T172135Z
UID:10009635-1880017200-1880020800@saintthomaszanesville.org
SUMMARY:Mass
DESCRIPTION:
URL:https://saintthomaszanesville.org/event/mass-2/2029-07-29/
CATEGORIES:Mass
END:VEVENT
BEGIN:VEVENT
DTSTART;TZID=America/Detroit:20290805T110000
DTEND;TZID=America/Detroit:20290805T120000
DTSTAMP:20260421T083143
CREATED:20240626T174409Z
LAST-MODIFIED:20241205T172135Z
UID:10009636-1880622000-1880625600@saintthomaszanesville.org
SUMMARY:Mass
DESCRIPTION:
URL:https://saintthomaszanesville.org/event/mass-2/2029-08-05/
CATEGORIES:Mass
END:VEVENT
BEGIN:VEVENT
DTSTART;TZID=America/Detroit:20290812T110000
DTEND;TZID=America/Detroit:20290812T120000
DTSTAMP:20260421T083143
CREATED:20240626T174409Z
LAST-MODIFIED:20241205T172135Z
UID:10009637-1881226800-1881230400@saintthomaszanesville.org
SUMMARY:Mass
DESCRIPTION:
URL:https://saintthomaszanesville.org/event/mass-2/2029-08-12/
CATEGORIES:Mass
END:VEVENT
BEGIN:VEVENT
DTSTART;TZID=America/Detroit:20290819T110000
DTEND;TZID=America/Detroit:20290819T120000
DTSTAMP:20260421T083143
CREATED:20240626T174409Z
LAST-MODIFIED:20241205T172135Z
UID:10009638-1881831600-1881835200@saintthomaszanesville.org
SUMMARY:Mass
DESCRIPTION:
URL:https://saintthomaszanesville.org/event/mass-2/2029-08-19/
CATEGORIES:Mass
END:VEVENT
END:VCALENDAR