BEGIN:VCALENDAR
VERSION:2.0
PRODID:-//Saint Thomas Acquinas Zanesville - ECPv6.15.20//NONSGML v1.0//EN
CALSCALE:GREGORIAN
METHOD:PUBLISH
X-ORIGINAL-URL:https://saintthomaszanesville.org
X-WR-CALDESC:Events for Saint Thomas Acquinas Zanesville
REFRESH-INTERVAL;VALUE=DURATION:PT1H
X-Robots-Tag:noindex
X-PUBLISHED-TTL:PT1H
BEGIN:VTIMEZONE
TZID:America/Detroit
BEGIN:DAYLIGHT
TZOFFSETFROM:-0500
TZOFFSETTO:-0400
TZNAME:EDT
DTSTART:20270314T070000
END:DAYLIGHT
BEGIN:STANDARD
TZOFFSETFROM:-0400
TZOFFSETTO:-0500
TZNAME:EST
DTSTART:20271107T060000
END:STANDARD
BEGIN:DAYLIGHT
TZOFFSETFROM:-0500
TZOFFSETTO:-0400
TZNAME:EDT
DTSTART:20280312T070000
END:DAYLIGHT
BEGIN:STANDARD
TZOFFSETFROM:-0400
TZOFFSETTO:-0500
TZNAME:EST
DTSTART:20281105T060000
END:STANDARD
BEGIN:DAYLIGHT
TZOFFSETFROM:-0500
TZOFFSETTO:-0400
TZNAME:EDT
DTSTART:20290311T070000
END:DAYLIGHT
BEGIN:STANDARD
TZOFFSETFROM:-0400
TZOFFSETTO:-0500
TZNAME:EST
DTSTART:20291104T060000
END:STANDARD
BEGIN:DAYLIGHT
TZOFFSETFROM:-0500
TZOFFSETTO:-0400
TZNAME:EDT
DTSTART:20300310T070000
END:DAYLIGHT
BEGIN:STANDARD
TZOFFSETFROM:-0400
TZOFFSETTO:-0500
TZNAME:EST
DTSTART:20301103T060000
END:STANDARD
END:VTIMEZONE
BEGIN:VEVENT
DTSTART;TZID=America/Detroit:20280813T110000
DTEND;TZID=America/Detroit:20280813T120000
DTSTAMP:20260421T035604
CREATED:20240626T174409Z
LAST-MODIFIED:20241205T172135Z
UID:10009200-1849777200-1849780800@saintthomaszanesville.org
SUMMARY:Mass
DESCRIPTION:
URL:https://saintthomaszanesville.org/event/mass-2/2028-08-13/
CATEGORIES:Mass
END:VEVENT
BEGIN:VEVENT
DTSTART;TZID=America/Detroit:20280820T110000
DTEND;TZID=America/Detroit:20280820T120000
DTSTAMP:20260421T035604
CREATED:20240626T174409Z
LAST-MODIFIED:20241205T172135Z
UID:10009201-1850382000-1850385600@saintthomaszanesville.org
SUMMARY:Mass
DESCRIPTION:
URL:https://saintthomaszanesville.org/event/mass-2/2028-08-20/
CATEGORIES:Mass
END:VEVENT
BEGIN:VEVENT
DTSTART;TZID=America/Detroit:20280827T110000
DTEND;TZID=America/Detroit:20280827T120000
DTSTAMP:20260421T035604
CREATED:20240626T174409Z
LAST-MODIFIED:20241205T172135Z
UID:10009202-1850986800-1850990400@saintthomaszanesville.org
SUMMARY:Mass
DESCRIPTION:
URL:https://saintthomaszanesville.org/event/mass-2/2028-08-27/
CATEGORIES:Mass
END:VEVENT
BEGIN:VEVENT
DTSTART;TZID=America/Detroit:20280903T110000
DTEND;TZID=America/Detroit:20280903T120000
DTSTAMP:20260421T035604
CREATED:20240626T174409Z
LAST-MODIFIED:20241205T172135Z
UID:10009203-1851591600-1851595200@saintthomaszanesville.org
SUMMARY:Mass
DESCRIPTION:
URL:https://saintthomaszanesville.org/event/mass-2/2028-09-03/
CATEGORIES:Mass
END:VEVENT
BEGIN:VEVENT
DTSTART;TZID=America/Detroit:20280910T110000
DTEND;TZID=America/Detroit:20280910T120000
DTSTAMP:20260421T035604
CREATED:20240626T174409Z
LAST-MODIFIED:20241205T172135Z
UID:10009204-1852196400-1852200000@saintthomaszanesville.org
SUMMARY:Mass
DESCRIPTION:
URL:https://saintthomaszanesville.org/event/mass-2/2028-09-10/
CATEGORIES:Mass
END:VEVENT
BEGIN:VEVENT
DTSTART;TZID=America/Detroit:20280917T110000
DTEND;TZID=America/Detroit:20280917T120000
DTSTAMP:20260421T035604
CREATED:20240626T174409Z
LAST-MODIFIED:20241205T172135Z
UID:10009205-1852801200-1852804800@saintthomaszanesville.org
SUMMARY:Mass
DESCRIPTION:
URL:https://saintthomaszanesville.org/event/mass-2/2028-09-17/
CATEGORIES:Mass
END:VEVENT
BEGIN:VEVENT
DTSTART;TZID=America/Detroit:20280924T110000
DTEND;TZID=America/Detroit:20280924T120000
DTSTAMP:20260421T035604
CREATED:20240626T174409Z
LAST-MODIFIED:20241205T172135Z
UID:10009206-1853406000-1853409600@saintthomaszanesville.org
SUMMARY:Mass
DESCRIPTION:
URL:https://saintthomaszanesville.org/event/mass-2/2028-09-24/
CATEGORIES:Mass
END:VEVENT
BEGIN:VEVENT
DTSTART;TZID=America/Detroit:20281001T110000
DTEND;TZID=America/Detroit:20281001T120000
DTSTAMP:20260421T035604
CREATED:20240626T174409Z
LAST-MODIFIED:20241205T172135Z
UID:10009207-1854010800-1854014400@saintthomaszanesville.org
SUMMARY:Mass
DESCRIPTION:
URL:https://saintthomaszanesville.org/event/mass-2/2028-10-01/
CATEGORIES:Mass
END:VEVENT
BEGIN:VEVENT
DTSTART;TZID=America/Detroit:20281008T110000
DTEND;TZID=America/Detroit:20281008T120000
DTSTAMP:20260421T035604
CREATED:20240626T174409Z
LAST-MODIFIED:20241205T172135Z
UID:10009208-1854615600-1854619200@saintthomaszanesville.org
SUMMARY:Mass
DESCRIPTION:
URL:https://saintthomaszanesville.org/event/mass-2/2028-10-08/
CATEGORIES:Mass
END:VEVENT
BEGIN:VEVENT
DTSTART;TZID=America/Detroit:20281015T110000
DTEND;TZID=America/Detroit:20281015T120000
DTSTAMP:20260421T035604
CREATED:20240626T174409Z
LAST-MODIFIED:20241205T172135Z
UID:10009209-1855220400-1855224000@saintthomaszanesville.org
SUMMARY:Mass
DESCRIPTION:
URL:https://saintthomaszanesville.org/event/mass-2/2028-10-15/
CATEGORIES:Mass
END:VEVENT
BEGIN:VEVENT
DTSTART;TZID=America/Detroit:20281022T110000
DTEND;TZID=America/Detroit:20281022T120000
DTSTAMP:20260421T035604
CREATED:20240626T174409Z
LAST-MODIFIED:20241205T172135Z
UID:10009210-1855825200-1855828800@saintthomaszanesville.org
SUMMARY:Mass
DESCRIPTION:
URL:https://saintthomaszanesville.org/event/mass-2/2028-10-22/
CATEGORIES:Mass
END:VEVENT
BEGIN:VEVENT
DTSTART;TZID=America/Detroit:20281029T110000
DTEND;TZID=America/Detroit:20281029T120000
DTSTAMP:20260421T035604
CREATED:20240626T174409Z
LAST-MODIFIED:20241205T172135Z
UID:10009211-1856430000-1856433600@saintthomaszanesville.org
SUMMARY:Mass
DESCRIPTION:
URL:https://saintthomaszanesville.org/event/mass-2/2028-10-29/
CATEGORIES:Mass
END:VEVENT
BEGIN:VEVENT
DTSTART;TZID=America/Detroit:20281105T110000
DTEND;TZID=America/Detroit:20281105T120000
DTSTAMP:20260421T035604
CREATED:20240626T174409Z
LAST-MODIFIED:20241205T172135Z
UID:10009212-1857034800-1857038400@saintthomaszanesville.org
SUMMARY:Mass
DESCRIPTION:
URL:https://saintthomaszanesville.org/event/mass-2/2028-11-05/
CATEGORIES:Mass
END:VEVENT
BEGIN:VEVENT
DTSTART;TZID=America/Detroit:20281112T110000
DTEND;TZID=America/Detroit:20281112T120000
DTSTAMP:20260421T035604
CREATED:20240626T174409Z
LAST-MODIFIED:20241205T172135Z
UID:10009213-1857639600-1857643200@saintthomaszanesville.org
SUMMARY:Mass
DESCRIPTION:
URL:https://saintthomaszanesville.org/event/mass-2/2028-11-12/
CATEGORIES:Mass
END:VEVENT
BEGIN:VEVENT
DTSTART;TZID=America/Detroit:20281119T110000
DTEND;TZID=America/Detroit:20281119T120000
DTSTAMP:20260421T035604
CREATED:20240626T174409Z
LAST-MODIFIED:20241205T172135Z
UID:10009214-1858244400-1858248000@saintthomaszanesville.org
SUMMARY:Mass
DESCRIPTION:
URL:https://saintthomaszanesville.org/event/mass-2/2028-11-19/
CATEGORIES:Mass
END:VEVENT
BEGIN:VEVENT
DTSTART;TZID=America/Detroit:20281126T110000
DTEND;TZID=America/Detroit:20281126T120000
DTSTAMP:20260421T035604
CREATED:20240626T174409Z
LAST-MODIFIED:20241205T172135Z
UID:10009215-1858849200-1858852800@saintthomaszanesville.org
SUMMARY:Mass
DESCRIPTION:
URL:https://saintthomaszanesville.org/event/mass-2/2028-11-26/
CATEGORIES:Mass
END:VEVENT
BEGIN:VEVENT
DTSTART;TZID=America/Detroit:20281203T110000
DTEND;TZID=America/Detroit:20281203T120000
DTSTAMP:20260421T035604
CREATED:20240626T174409Z
LAST-MODIFIED:20241205T172135Z
UID:10009216-1859454000-1859457600@saintthomaszanesville.org
SUMMARY:Mass
DESCRIPTION:
URL:https://saintthomaszanesville.org/event/mass-2/2028-12-03/
CATEGORIES:Mass
END:VEVENT
BEGIN:VEVENT
DTSTART;TZID=America/Detroit:20281210T110000
DTEND;TZID=America/Detroit:20281210T120000
DTSTAMP:20260421T035604
CREATED:20240626T174409Z
LAST-MODIFIED:20241205T172135Z
UID:10009217-1860058800-1860062400@saintthomaszanesville.org
SUMMARY:Mass
DESCRIPTION:
URL:https://saintthomaszanesville.org/event/mass-2/2028-12-10/
CATEGORIES:Mass
END:VEVENT
BEGIN:VEVENT
DTSTART;TZID=America/Detroit:20281217T110000
DTEND;TZID=America/Detroit:20281217T120000
DTSTAMP:20260421T035604
CREATED:20240626T174409Z
LAST-MODIFIED:20241205T172135Z
UID:10009218-1860663600-1860667200@saintthomaszanesville.org
SUMMARY:Mass
DESCRIPTION:
URL:https://saintthomaszanesville.org/event/mass-2/2028-12-17/
CATEGORIES:Mass
END:VEVENT
BEGIN:VEVENT
DTSTART;TZID=America/Detroit:20281224T110000
DTEND;TZID=America/Detroit:20281224T120000
DTSTAMP:20260421T035604
CREATED:20240626T174409Z
LAST-MODIFIED:20241205T172135Z
UID:10009219-1861268400-1861272000@saintthomaszanesville.org
SUMMARY:Mass
DESCRIPTION:
URL:https://saintthomaszanesville.org/event/mass-2/2028-12-24/
CATEGORIES:Mass
END:VEVENT
BEGIN:VEVENT
DTSTART;TZID=America/Detroit:20281231T110000
DTEND;TZID=America/Detroit:20281231T120000
DTSTAMP:20260421T035604
CREATED:20240626T174409Z
LAST-MODIFIED:20241205T172135Z
UID:10009220-1861873200-1861876800@saintthomaszanesville.org
SUMMARY:Mass
DESCRIPTION:
URL:https://saintthomaszanesville.org/event/mass-2/2028-12-31/
CATEGORIES:Mass
END:VEVENT
BEGIN:VEVENT
DTSTART;TZID=America/Detroit:20290107T110000
DTEND;TZID=America/Detroit:20290107T120000
DTSTAMP:20260421T035604
CREATED:20240626T174409Z
LAST-MODIFIED:20241205T172135Z
UID:10009221-1862478000-1862481600@saintthomaszanesville.org
SUMMARY:Mass
DESCRIPTION:
URL:https://saintthomaszanesville.org/event/mass-2/2029-01-07/
CATEGORIES:Mass
END:VEVENT
BEGIN:VEVENT
DTSTART;TZID=America/Detroit:20290114T110000
DTEND;TZID=America/Detroit:20290114T120000
DTSTAMP:20260421T035605
CREATED:20240626T174409Z
LAST-MODIFIED:20241205T172135Z
UID:10009222-1863082800-1863086400@saintthomaszanesville.org
SUMMARY:Mass
DESCRIPTION:
URL:https://saintthomaszanesville.org/event/mass-2/2029-01-14/
CATEGORIES:Mass
END:VEVENT
BEGIN:VEVENT
DTSTART;TZID=America/Detroit:20290121T110000
DTEND;TZID=America/Detroit:20290121T120000
DTSTAMP:20260421T035605
CREATED:20240626T174409Z
LAST-MODIFIED:20241205T172135Z
UID:10009223-1863687600-1863691200@saintthomaszanesville.org
SUMMARY:Mass
DESCRIPTION:
URL:https://saintthomaszanesville.org/event/mass-2/2029-01-21/
CATEGORIES:Mass
END:VEVENT
BEGIN:VEVENT
DTSTART;TZID=America/Detroit:20290128T110000
DTEND;TZID=America/Detroit:20290128T120000
DTSTAMP:20260421T035605
CREATED:20240626T174409Z
LAST-MODIFIED:20241205T172135Z
UID:10009224-1864292400-1864296000@saintthomaszanesville.org
SUMMARY:Mass
DESCRIPTION:
URL:https://saintthomaszanesville.org/event/mass-2/2029-01-28/
CATEGORIES:Mass
END:VEVENT
BEGIN:VEVENT
DTSTART;TZID=America/Detroit:20290204T110000
DTEND;TZID=America/Detroit:20290204T120000
DTSTAMP:20260421T035605
CREATED:20240626T174409Z
LAST-MODIFIED:20241205T172135Z
UID:10009225-1864897200-1864900800@saintthomaszanesville.org
SUMMARY:Mass
DESCRIPTION:
URL:https://saintthomaszanesville.org/event/mass-2/2029-02-04/
CATEGORIES:Mass
END:VEVENT
BEGIN:VEVENT
DTSTART;TZID=America/Detroit:20290211T110000
DTEND;TZID=America/Detroit:20290211T120000
DTSTAMP:20260421T035605
CREATED:20240626T174409Z
LAST-MODIFIED:20241205T172135Z
UID:10009226-1865502000-1865505600@saintthomaszanesville.org
SUMMARY:Mass
DESCRIPTION:
URL:https://saintthomaszanesville.org/event/mass-2/2029-02-11/
CATEGORIES:Mass
END:VEVENT
BEGIN:VEVENT
DTSTART;TZID=America/Detroit:20290218T110000
DTEND;TZID=America/Detroit:20290218T120000
DTSTAMP:20260421T035605
CREATED:20240626T174409Z
LAST-MODIFIED:20241205T172135Z
UID:10009227-1866106800-1866110400@saintthomaszanesville.org
SUMMARY:Mass
DESCRIPTION:
URL:https://saintthomaszanesville.org/event/mass-2/2029-02-18/
CATEGORIES:Mass
END:VEVENT
BEGIN:VEVENT
DTSTART;TZID=America/Detroit:20290225T110000
DTEND;TZID=America/Detroit:20290225T120000
DTSTAMP:20260421T035605
CREATED:20240626T174409Z
LAST-MODIFIED:20241205T172135Z
UID:10009228-1866711600-1866715200@saintthomaszanesville.org
SUMMARY:Mass
DESCRIPTION:
URL:https://saintthomaszanesville.org/event/mass-2/2029-02-25/
CATEGORIES:Mass
END:VEVENT
BEGIN:VEVENT
DTSTART;TZID=America/Detroit:20290304T110000
DTEND;TZID=America/Detroit:20290304T120000
DTSTAMP:20260421T035605
CREATED:20240626T174409Z
LAST-MODIFIED:20241205T172135Z
UID:10009229-1867316400-1867320000@saintthomaszanesville.org
SUMMARY:Mass
DESCRIPTION:
URL:https://saintthomaszanesville.org/event/mass-2/2029-03-04/
CATEGORIES:Mass
END:VEVENT
END:VCALENDAR