BEGIN:VCALENDAR
VERSION:2.0
PRODID:-//Saint Thomas Acquinas Zanesville - ECPv6.15.20//NONSGML v1.0//EN
CALSCALE:GREGORIAN
METHOD:PUBLISH
X-ORIGINAL-URL:https://saintthomaszanesville.org
X-WR-CALDESC:Events for Saint Thomas Acquinas Zanesville
REFRESH-INTERVAL;VALUE=DURATION:PT1H
X-Robots-Tag:noindex
X-PUBLISHED-TTL:PT1H
BEGIN:VTIMEZONE
TZID:America/Detroit
BEGIN:DAYLIGHT
TZOFFSETFROM:-0500
TZOFFSETTO:-0400
TZNAME:EDT
DTSTART:20230312T070000
END:DAYLIGHT
BEGIN:STANDARD
TZOFFSETFROM:-0400
TZOFFSETTO:-0500
TZNAME:EST
DTSTART:20231105T060000
END:STANDARD
BEGIN:DAYLIGHT
TZOFFSETFROM:-0500
TZOFFSETTO:-0400
TZNAME:EDT
DTSTART:20240310T070000
END:DAYLIGHT
BEGIN:STANDARD
TZOFFSETFROM:-0400
TZOFFSETTO:-0500
TZNAME:EST
DTSTART:20241103T060000
END:STANDARD
BEGIN:DAYLIGHT
TZOFFSETFROM:-0500
TZOFFSETTO:-0400
TZNAME:EDT
DTSTART:20250309T070000
END:DAYLIGHT
BEGIN:STANDARD
TZOFFSETFROM:-0400
TZOFFSETTO:-0500
TZNAME:EST
DTSTART:20251102T060000
END:STANDARD
END:VTIMEZONE
BEGIN:VEVENT
DTSTART;TZID=America/Detroit:20240801T090000
DTEND;TZID=America/Detroit:20240801T094500
DTSTAMP:20260422T182420
CREATED:20231025T130315Z
LAST-MODIFIED:20260219T151402Z
UID:10005848-1722502800-1722505500@saintthomaszanesville.org
SUMMARY:Mass
DESCRIPTION:
URL:https://saintthomaszanesville.org/event/mass-5-3/2024-08-01/
LOCATION:St Thomas
CATEGORIES:Mass
END:VEVENT
BEGIN:VEVENT
DTSTART;TZID=America/Detroit:20240802T090000
DTEND;TZID=America/Detroit:20240802T094500
DTSTAMP:20260422T182420
CREATED:20231026T143024Z
LAST-MODIFIED:20260219T151539Z
UID:10006107-1722589200-1722591900@saintthomaszanesville.org
SUMMARY:Mass
DESCRIPTION:
URL:https://saintthomaszanesville.org/event/mass-6-2/2024-08-02/
LOCATION:St Thomas
CATEGORIES:Mass
END:VEVENT
BEGIN:VEVENT
DTSTART;TZID=America/Detroit:20240803T153000
DTEND;TZID=America/Detroit:20240803T161500
DTSTAMP:20260422T182420
CREATED:20230123T173105Z
LAST-MODIFIED:20260219T153419Z
UID:10003258-1722699000-1722701700@saintthomaszanesville.org
SUMMARY:Confessions
DESCRIPTION:
URL:https://saintthomaszanesville.org/event/confessions/2024-08-03/
LOCATION:St Thomas
CATEGORIES:Confessions
END:VEVENT
BEGIN:VEVENT
DTSTART;TZID=America/Detroit:20240803T163000
DTEND;TZID=America/Detroit:20240803T173000
DTSTAMP:20260422T182420
CREATED:20240626T171342Z
LAST-MODIFIED:20260219T153326Z
UID:10007921-1722702600-1722706200@saintthomaszanesville.org
SUMMARY:Mass
DESCRIPTION:
URL:https://saintthomaszanesville.org/event/mass/2024-08-03/
LOCATION:St Thomas
CATEGORIES:Mass
END:VEVENT
BEGIN:VEVENT
DTSTART;TZID=America/Detroit:20240804T074500
DTEND;TZID=America/Detroit:20240804T084500
DTSTAMP:20260422T182420
CREATED:20240626T174505Z
LAST-MODIFIED:20250917T124608Z
UID:10008725-1722757500-1722761100@saintthomaszanesville.org
SUMMARY:Mass
DESCRIPTION:
URL:https://saintthomaszanesville.org/event/mass-2-2/2024-08-04/
LOCATION:OH
CATEGORIES:Mass
END:VEVENT
BEGIN:VEVENT
DTSTART;TZID=America/Detroit:20240804T094500
DTEND;TZID=America/Detroit:20240804T223000
DTSTAMP:20260422T182420
CREATED:20231026T154327Z
LAST-MODIFIED:20240829T124728Z
UID:10006964-1722764700-1722810600@saintthomaszanesville.org
SUMMARY:Choir Rehearsal
DESCRIPTION:
URL:https://saintthomaszanesville.org/event/choir-rehersal-2/2024-08-04/
LOCATION:Activity Center
CATEGORIES:Choir
END:VEVENT
BEGIN:VEVENT
DTSTART;TZID=America/Detroit:20240804T110000
DTEND;TZID=America/Detroit:20240804T120000
DTSTAMP:20260422T182420
CREATED:20240626T174409Z
LAST-MODIFIED:20241205T172135Z
UID:10008990-1722769200-1722772800@saintthomaszanesville.org
SUMMARY:Mass
DESCRIPTION:
URL:https://saintthomaszanesville.org/event/mass-2/2024-08-04/
LOCATION:OH
CATEGORIES:Mass
END:VEVENT
BEGIN:VEVENT
DTSTART;TZID=America/Detroit:20240806T090000
DTEND;TZID=America/Detroit:20240806T094500
DTSTAMP:20260422T182420
CREATED:20230717T191610Z
LAST-MODIFIED:20260219T151222Z
UID:10005590-1722934800-1722937500@saintthomaszanesville.org
SUMMARY:Mass
DESCRIPTION:
URL:https://saintthomaszanesville.org/event/mass-4/2024-08-06/
LOCATION:St Thomas
CATEGORIES:Mass
END:VEVENT
BEGIN:VEVENT
DTSTART;TZID=America/Detroit:20240807T090000
DTEND;TZID=America/Detroit:20240807T094500
DTSTAMP:20260422T182420
CREATED:20230717T191330Z
LAST-MODIFIED:20251121T143234Z
UID:10005331-1723021200-1723023900@saintthomaszanesville.org
SUMMARY:Mass
DESCRIPTION:
URL:https://saintthomaszanesville.org/event/mass-3/2024-08-07/
LOCATION:St Thomas
CATEGORIES:Mass
END:VEVENT
BEGIN:VEVENT
DTSTART;TZID=America/Detroit:20240807T100000
DTEND;TZID=America/Detroit:20240807T210000
DTSTAMP:20260422T182420
CREATED:20231025T130420Z
LAST-MODIFIED:20260219T151646Z
UID:10006366-1723024800-1723064400@saintthomaszanesville.org
SUMMARY:Eucharistic Exposition of the Blessed Sacrement
DESCRIPTION:
URL:https://saintthomaszanesville.org/event/eucharistic-exposition-of-the-blessed-sacrement-2-2/2024-08-07/
LOCATION:St Thomas
CATEGORIES:Eucharist
END:VEVENT
BEGIN:VEVENT
DTSTART;TZID=America/Detroit:20240808T090000
DTEND;TZID=America/Detroit:20240808T094500
DTSTAMP:20260422T182420
CREATED:20231025T130315Z
LAST-MODIFIED:20260219T151402Z
UID:10005849-1723107600-1723110300@saintthomaszanesville.org
SUMMARY:Mass
DESCRIPTION:
URL:https://saintthomaszanesville.org/event/mass-5-3/2024-08-08/
LOCATION:St Thomas
CATEGORIES:Mass
END:VEVENT
BEGIN:VEVENT
DTSTART;TZID=America/Detroit:20240809T090000
DTEND;TZID=America/Detroit:20240809T094500
DTSTAMP:20260422T182420
CREATED:20231026T143024Z
LAST-MODIFIED:20260219T151539Z
UID:10006108-1723194000-1723196700@saintthomaszanesville.org
SUMMARY:Mass
DESCRIPTION:
URL:https://saintthomaszanesville.org/event/mass-6-2/2024-08-09/
LOCATION:St Thomas
CATEGORIES:Mass
END:VEVENT
BEGIN:VEVENT
DTSTART;TZID=America/Detroit:20240810T153000
DTEND;TZID=America/Detroit:20240810T161500
DTSTAMP:20260422T182420
CREATED:20230123T173105Z
LAST-MODIFIED:20260219T153419Z
UID:10003259-1723303800-1723306500@saintthomaszanesville.org
SUMMARY:Confessions
DESCRIPTION:
URL:https://saintthomaszanesville.org/event/confessions/2024-08-10/
LOCATION:St Thomas
CATEGORIES:Confessions
END:VEVENT
BEGIN:VEVENT
DTSTART;TZID=America/Detroit:20240810T163000
DTEND;TZID=America/Detroit:20240810T173000
DTSTAMP:20260422T182420
CREATED:20240626T171342Z
LAST-MODIFIED:20260219T153326Z
UID:10007922-1723307400-1723311000@saintthomaszanesville.org
SUMMARY:Mass
DESCRIPTION:
URL:https://saintthomaszanesville.org/event/mass/2024-08-10/
LOCATION:St Thomas
CATEGORIES:Mass
END:VEVENT
BEGIN:VEVENT
DTSTART;TZID=America/Detroit:20240811T074500
DTEND;TZID=America/Detroit:20240811T084500
DTSTAMP:20260422T182420
CREATED:20240626T174505Z
LAST-MODIFIED:20250917T124608Z
UID:10008726-1723362300-1723365900@saintthomaszanesville.org
SUMMARY:Mass
DESCRIPTION:
URL:https://saintthomaszanesville.org/event/mass-2-2/2024-08-11/
LOCATION:OH
CATEGORIES:Mass
END:VEVENT
BEGIN:VEVENT
DTSTART;TZID=America/Detroit:20240811T094500
DTEND;TZID=America/Detroit:20240811T223000
DTSTAMP:20260422T182420
CREATED:20231026T154327Z
LAST-MODIFIED:20240829T124728Z
UID:10006965-1723369500-1723415400@saintthomaszanesville.org
SUMMARY:Choir Rehearsal
DESCRIPTION:
URL:https://saintthomaszanesville.org/event/choir-rehersal-2/2024-08-11/
LOCATION:Activity Center
CATEGORIES:Choir
END:VEVENT
BEGIN:VEVENT
DTSTART;TZID=America/Detroit:20240811T110000
DTEND;TZID=America/Detroit:20240811T120000
DTSTAMP:20260422T182420
CREATED:20240626T174409Z
LAST-MODIFIED:20241205T172135Z
UID:10008991-1723374000-1723377600@saintthomaszanesville.org
SUMMARY:Mass
DESCRIPTION:
URL:https://saintthomaszanesville.org/event/mass-2/2024-08-11/
LOCATION:OH
CATEGORIES:Mass
END:VEVENT
BEGIN:VEVENT
DTSTART;TZID=America/Detroit:20240813T090000
DTEND;TZID=America/Detroit:20240813T094500
DTSTAMP:20260422T182420
CREATED:20230717T191610Z
LAST-MODIFIED:20260219T151222Z
UID:10005591-1723539600-1723542300@saintthomaszanesville.org
SUMMARY:Mass
DESCRIPTION:
URL:https://saintthomaszanesville.org/event/mass-4/2024-08-13/
LOCATION:St Thomas
CATEGORIES:Mass
END:VEVENT
BEGIN:VEVENT
DTSTART;TZID=America/Detroit:20240814T090000
DTEND;TZID=America/Detroit:20240814T094500
DTSTAMP:20260422T182420
CREATED:20230717T191330Z
LAST-MODIFIED:20251121T143234Z
UID:10005332-1723626000-1723628700@saintthomaszanesville.org
SUMMARY:Mass
DESCRIPTION:
URL:https://saintthomaszanesville.org/event/mass-3/2024-08-14/
LOCATION:St Thomas
CATEGORIES:Mass
END:VEVENT
BEGIN:VEVENT
DTSTART;TZID=America/Detroit:20240814T100000
DTEND;TZID=America/Detroit:20240814T210000
DTSTAMP:20260422T182420
CREATED:20231025T130420Z
LAST-MODIFIED:20260219T151646Z
UID:10006367-1723629600-1723669200@saintthomaszanesville.org
SUMMARY:Eucharistic Exposition of the Blessed Sacrement
DESCRIPTION:
URL:https://saintthomaszanesville.org/event/eucharistic-exposition-of-the-blessed-sacrement-2-2/2024-08-14/
LOCATION:St Thomas
CATEGORIES:Eucharist
END:VEVENT
BEGIN:VEVENT
DTSTART;TZID=America/Detroit:20240815T090000
DTEND;TZID=America/Detroit:20240815T094500
DTSTAMP:20260422T182420
CREATED:20231025T130315Z
LAST-MODIFIED:20260219T151402Z
UID:10005850-1723712400-1723715100@saintthomaszanesville.org
SUMMARY:Mass
DESCRIPTION:
URL:https://saintthomaszanesville.org/event/mass-5-3/2024-08-15/
LOCATION:St Thomas
CATEGORIES:Mass
END:VEVENT
BEGIN:VEVENT
DTSTART;TZID=America/Detroit:20240816T090000
DTEND;TZID=America/Detroit:20240816T094500
DTSTAMP:20260422T182420
CREATED:20231026T143024Z
LAST-MODIFIED:20260219T151539Z
UID:10006109-1723798800-1723801500@saintthomaszanesville.org
SUMMARY:Mass
DESCRIPTION:
URL:https://saintthomaszanesville.org/event/mass-6-2/2024-08-16/
LOCATION:St Thomas
CATEGORIES:Mass
END:VEVENT
BEGIN:VEVENT
DTSTART;TZID=America/Detroit:20240817T153000
DTEND;TZID=America/Detroit:20240817T161500
DTSTAMP:20260422T182420
CREATED:20230123T173105Z
LAST-MODIFIED:20260219T153419Z
UID:10003260-1723908600-1723911300@saintthomaszanesville.org
SUMMARY:Confessions
DESCRIPTION:
URL:https://saintthomaszanesville.org/event/confessions/2024-08-17/
LOCATION:St Thomas
CATEGORIES:Confessions
END:VEVENT
BEGIN:VEVENT
DTSTART;TZID=America/Detroit:20240817T163000
DTEND;TZID=America/Detroit:20240817T173000
DTSTAMP:20260422T182420
CREATED:20240626T171342Z
LAST-MODIFIED:20260219T153326Z
UID:10007923-1723912200-1723915800@saintthomaszanesville.org
SUMMARY:Mass
DESCRIPTION:
URL:https://saintthomaszanesville.org/event/mass/2024-08-17/
LOCATION:St Thomas
CATEGORIES:Mass
END:VEVENT
BEGIN:VEVENT
DTSTART;TZID=America/Detroit:20240818T074500
DTEND;TZID=America/Detroit:20240818T084500
DTSTAMP:20260422T182420
CREATED:20240626T174505Z
LAST-MODIFIED:20250917T124608Z
UID:10008727-1723967100-1723970700@saintthomaszanesville.org
SUMMARY:Mass
DESCRIPTION:
URL:https://saintthomaszanesville.org/event/mass-2-2/2024-08-18/
LOCATION:OH
CATEGORIES:Mass
END:VEVENT
BEGIN:VEVENT
DTSTART;TZID=America/Detroit:20240818T094500
DTEND;TZID=America/Detroit:20240818T223000
DTSTAMP:20260422T182420
CREATED:20231026T154327Z
LAST-MODIFIED:20240829T124728Z
UID:10006966-1723974300-1724020200@saintthomaszanesville.org
SUMMARY:Choir Rehearsal
DESCRIPTION:
URL:https://saintthomaszanesville.org/event/choir-rehersal-2/2024-08-18/
LOCATION:Activity Center
CATEGORIES:Choir
END:VEVENT
BEGIN:VEVENT
DTSTART;TZID=America/Detroit:20240818T110000
DTEND;TZID=America/Detroit:20240818T120000
DTSTAMP:20260422T182420
CREATED:20240626T174409Z
LAST-MODIFIED:20241205T172135Z
UID:10008992-1723978800-1723982400@saintthomaszanesville.org
SUMMARY:Mass
DESCRIPTION:
URL:https://saintthomaszanesville.org/event/mass-2/2024-08-18/
LOCATION:OH
CATEGORIES:Mass
END:VEVENT
BEGIN:VEVENT
DTSTART;TZID=America/Detroit:20240820T090000
DTEND;TZID=America/Detroit:20240820T094500
DTSTAMP:20260422T182420
CREATED:20230717T191610Z
LAST-MODIFIED:20260219T151222Z
UID:10005592-1724144400-1724147100@saintthomaszanesville.org
SUMMARY:Mass
DESCRIPTION:
URL:https://saintthomaszanesville.org/event/mass-4/2024-08-20/
LOCATION:St Thomas
CATEGORIES:Mass
END:VEVENT
BEGIN:VEVENT
DTSTART;TZID=America/Detroit:20240821T090000
DTEND;TZID=America/Detroit:20240821T094500
DTSTAMP:20260422T182420
CREATED:20230717T191330Z
LAST-MODIFIED:20251121T143234Z
UID:10005333-1724230800-1724233500@saintthomaszanesville.org
SUMMARY:Mass
DESCRIPTION:
URL:https://saintthomaszanesville.org/event/mass-3/2024-08-21/
LOCATION:St Thomas
CATEGORIES:Mass
END:VEVENT
BEGIN:VEVENT
DTSTART;TZID=America/Detroit:20240821T100000
DTEND;TZID=America/Detroit:20240821T210000
DTSTAMP:20260422T182420
CREATED:20231025T130420Z
LAST-MODIFIED:20260219T151646Z
UID:10006368-1724234400-1724274000@saintthomaszanesville.org
SUMMARY:Eucharistic Exposition of the Blessed Sacrement
DESCRIPTION:
URL:https://saintthomaszanesville.org/event/eucharistic-exposition-of-the-blessed-sacrement-2-2/2024-08-21/
LOCATION:St Thomas
CATEGORIES:Eucharist
END:VEVENT
END:VCALENDAR