BEGIN:VCALENDAR
VERSION:2.0
PRODID:-//Saint Thomas Acquinas Zanesville - ECPv6.15.20//NONSGML v1.0//EN
CALSCALE:GREGORIAN
METHOD:PUBLISH
X-WR-CALNAME:Saint Thomas Acquinas Zanesville
X-ORIGINAL-URL:https://saintthomaszanesville.org
X-WR-CALDESC:Events for Saint Thomas Acquinas Zanesville
REFRESH-INTERVAL;VALUE=DURATION:PT1H
X-Robots-Tag:noindex
X-PUBLISHED-TTL:PT1H
BEGIN:VTIMEZONE
TZID:America/Detroit
BEGIN:DAYLIGHT
TZOFFSETFROM:-0500
TZOFFSETTO:-0400
TZNAME:EDT
DTSTART:20240310T070000
END:DAYLIGHT
BEGIN:STANDARD
TZOFFSETFROM:-0400
TZOFFSETTO:-0500
TZNAME:EST
DTSTART:20241103T060000
END:STANDARD
BEGIN:DAYLIGHT
TZOFFSETFROM:-0500
TZOFFSETTO:-0400
TZNAME:EDT
DTSTART:20250309T070000
END:DAYLIGHT
BEGIN:STANDARD
TZOFFSETFROM:-0400
TZOFFSETTO:-0500
TZNAME:EST
DTSTART:20251102T060000
END:STANDARD
BEGIN:DAYLIGHT
TZOFFSETFROM:-0500
TZOFFSETTO:-0400
TZNAME:EDT
DTSTART:20260308T070000
END:DAYLIGHT
BEGIN:STANDARD
TZOFFSETFROM:-0400
TZOFFSETTO:-0500
TZNAME:EST
DTSTART:20261101T060000
END:STANDARD
END:VTIMEZONE
BEGIN:VEVENT
DTSTART;TZID=America/Detroit:20250831T074500
DTEND;TZID=America/Detroit:20250831T084500
DTSTAMP:20260421T105055
CREATED:20240626T174505Z
LAST-MODIFIED:20250917T124608Z
UID:10008781-1756626300-1756629900@saintthomaszanesville.org
SUMMARY:Mass
DESCRIPTION:
URL:https://saintthomaszanesville.org/event/mass-2-2/2025-08-31/
LOCATION:OH
CATEGORIES:Mass
END:VEVENT
BEGIN:VEVENT
DTSTART;TZID=America/Detroit:20250830T163000
DTEND;TZID=America/Detroit:20250830T173000
DTSTAMP:20260421T105055
CREATED:20240626T171342Z
LAST-MODIFIED:20260219T153326Z
UID:10007977-1756571400-1756575000@saintthomaszanesville.org
SUMMARY:Mass
DESCRIPTION:
URL:https://saintthomaszanesville.org/event/mass/2025-08-30/
LOCATION:St Thomas
CATEGORIES:Mass
END:VEVENT
BEGIN:VEVENT
DTSTART;TZID=America/Detroit:20250830T153000
DTEND;TZID=America/Detroit:20250830T161500
DTSTAMP:20260421T105055
CREATED:20230123T173105Z
LAST-MODIFIED:20260219T153419Z
UID:10003314-1756567800-1756570500@saintthomaszanesville.org
SUMMARY:Confessions
DESCRIPTION:
URL:https://saintthomaszanesville.org/event/confessions/2025-08-30/
LOCATION:St Thomas
CATEGORIES:Confessions
END:VEVENT
BEGIN:VEVENT
DTSTART;TZID=America/Detroit:20250829T090000
DTEND;TZID=America/Detroit:20250829T094500
DTSTAMP:20260421T105055
CREATED:20231026T143024Z
LAST-MODIFIED:20260219T151539Z
UID:10006163-1756458000-1756460700@saintthomaszanesville.org
SUMMARY:Mass
DESCRIPTION:
URL:https://saintthomaszanesville.org/event/mass-6-2/2025-08-29/
LOCATION:St Thomas
CATEGORIES:Mass
END:VEVENT
BEGIN:VEVENT
DTSTART;TZID=America/Detroit:20250828T090000
DTEND;TZID=America/Detroit:20250828T094500
DTSTAMP:20260421T105055
CREATED:20231025T130315Z
LAST-MODIFIED:20260219T151402Z
UID:10005904-1756371600-1756374300@saintthomaszanesville.org
SUMMARY:Mass
DESCRIPTION:
URL:https://saintthomaszanesville.org/event/mass-5-3/2025-08-28/
LOCATION:St Thomas
CATEGORIES:Mass
END:VEVENT
BEGIN:VEVENT
DTSTART;TZID=America/Detroit:20250827T100000
DTEND;TZID=America/Detroit:20250827T210000
DTSTAMP:20260421T105055
CREATED:20231025T130420Z
LAST-MODIFIED:20260219T151646Z
UID:10006421-1756288800-1756328400@saintthomaszanesville.org
SUMMARY:Eucharistic Exposition of the Blessed Sacrement
DESCRIPTION:
URL:https://saintthomaszanesville.org/event/eucharistic-exposition-of-the-blessed-sacrement-2-2/2025-08-27/
LOCATION:St Thomas
CATEGORIES:Eucharist
END:VEVENT
BEGIN:VEVENT
DTSTART;TZID=America/Detroit:20250827T090000
DTEND;TZID=America/Detroit:20250827T094500
DTSTAMP:20260421T105055
CREATED:20230717T191330Z
LAST-MODIFIED:20251121T143234Z
UID:10005386-1756285200-1756287900@saintthomaszanesville.org
SUMMARY:Mass
DESCRIPTION:
URL:https://saintthomaszanesville.org/event/mass-3/2025-08-27/
LOCATION:St Thomas
CATEGORIES:Mass
END:VEVENT
BEGIN:VEVENT
DTSTART;TZID=America/Detroit:20250826T090000
DTEND;TZID=America/Detroit:20250826T094500
DTSTAMP:20260421T105055
CREATED:20230717T191610Z
LAST-MODIFIED:20260219T151222Z
UID:10005645-1756198800-1756201500@saintthomaszanesville.org
SUMMARY:Mass
DESCRIPTION:
URL:https://saintthomaszanesville.org/event/mass-4/2025-08-26/
LOCATION:St Thomas
CATEGORIES:Mass
END:VEVENT
BEGIN:VEVENT
DTSTART;TZID=America/Detroit:20250824T110000
DTEND;TZID=America/Detroit:20250824T120000
DTSTAMP:20260421T105055
CREATED:20240626T174409Z
LAST-MODIFIED:20241205T172135Z
UID:10009045-1756033200-1756036800@saintthomaszanesville.org
SUMMARY:Mass
DESCRIPTION:
URL:https://saintthomaszanesville.org/event/mass-2/2025-08-24/
LOCATION:OH
CATEGORIES:Mass
END:VEVENT
BEGIN:VEVENT
DTSTART;TZID=America/Detroit:20250824T094500
DTEND;TZID=America/Detroit:20250824T223000
DTSTAMP:20260421T105055
CREATED:20231026T154327Z
LAST-MODIFIED:20240829T124728Z
UID:10007019-1756028700-1756074600@saintthomaszanesville.org
SUMMARY:Choir Rehearsal
DESCRIPTION:
URL:https://saintthomaszanesville.org/event/choir-rehersal-2/2025-08-24/
LOCATION:Activity Center
CATEGORIES:Choir
END:VEVENT
BEGIN:VEVENT
DTSTART;TZID=America/Detroit:20250824T074500
DTEND;TZID=America/Detroit:20250824T084500
DTSTAMP:20260421T105055
CREATED:20240626T174505Z
LAST-MODIFIED:20250917T124608Z
UID:10008780-1756021500-1756025100@saintthomaszanesville.org
SUMMARY:Mass
DESCRIPTION:
URL:https://saintthomaszanesville.org/event/mass-2-2/2025-08-24/
LOCATION:OH
CATEGORIES:Mass
END:VEVENT
BEGIN:VEVENT
DTSTART;TZID=America/Detroit:20250823T163000
DTEND;TZID=America/Detroit:20250823T173000
DTSTAMP:20260421T105055
CREATED:20240626T171342Z
LAST-MODIFIED:20260219T153326Z
UID:10007976-1755966600-1755970200@saintthomaszanesville.org
SUMMARY:Mass
DESCRIPTION:
URL:https://saintthomaszanesville.org/event/mass/2025-08-23/
LOCATION:St Thomas
CATEGORIES:Mass
END:VEVENT
BEGIN:VEVENT
DTSTART;TZID=America/Detroit:20250823T153000
DTEND;TZID=America/Detroit:20250823T161500
DTSTAMP:20260421T105055
CREATED:20230123T173105Z
LAST-MODIFIED:20260219T153419Z
UID:10003313-1755963000-1755965700@saintthomaszanesville.org
SUMMARY:Confessions
DESCRIPTION:
URL:https://saintthomaszanesville.org/event/confessions/2025-08-23/
LOCATION:St Thomas
CATEGORIES:Confessions
END:VEVENT
BEGIN:VEVENT
DTSTART;TZID=America/Detroit:20250822T090000
DTEND;TZID=America/Detroit:20250822T094500
DTSTAMP:20260421T105055
CREATED:20231026T143024Z
LAST-MODIFIED:20260219T151539Z
UID:10006162-1755853200-1755855900@saintthomaszanesville.org
SUMMARY:Mass
DESCRIPTION:
URL:https://saintthomaszanesville.org/event/mass-6-2/2025-08-22/
LOCATION:St Thomas
CATEGORIES:Mass
END:VEVENT
BEGIN:VEVENT
DTSTART;TZID=America/Detroit:20250821T090000
DTEND;TZID=America/Detroit:20250821T094500
DTSTAMP:20260421T105055
CREATED:20231025T130315Z
LAST-MODIFIED:20260219T151402Z
UID:10005903-1755766800-1755769500@saintthomaszanesville.org
SUMMARY:Mass
DESCRIPTION:
URL:https://saintthomaszanesville.org/event/mass-5-3/2025-08-21/
LOCATION:St Thomas
CATEGORIES:Mass
END:VEVENT
BEGIN:VEVENT
DTSTART;TZID=America/Detroit:20250820T100000
DTEND;TZID=America/Detroit:20250820T210000
DTSTAMP:20260421T105055
CREATED:20231025T130420Z
LAST-MODIFIED:20260219T151646Z
UID:10006420-1755684000-1755723600@saintthomaszanesville.org
SUMMARY:Eucharistic Exposition of the Blessed Sacrement
DESCRIPTION:
URL:https://saintthomaszanesville.org/event/eucharistic-exposition-of-the-blessed-sacrement-2-2/2025-08-20/
LOCATION:St Thomas
CATEGORIES:Eucharist
END:VEVENT
BEGIN:VEVENT
DTSTART;TZID=America/Detroit:20250820T090000
DTEND;TZID=America/Detroit:20250820T094500
DTSTAMP:20260421T105055
CREATED:20230717T191330Z
LAST-MODIFIED:20251121T143234Z
UID:10005385-1755680400-1755683100@saintthomaszanesville.org
SUMMARY:Mass
DESCRIPTION:
URL:https://saintthomaszanesville.org/event/mass-3/2025-08-20/
LOCATION:St Thomas
CATEGORIES:Mass
END:VEVENT
BEGIN:VEVENT
DTSTART;TZID=America/Detroit:20250819T090000
DTEND;TZID=America/Detroit:20250819T094500
DTSTAMP:20260421T105055
CREATED:20230717T191610Z
LAST-MODIFIED:20260219T151222Z
UID:10005644-1755594000-1755596700@saintthomaszanesville.org
SUMMARY:Mass
DESCRIPTION:
URL:https://saintthomaszanesville.org/event/mass-4/2025-08-19/
LOCATION:St Thomas
CATEGORIES:Mass
END:VEVENT
BEGIN:VEVENT
DTSTART;TZID=America/Detroit:20250817T110000
DTEND;TZID=America/Detroit:20250817T120000
DTSTAMP:20260421T105055
CREATED:20240626T174409Z
LAST-MODIFIED:20241205T172135Z
UID:10009044-1755428400-1755432000@saintthomaszanesville.org
SUMMARY:Mass
DESCRIPTION:
URL:https://saintthomaszanesville.org/event/mass-2/2025-08-17/
LOCATION:OH
CATEGORIES:Mass
END:VEVENT
BEGIN:VEVENT
DTSTART;TZID=America/Detroit:20250817T094500
DTEND;TZID=America/Detroit:20250817T223000
DTSTAMP:20260421T105055
CREATED:20231026T154327Z
LAST-MODIFIED:20240829T124728Z
UID:10007018-1755423900-1755469800@saintthomaszanesville.org
SUMMARY:Choir Rehearsal
DESCRIPTION:
URL:https://saintthomaszanesville.org/event/choir-rehersal-2/2025-08-17/
LOCATION:Activity Center
CATEGORIES:Choir
END:VEVENT
BEGIN:VEVENT
DTSTART;TZID=America/Detroit:20250817T074500
DTEND;TZID=America/Detroit:20250817T084500
DTSTAMP:20260421T105055
CREATED:20240626T174505Z
LAST-MODIFIED:20250917T124608Z
UID:10008779-1755416700-1755420300@saintthomaszanesville.org
SUMMARY:Mass
DESCRIPTION:
URL:https://saintthomaszanesville.org/event/mass-2-2/2025-08-17/
LOCATION:OH
CATEGORIES:Mass
END:VEVENT
BEGIN:VEVENT
DTSTART;TZID=America/Detroit:20250816T163000
DTEND;TZID=America/Detroit:20250816T173000
DTSTAMP:20260421T105055
CREATED:20240626T171342Z
LAST-MODIFIED:20260219T153326Z
UID:10007975-1755361800-1755365400@saintthomaszanesville.org
SUMMARY:Mass
DESCRIPTION:
URL:https://saintthomaszanesville.org/event/mass/2025-08-16/
LOCATION:St Thomas
CATEGORIES:Mass
END:VEVENT
BEGIN:VEVENT
DTSTART;TZID=America/Detroit:20250816T153000
DTEND;TZID=America/Detroit:20250816T161500
DTSTAMP:20260421T105055
CREATED:20230123T173105Z
LAST-MODIFIED:20260219T153419Z
UID:10003312-1755358200-1755360900@saintthomaszanesville.org
SUMMARY:Confessions
DESCRIPTION:
URL:https://saintthomaszanesville.org/event/confessions/2025-08-16/
LOCATION:St Thomas
CATEGORIES:Confessions
END:VEVENT
BEGIN:VEVENT
DTSTART;TZID=America/Detroit:20250815T180000
DTEND;TZID=America/Detroit:20250815T190000
DTSTAMP:20260421T105055
CREATED:20230718T160253Z
LAST-MODIFIED:20250729T125325Z
UID:10009856-1755280800-1755284400@saintthomaszanesville.org
SUMMARY:Assumption of Mary
DESCRIPTION:
URL:https://saintthomaszanesville.org/event/assumption-of-mary/2025-08-15/2/
LOCATION:St Thomas
CATEGORIES:Mass
END:VEVENT
BEGIN:VEVENT
DTSTART;TZID=America/Detroit:20250815T090000
DTEND;TZID=America/Detroit:20250815T100000
DTSTAMP:20260421T105055
CREATED:20230718T160253Z
LAST-MODIFIED:20250729T125325Z
UID:10009855-1755248400-1755252000@saintthomaszanesville.org
SUMMARY:Assumption of Mary
DESCRIPTION:
URL:https://saintthomaszanesville.org/event/assumption-of-mary/2025-08-15/1/
LOCATION:St Thomas
CATEGORIES:Mass
END:VEVENT
BEGIN:VEVENT
DTSTART;TZID=America/Detroit:20250814T090000
DTEND;TZID=America/Detroit:20250814T094500
DTSTAMP:20260421T105055
CREATED:20231025T130315Z
LAST-MODIFIED:20260219T151402Z
UID:10005902-1755162000-1755164700@saintthomaszanesville.org
SUMMARY:Mass
DESCRIPTION:
URL:https://saintthomaszanesville.org/event/mass-5-3/2025-08-14/
LOCATION:St Thomas
CATEGORIES:Mass
END:VEVENT
BEGIN:VEVENT
DTSTART;TZID=America/Detroit:20250813T100000
DTEND;TZID=America/Detroit:20250813T210000
DTSTAMP:20260421T105055
CREATED:20231025T130420Z
LAST-MODIFIED:20260219T151646Z
UID:10006419-1755079200-1755118800@saintthomaszanesville.org
SUMMARY:Eucharistic Exposition of the Blessed Sacrement
DESCRIPTION:
URL:https://saintthomaszanesville.org/event/eucharistic-exposition-of-the-blessed-sacrement-2-2/2025-08-13/
LOCATION:St Thomas
CATEGORIES:Eucharist
END:VEVENT
BEGIN:VEVENT
DTSTART;TZID=America/Detroit:20250813T090000
DTEND;TZID=America/Detroit:20250813T094500
DTSTAMP:20260421T105055
CREATED:20230717T191330Z
LAST-MODIFIED:20251121T143234Z
UID:10005384-1755075600-1755078300@saintthomaszanesville.org
SUMMARY:Mass
DESCRIPTION:
URL:https://saintthomaszanesville.org/event/mass-3/2025-08-13/
LOCATION:St Thomas
CATEGORIES:Mass
END:VEVENT
BEGIN:VEVENT
DTSTART;TZID=America/Detroit:20250812T090000
DTEND;TZID=America/Detroit:20250812T094500
DTSTAMP:20260421T105055
CREATED:20230717T191610Z
LAST-MODIFIED:20260219T151222Z
UID:10005643-1754989200-1754991900@saintthomaszanesville.org
SUMMARY:Mass
DESCRIPTION:
URL:https://saintthomaszanesville.org/event/mass-4/2025-08-12/
LOCATION:St Thomas
CATEGORIES:Mass
END:VEVENT
BEGIN:VEVENT
DTSTART;TZID=America/Detroit:20250810T110000
DTEND;TZID=America/Detroit:20250810T120000
DTSTAMP:20260421T105055
CREATED:20240626T174409Z
LAST-MODIFIED:20241205T172135Z
UID:10009043-1754823600-1754827200@saintthomaszanesville.org
SUMMARY:Mass
DESCRIPTION:
URL:https://saintthomaszanesville.org/event/mass-2/2025-08-10/
LOCATION:OH
CATEGORIES:Mass
END:VEVENT
END:VCALENDAR