BEGIN:VCALENDAR
VERSION:2.0
PRODID:-//Saint Thomas Acquinas Zanesville - ECPv6.15.20//NONSGML v1.0//EN
CALSCALE:GREGORIAN
METHOD:PUBLISH
X-ORIGINAL-URL:https://saintthomaszanesville.org
X-WR-CALDESC:Events for Saint Thomas Acquinas Zanesville
REFRESH-INTERVAL;VALUE=DURATION:PT1H
X-Robots-Tag:noindex
X-PUBLISHED-TTL:PT1H
BEGIN:VTIMEZONE
TZID:America/Detroit
BEGIN:DAYLIGHT
TZOFFSETFROM:-0500
TZOFFSETTO:-0400
TZNAME:EDT
DTSTART:20240310T070000
END:DAYLIGHT
BEGIN:STANDARD
TZOFFSETFROM:-0400
TZOFFSETTO:-0500
TZNAME:EST
DTSTART:20241103T060000
END:STANDARD
BEGIN:DAYLIGHT
TZOFFSETFROM:-0500
TZOFFSETTO:-0400
TZNAME:EDT
DTSTART:20250309T070000
END:DAYLIGHT
BEGIN:STANDARD
TZOFFSETFROM:-0400
TZOFFSETTO:-0500
TZNAME:EST
DTSTART:20251102T060000
END:STANDARD
BEGIN:DAYLIGHT
TZOFFSETFROM:-0500
TZOFFSETTO:-0400
TZNAME:EDT
DTSTART:20260308T070000
END:DAYLIGHT
BEGIN:STANDARD
TZOFFSETFROM:-0400
TZOFFSETTO:-0500
TZNAME:EST
DTSTART:20261101T060000
END:STANDARD
BEGIN:DAYLIGHT
TZOFFSETFROM:-0500
TZOFFSETTO:-0400
TZNAME:EDT
DTSTART:20270314T070000
END:DAYLIGHT
BEGIN:STANDARD
TZOFFSETFROM:-0400
TZOFFSETTO:-0500
TZNAME:EST
DTSTART:20271107T060000
END:STANDARD
END:VTIMEZONE
BEGIN:VEVENT
DTSTART;TZID=America/Detroit:20251224T170000
DTEND;TZID=America/Detroit:20251224T190000
DTSTAMP:20260420T201308
CREATED:20241121T155231Z
LAST-MODIFIED:20251121T143001Z
UID:10009583-1766595600-1766602800@saintthomaszanesville.org
SUMMARY:Christmas Eve Mass
DESCRIPTION:
URL:https://saintthomaszanesville.org/event/christmas-eve-mass-2/
LOCATION:St Thomas
CATEGORIES:Mass
END:VEVENT
BEGIN:VEVENT
DTSTART;TZID=America/Detroit:20251224T210000
DTEND;TZID=America/Detroit:20251224T223000
DTSTAMP:20260420T201308
CREATED:20231026T153902Z
LAST-MODIFIED:20251121T143042Z
UID:10007514-1766610000-1766615400@saintthomaszanesville.org
SUMMARY:Christmas Vigil
DESCRIPTION:
URL:https://saintthomaszanesville.org/event/christmas-eve-mass/
LOCATION:St Thomas
CATEGORIES:Mass
END:VEVENT
BEGIN:VEVENT
DTSTART;TZID=America/Detroit:20251225T090000
DTEND;TZID=America/Detroit:20251225T110000
DTSTAMP:20260420T201308
CREATED:20231026T154956Z
LAST-MODIFIED:20251121T143121Z
UID:10007603-1766653200-1766660400@saintthomaszanesville.org
SUMMARY:Christmas Day Mass
DESCRIPTION:
URL:https://saintthomaszanesville.org/event/christmas-day-mass/
LOCATION:St Thomas
CATEGORIES:Mass
END:VEVENT
BEGIN:VEVENT
DTSTART;TZID=America/Detroit:20251226T090000
DTEND;TZID=America/Detroit:20251226T094500
DTSTAMP:20260420T201308
CREATED:20231026T143024Z
LAST-MODIFIED:20260219T151539Z
UID:10006180-1766739600-1766742300@saintthomaszanesville.org
SUMMARY:Mass
DESCRIPTION:
URL:https://saintthomaszanesville.org/event/mass-6-2/2025-12-26/
LOCATION:St Thomas
CATEGORIES:Mass
END:VEVENT
BEGIN:VEVENT
DTSTART;TZID=America/Detroit:20251227T153000
DTEND;TZID=America/Detroit:20251227T161500
DTSTAMP:20260420T201308
CREATED:20230123T173105Z
LAST-MODIFIED:20260219T153419Z
UID:10003331-1766849400-1766852100@saintthomaszanesville.org
SUMMARY:Confessions
DESCRIPTION:
URL:https://saintthomaszanesville.org/event/confessions/2025-12-27/
LOCATION:St Thomas
CATEGORIES:Confessions
END:VEVENT
BEGIN:VEVENT
DTSTART;TZID=America/Detroit:20251227T163000
DTEND;TZID=America/Detroit:20251227T173000
DTSTAMP:20260420T201308
CREATED:20240626T171342Z
LAST-MODIFIED:20260219T153326Z
UID:10007994-1766853000-1766856600@saintthomaszanesville.org
SUMMARY:Mass
DESCRIPTION:
URL:https://saintthomaszanesville.org/event/mass/2025-12-27/
LOCATION:St Thomas
CATEGORIES:Mass
END:VEVENT
BEGIN:VEVENT
DTSTART;TZID=America/Detroit:20251228T074500
DTEND;TZID=America/Detroit:20251228T084500
DTSTAMP:20260420T201308
CREATED:20240626T174505Z
LAST-MODIFIED:20250917T124608Z
UID:10008798-1766907900-1766911500@saintthomaszanesville.org
SUMMARY:Mass
DESCRIPTION:
URL:https://saintthomaszanesville.org/event/mass-2-2/2025-12-28/
LOCATION:OH
CATEGORIES:Mass
END:VEVENT
BEGIN:VEVENT
DTSTART;TZID=America/Detroit:20251228T094500
DTEND;TZID=America/Detroit:20251228T223000
DTSTAMP:20260420T201308
CREATED:20231026T154327Z
LAST-MODIFIED:20240829T124728Z
UID:10007037-1766915100-1766961000@saintthomaszanesville.org
SUMMARY:Choir Rehearsal
DESCRIPTION:
URL:https://saintthomaszanesville.org/event/choir-rehersal-2/2025-12-28/
LOCATION:Activity Center
CATEGORIES:Choir
END:VEVENT
BEGIN:VEVENT
DTSTART;TZID=America/Detroit:20251228T110000
DTEND;TZID=America/Detroit:20251228T120000
DTSTAMP:20260420T201308
CREATED:20240626T174409Z
LAST-MODIFIED:20241205T172135Z
UID:10009063-1766919600-1766923200@saintthomaszanesville.org
SUMMARY:Mass
DESCRIPTION:
URL:https://saintthomaszanesville.org/event/mass-2/2025-12-28/
LOCATION:OH
CATEGORIES:Mass
END:VEVENT
BEGIN:VEVENT
DTSTART;TZID=America/Detroit:20251230T090000
DTEND;TZID=America/Detroit:20251230T094500
DTSTAMP:20260420T201308
CREATED:20230717T191610Z
LAST-MODIFIED:20260219T151222Z
UID:10005663-1767085200-1767087900@saintthomaszanesville.org
SUMMARY:Mass
DESCRIPTION:
URL:https://saintthomaszanesville.org/event/mass-4/2025-12-30/
LOCATION:St Thomas
CATEGORIES:Mass
END:VEVENT
BEGIN:VEVENT
DTSTART;TZID=America/Detroit:20251231T090000
DTEND;TZID=America/Detroit:20251231T094500
DTSTAMP:20260420T201308
CREATED:20230717T191330Z
LAST-MODIFIED:20251121T143234Z
UID:10005404-1767171600-1767174300@saintthomaszanesville.org
SUMMARY:Mass
DESCRIPTION:
URL:https://saintthomaszanesville.org/event/mass-3/2025-12-31/
LOCATION:St Thomas
CATEGORIES:Mass
END:VEVENT
BEGIN:VEVENT
DTSTART;TZID=America/Detroit:20260101T090000
DTEND;TZID=America/Detroit:20260101T094500
DTSTAMP:20260420T201308
CREATED:20231025T130315Z
LAST-MODIFIED:20260219T151402Z
UID:10005922-1767258000-1767260700@saintthomaszanesville.org
SUMMARY:Mass
DESCRIPTION:
URL:https://saintthomaszanesville.org/event/mass-5-3/2026-01-01/
LOCATION:St Thomas
CATEGORIES:Mass
END:VEVENT
BEGIN:VEVENT
DTSTART;TZID=America/Detroit:20260102T090000
DTEND;TZID=America/Detroit:20260102T094500
DTSTAMP:20260420T201308
CREATED:20231026T143024Z
LAST-MODIFIED:20260219T151539Z
UID:10006181-1767344400-1767347100@saintthomaszanesville.org
SUMMARY:Mass
DESCRIPTION:
URL:https://saintthomaszanesville.org/event/mass-6-2/2026-01-02/
LOCATION:St Thomas
CATEGORIES:Mass
END:VEVENT
BEGIN:VEVENT
DTSTART;TZID=America/Detroit:20260103T153000
DTEND;TZID=America/Detroit:20260103T161500
DTSTAMP:20260420T201308
CREATED:20230123T173105Z
LAST-MODIFIED:20260219T153419Z
UID:10003332-1767454200-1767456900@saintthomaszanesville.org
SUMMARY:Confessions
DESCRIPTION:
URL:https://saintthomaszanesville.org/event/confessions/2026-01-03/
LOCATION:St Thomas
CATEGORIES:Confessions
END:VEVENT
BEGIN:VEVENT
DTSTART;TZID=America/Detroit:20260103T163000
DTEND;TZID=America/Detroit:20260103T173000
DTSTAMP:20260420T201308
CREATED:20240626T171342Z
LAST-MODIFIED:20260219T153326Z
UID:10007995-1767457800-1767461400@saintthomaszanesville.org
SUMMARY:Mass
DESCRIPTION:
URL:https://saintthomaszanesville.org/event/mass/2026-01-03/
LOCATION:St Thomas
CATEGORIES:Mass
END:VEVENT
BEGIN:VEVENT
DTSTART;TZID=America/Detroit:20260104T074500
DTEND;TZID=America/Detroit:20260104T084500
DTSTAMP:20260420T201308
CREATED:20240626T174505Z
LAST-MODIFIED:20250917T124608Z
UID:10008799-1767512700-1767516300@saintthomaszanesville.org
SUMMARY:Mass
DESCRIPTION:
URL:https://saintthomaszanesville.org/event/mass-2-2/2026-01-04/
LOCATION:OH
CATEGORIES:Mass
END:VEVENT
BEGIN:VEVENT
DTSTART;TZID=America/Detroit:20260104T094500
DTEND;TZID=America/Detroit:20260104T223000
DTSTAMP:20260420T201308
CREATED:20231026T154327Z
LAST-MODIFIED:20240829T124728Z
UID:10007038-1767519900-1767565800@saintthomaszanesville.org
SUMMARY:Choir Rehearsal
DESCRIPTION:
URL:https://saintthomaszanesville.org/event/choir-rehersal-2/2026-01-04/
LOCATION:Activity Center
CATEGORIES:Choir
END:VEVENT
BEGIN:VEVENT
DTSTART;TZID=America/Detroit:20260104T110000
DTEND;TZID=America/Detroit:20260104T120000
DTSTAMP:20260420T201308
CREATED:20240626T174409Z
LAST-MODIFIED:20241205T172135Z
UID:10009064-1767524400-1767528000@saintthomaszanesville.org
SUMMARY:Mass
DESCRIPTION:
URL:https://saintthomaszanesville.org/event/mass-2/2026-01-04/
LOCATION:OH
CATEGORIES:Mass
END:VEVENT
BEGIN:VEVENT
DTSTART;TZID=America/Detroit:20260106T090000
DTEND;TZID=America/Detroit:20260106T094500
DTSTAMP:20260420T201308
CREATED:20230717T191610Z
LAST-MODIFIED:20260219T151222Z
UID:10005664-1767690000-1767692700@saintthomaszanesville.org
SUMMARY:Mass
DESCRIPTION:
URL:https://saintthomaszanesville.org/event/mass-4/2026-01-06/
LOCATION:St Thomas
CATEGORIES:Mass
END:VEVENT
BEGIN:VEVENT
DTSTART;TZID=America/Detroit:20260107T090000
DTEND;TZID=America/Detroit:20260107T094500
DTSTAMP:20260420T201308
CREATED:20230717T191330Z
LAST-MODIFIED:20251121T143234Z
UID:10005405-1767776400-1767779100@saintthomaszanesville.org
SUMMARY:Mass
DESCRIPTION:
URL:https://saintthomaszanesville.org/event/mass-3/2026-01-07/
LOCATION:St Thomas
CATEGORIES:Mass
END:VEVENT
BEGIN:VEVENT
DTSTART;TZID=America/Detroit:20260107T100000
DTEND;TZID=America/Detroit:20260107T210000
DTSTAMP:20260420T201308
CREATED:20231025T130420Z
LAST-MODIFIED:20260219T151646Z
UID:10006440-1767780000-1767819600@saintthomaszanesville.org
SUMMARY:Eucharistic Exposition of the Blessed Sacrement
DESCRIPTION:
URL:https://saintthomaszanesville.org/event/eucharistic-exposition-of-the-blessed-sacrement-2-2/2026-01-07/
LOCATION:St Thomas
CATEGORIES:Eucharist
END:VEVENT
BEGIN:VEVENT
DTSTART;TZID=America/Detroit:20260107T183000
DTEND;TZID=America/Detroit:20260107T200000
DTSTAMP:20260420T201308
CREATED:20250828T134504Z
LAST-MODIFIED:20250828T134534Z
UID:10009936-1767810600-1767816000@saintthomaszanesville.org
SUMMARY:OCIA
DESCRIPTION:Order of Christian Initiation of Adults \nAll Meetings begin at 6:30 p.m. and end roughly at 8 p.m.\nThey are held at the Saint Nicholas Parish Office\, 925 E. Main St.\nYour Contacts for more information:\nPatty Boggs – pboggs@stnickparish.org – 453-0597\nRobert Rodgers – rrodgers@saintthomaszanesville.org – 453- 3301 ext 125
URL:https://saintthomaszanesville.org/event/ocia/2026-01-07/
LOCATION:St Nicholas\, 925 E Main St\, zanesville\, OH\, 43701\, United States
END:VEVENT
BEGIN:VEVENT
DTSTART;TZID=America/Detroit:20260108T090000
DTEND;TZID=America/Detroit:20260108T094500
DTSTAMP:20260420T201308
CREATED:20231025T130315Z
LAST-MODIFIED:20260219T151402Z
UID:10005923-1767862800-1767865500@saintthomaszanesville.org
SUMMARY:Mass
DESCRIPTION:
URL:https://saintthomaszanesville.org/event/mass-5-3/2026-01-08/
LOCATION:St Thomas
CATEGORIES:Mass
END:VEVENT
BEGIN:VEVENT
DTSTART;TZID=America/Detroit:20260109T090000
DTEND;TZID=America/Detroit:20260109T094500
DTSTAMP:20260420T201308
CREATED:20231026T143024Z
LAST-MODIFIED:20260219T151539Z
UID:10006182-1767949200-1767951900@saintthomaszanesville.org
SUMMARY:Mass
DESCRIPTION:
URL:https://saintthomaszanesville.org/event/mass-6-2/2026-01-09/
LOCATION:St Thomas
CATEGORIES:Mass
END:VEVENT
BEGIN:VEVENT
DTSTART;TZID=America/Detroit:20260110T153000
DTEND;TZID=America/Detroit:20260110T161500
DTSTAMP:20260420T201308
CREATED:20230123T173105Z
LAST-MODIFIED:20260219T153419Z
UID:10003333-1768059000-1768061700@saintthomaszanesville.org
SUMMARY:Confessions
DESCRIPTION:
URL:https://saintthomaszanesville.org/event/confessions/2026-01-10/
LOCATION:St Thomas
CATEGORIES:Confessions
END:VEVENT
BEGIN:VEVENT
DTSTART;TZID=America/Detroit:20260110T163000
DTEND;TZID=America/Detroit:20260110T173000
DTSTAMP:20260420T201308
CREATED:20240626T171342Z
LAST-MODIFIED:20260219T153326Z
UID:10007996-1768062600-1768066200@saintthomaszanesville.org
SUMMARY:Mass
DESCRIPTION:
URL:https://saintthomaszanesville.org/event/mass/2026-01-10/
LOCATION:St Thomas
CATEGORIES:Mass
END:VEVENT
BEGIN:VEVENT
DTSTART;TZID=America/Detroit:20260111T074500
DTEND;TZID=America/Detroit:20260111T084500
DTSTAMP:20260420T201308
CREATED:20240626T174505Z
LAST-MODIFIED:20250917T124608Z
UID:10008800-1768117500-1768121100@saintthomaszanesville.org
SUMMARY:Mass
DESCRIPTION:
URL:https://saintthomaszanesville.org/event/mass-2-2/2026-01-11/
LOCATION:OH
CATEGORIES:Mass
END:VEVENT
BEGIN:VEVENT
DTSTART;TZID=America/Detroit:20260111T093000
DTEND;TZID=America/Detroit:20260111T103000
DTSTAMP:20260420T201308
CREATED:20250729T124342Z
LAST-MODIFIED:20250729T124342Z
UID:10009838-1768123800-1768127400@saintthomaszanesville.org
SUMMARY:CCD
DESCRIPTION:CCD will begin September 14 and end May 10th\nAll CCD Class start at 9:30am and run until 10:30am\nParent/Adult Fellowship is in the Aquinas Room during this time\nUnless noted\, CCD class dates are business as usual
URL:https://saintthomaszanesville.org/event/ccd/2026-01-11/
LOCATION:Parish Office\, 144 N 5th St\, Zanesville\, OH\, 43701\, United States
CATEGORIES:CCD
END:VEVENT
BEGIN:VEVENT
DTSTART;TZID=America/Detroit:20260111T094500
DTEND;TZID=America/Detroit:20260111T223000
DTSTAMP:20260420T201308
CREATED:20231026T154327Z
LAST-MODIFIED:20240829T124728Z
UID:10007039-1768124700-1768170600@saintthomaszanesville.org
SUMMARY:Choir Rehearsal
DESCRIPTION:
URL:https://saintthomaszanesville.org/event/choir-rehersal-2/2026-01-11/
LOCATION:Activity Center
CATEGORIES:Choir
END:VEVENT
BEGIN:VEVENT
DTSTART;TZID=America/Detroit:20260111T110000
DTEND;TZID=America/Detroit:20260111T120000
DTSTAMP:20260420T201308
CREATED:20240626T174409Z
LAST-MODIFIED:20241205T172135Z
UID:10009065-1768129200-1768132800@saintthomaszanesville.org
SUMMARY:Mass
DESCRIPTION:
URL:https://saintthomaszanesville.org/event/mass-2/2026-01-11/
LOCATION:OH
CATEGORIES:Mass
END:VEVENT
END:VCALENDAR