BEGIN:VCALENDAR
VERSION:2.0
PRODID:-//Saint Thomas Acquinas Zanesville - ECPv6.15.20//NONSGML v1.0//EN
CALSCALE:GREGORIAN
METHOD:PUBLISH
X-ORIGINAL-URL:https://saintthomaszanesville.org
X-WR-CALDESC:Events for Saint Thomas Acquinas Zanesville
REFRESH-INTERVAL;VALUE=DURATION:PT1H
X-Robots-Tag:noindex
X-PUBLISHED-TTL:PT1H
BEGIN:VTIMEZONE
TZID:America/Detroit
BEGIN:DAYLIGHT
TZOFFSETFROM:-0500
TZOFFSETTO:-0400
TZNAME:EDT
DTSTART:20240310T070000
END:DAYLIGHT
BEGIN:STANDARD
TZOFFSETFROM:-0400
TZOFFSETTO:-0500
TZNAME:EST
DTSTART:20241103T060000
END:STANDARD
BEGIN:DAYLIGHT
TZOFFSETFROM:-0500
TZOFFSETTO:-0400
TZNAME:EDT
DTSTART:20250309T070000
END:DAYLIGHT
BEGIN:STANDARD
TZOFFSETFROM:-0400
TZOFFSETTO:-0500
TZNAME:EST
DTSTART:20251102T060000
END:STANDARD
BEGIN:DAYLIGHT
TZOFFSETFROM:-0500
TZOFFSETTO:-0400
TZNAME:EDT
DTSTART:20260308T070000
END:DAYLIGHT
BEGIN:STANDARD
TZOFFSETFROM:-0400
TZOFFSETTO:-0500
TZNAME:EST
DTSTART:20261101T060000
END:STANDARD
END:VTIMEZONE
BEGIN:VEVENT
DTSTART;TZID=America/Detroit:20250322T153000
DTEND;TZID=America/Detroit:20250322T161500
DTSTAMP:20260422T181558
CREATED:20230123T173105Z
LAST-MODIFIED:20260219T153419Z
UID:10003291-1742657400-1742660100@saintthomaszanesville.org
SUMMARY:Confessions
DESCRIPTION:
URL:https://saintthomaszanesville.org/event/confessions/2025-03-22/
LOCATION:St Thomas
CATEGORIES:Confessions
END:VEVENT
BEGIN:VEVENT
DTSTART;TZID=America/Detroit:20250322T163000
DTEND;TZID=America/Detroit:20250322T173000
DTSTAMP:20260422T181558
CREATED:20240626T171342Z
LAST-MODIFIED:20260219T153326Z
UID:10007954-1742661000-1742664600@saintthomaszanesville.org
SUMMARY:Mass
DESCRIPTION:
URL:https://saintthomaszanesville.org/event/mass/2025-03-22/
LOCATION:St Thomas
CATEGORIES:Mass
END:VEVENT
BEGIN:VEVENT
DTSTART;TZID=America/Detroit:20250323T074500
DTEND;TZID=America/Detroit:20250323T084500
DTSTAMP:20260422T181558
CREATED:20240626T174505Z
LAST-MODIFIED:20250917T124608Z
UID:10008758-1742715900-1742719500@saintthomaszanesville.org
SUMMARY:Mass
DESCRIPTION:
URL:https://saintthomaszanesville.org/event/mass-2-2/2025-03-23/
LOCATION:OH
CATEGORIES:Mass
END:VEVENT
BEGIN:VEVENT
DTSTART;TZID=America/Detroit:20250323T094500
DTEND;TZID=America/Detroit:20250323T223000
DTSTAMP:20260422T181558
CREATED:20231026T154327Z
LAST-MODIFIED:20240829T124728Z
UID:10006997-1742723100-1742769000@saintthomaszanesville.org
SUMMARY:Choir Rehearsal
DESCRIPTION:
URL:https://saintthomaszanesville.org/event/choir-rehersal-2/2025-03-23/
LOCATION:Activity Center
CATEGORIES:Choir
END:VEVENT
BEGIN:VEVENT
DTSTART;TZID=America/Detroit:20250323T110000
DTEND;TZID=America/Detroit:20250323T120000
DTSTAMP:20260422T181558
CREATED:20240626T174409Z
LAST-MODIFIED:20241205T172135Z
UID:10009023-1742727600-1742731200@saintthomaszanesville.org
SUMMARY:Mass
DESCRIPTION:
URL:https://saintthomaszanesville.org/event/mass-2/2025-03-23/
LOCATION:OH
CATEGORIES:Mass
END:VEVENT
BEGIN:VEVENT
DTSTART;TZID=America/Detroit:20250325T090000
DTEND;TZID=America/Detroit:20250325T094500
DTSTAMP:20260422T181558
CREATED:20230717T191610Z
LAST-MODIFIED:20260219T151222Z
UID:10005623-1742893200-1742895900@saintthomaszanesville.org
SUMMARY:Mass
DESCRIPTION:
URL:https://saintthomaszanesville.org/event/mass-4/2025-03-25/
LOCATION:St Thomas
CATEGORIES:Mass
END:VEVENT
BEGIN:VEVENT
DTSTART;TZID=America/Detroit:20250325T190000
DTEND;TZID=America/Detroit:20250325T203000
DTSTAMP:20260422T181558
CREATED:20241205T191700Z
LAST-MODIFIED:20241205T191700Z
UID:10009720-1742929200-1742934600@saintthomaszanesville.org
SUMMARY:Baptism Prep Class
DESCRIPTION:Families seeking to get their children baptized will need to attend a baptism prep class. The class will only be held if someone is pre-registered. Please do not show up without pre-registering for the class.  The meetings typically last 1.5 hours and will be held at St. Nicholas Parish Office. To register please contact the St. Nicholas Parish Office at 740-453-0597.
URL:https://saintthomaszanesville.org/event/baptism-prep-class-3/2025-03-25/
LOCATION:St Nicholas\, 925 E Main St\, zanesville\, OH\, 43701\, United States
END:VEVENT
BEGIN:VEVENT
DTSTART;TZID=America/Detroit:20250326T090000
DTEND;TZID=America/Detroit:20250326T094500
DTSTAMP:20260422T181558
CREATED:20230717T191330Z
LAST-MODIFIED:20251121T143234Z
UID:10005364-1742979600-1742982300@saintthomaszanesville.org
SUMMARY:Mass
DESCRIPTION:
URL:https://saintthomaszanesville.org/event/mass-3/2025-03-26/
LOCATION:St Thomas
CATEGORIES:Mass
END:VEVENT
BEGIN:VEVENT
DTSTART;TZID=America/Detroit:20250326T100000
DTEND;TZID=America/Detroit:20250326T210000
DTSTAMP:20260422T181558
CREATED:20231025T130420Z
LAST-MODIFIED:20260219T151646Z
UID:10006399-1742983200-1743022800@saintthomaszanesville.org
SUMMARY:Eucharistic Exposition of the Blessed Sacrement
DESCRIPTION:
URL:https://saintthomaszanesville.org/event/eucharistic-exposition-of-the-blessed-sacrement-2-2/2025-03-26/
LOCATION:St Thomas
CATEGORIES:Eucharist
END:VEVENT
BEGIN:VEVENT
DTSTART;TZID=America/Detroit:20250327T090000
DTEND;TZID=America/Detroit:20250327T094500
DTSTAMP:20260422T181558
CREATED:20231025T130315Z
LAST-MODIFIED:20260219T151402Z
UID:10005882-1743066000-1743068700@saintthomaszanesville.org
SUMMARY:Mass
DESCRIPTION:
URL:https://saintthomaszanesville.org/event/mass-5-3/2025-03-27/
LOCATION:St Thomas
CATEGORIES:Mass
END:VEVENT
BEGIN:VEVENT
DTSTART;TZID=America/Detroit:20250328T090000
DTEND;TZID=America/Detroit:20250328T094500
DTSTAMP:20260422T181558
CREATED:20231026T143024Z
LAST-MODIFIED:20260219T151539Z
UID:10006141-1743152400-1743155100@saintthomaszanesville.org
SUMMARY:Mass
DESCRIPTION:
URL:https://saintthomaszanesville.org/event/mass-6-2/2025-03-28/
LOCATION:St Thomas
CATEGORIES:Mass
END:VEVENT
BEGIN:VEVENT
DTSTART;TZID=America/Detroit:20250328T180000
DTEND;TZID=America/Detroit:20250328T190000
DTSTAMP:20260422T181558
CREATED:20250219T155739Z
LAST-MODIFIED:20250219T155739Z
UID:10009755-1743184800-1743188400@saintthomaszanesville.org
SUMMARY:Stations of the Cross
DESCRIPTION:Stations of the Cross at St Thomas Aquinas Church
URL:https://saintthomaszanesville.org/event/stations-of-the-cross/2025-03-28/
LOCATION:St Thomas
END:VEVENT
BEGIN:VEVENT
DTSTART;TZID=America/Detroit:20250329T153000
DTEND;TZID=America/Detroit:20250329T161500
DTSTAMP:20260422T181558
CREATED:20230123T173105Z
LAST-MODIFIED:20260219T153419Z
UID:10003292-1743262200-1743264900@saintthomaszanesville.org
SUMMARY:Confessions
DESCRIPTION:
URL:https://saintthomaszanesville.org/event/confessions/2025-03-29/
LOCATION:St Thomas
CATEGORIES:Confessions
END:VEVENT
BEGIN:VEVENT
DTSTART;TZID=America/Detroit:20250329T163000
DTEND;TZID=America/Detroit:20250329T173000
DTSTAMP:20260422T181558
CREATED:20240626T171342Z
LAST-MODIFIED:20260219T153326Z
UID:10007955-1743265800-1743269400@saintthomaszanesville.org
SUMMARY:Mass
DESCRIPTION:
URL:https://saintthomaszanesville.org/event/mass/2025-03-29/
LOCATION:St Thomas
CATEGORIES:Mass
END:VEVENT
BEGIN:VEVENT
DTSTART;TZID=America/Detroit:20250330T074500
DTEND;TZID=America/Detroit:20250330T084500
DTSTAMP:20260422T181558
CREATED:20240626T174505Z
LAST-MODIFIED:20250917T124608Z
UID:10008759-1743320700-1743324300@saintthomaszanesville.org
SUMMARY:Mass
DESCRIPTION:
URL:https://saintthomaszanesville.org/event/mass-2-2/2025-03-30/
LOCATION:OH
CATEGORIES:Mass
END:VEVENT
BEGIN:VEVENT
DTSTART;TZID=America/Detroit:20250330T094500
DTEND;TZID=America/Detroit:20250330T223000
DTSTAMP:20260422T181558
CREATED:20231026T154327Z
LAST-MODIFIED:20240829T124728Z
UID:10006998-1743327900-1743373800@saintthomaszanesville.org
SUMMARY:Choir Rehearsal
DESCRIPTION:
URL:https://saintthomaszanesville.org/event/choir-rehersal-2/2025-03-30/
LOCATION:Activity Center
CATEGORIES:Choir
END:VEVENT
BEGIN:VEVENT
DTSTART;TZID=America/Detroit:20250330T110000
DTEND;TZID=America/Detroit:20250330T120000
DTSTAMP:20260422T181558
CREATED:20240626T174409Z
LAST-MODIFIED:20241205T172135Z
UID:10009024-1743332400-1743336000@saintthomaszanesville.org
SUMMARY:Mass
DESCRIPTION:
URL:https://saintthomaszanesville.org/event/mass-2/2025-03-30/
LOCATION:OH
CATEGORIES:Mass
END:VEVENT
BEGIN:VEVENT
DTSTART;TZID=America/Detroit:20250401T090000
DTEND;TZID=America/Detroit:20250401T094500
DTSTAMP:20260422T181558
CREATED:20230717T191610Z
LAST-MODIFIED:20260219T151222Z
UID:10005624-1743498000-1743500700@saintthomaszanesville.org
SUMMARY:Mass
DESCRIPTION:
URL:https://saintthomaszanesville.org/event/mass-4/2025-04-01/
LOCATION:St Thomas
CATEGORIES:Mass
END:VEVENT
BEGIN:VEVENT
DTSTART;TZID=America/Detroit:20250401T190000
DTEND;TZID=America/Detroit:20250401T203000
DTSTAMP:20260422T181558
CREATED:20230207T140909Z
LAST-MODIFIED:20250219T163259Z
UID:10004009-1743534000-1743539400@saintthomaszanesville.org
SUMMARY:Confirmation
DESCRIPTION:Celebrated at St Thomas
URL:https://saintthomaszanesville.org/event/confirmation/
LOCATION:St Thomas
END:VEVENT
BEGIN:VEVENT
DTSTART;TZID=America/Detroit:20250402T090000
DTEND;TZID=America/Detroit:20250402T094500
DTSTAMP:20260422T181558
CREATED:20230717T191330Z
LAST-MODIFIED:20251121T143234Z
UID:10005365-1743584400-1743587100@saintthomaszanesville.org
SUMMARY:Mass
DESCRIPTION:
URL:https://saintthomaszanesville.org/event/mass-3/2025-04-02/
LOCATION:St Thomas
CATEGORIES:Mass
END:VEVENT
BEGIN:VEVENT
DTSTART;TZID=America/Detroit:20250402T100000
DTEND;TZID=America/Detroit:20250402T210000
DTSTAMP:20260422T181558
CREATED:20231025T130420Z
LAST-MODIFIED:20260219T151646Z
UID:10006400-1743588000-1743627600@saintthomaszanesville.org
SUMMARY:Eucharistic Exposition of the Blessed Sacrement
DESCRIPTION:
URL:https://saintthomaszanesville.org/event/eucharistic-exposition-of-the-blessed-sacrement-2-2/2025-04-02/
LOCATION:St Thomas
CATEGORIES:Eucharist
END:VEVENT
BEGIN:VEVENT
DTSTART;TZID=America/Detroit:20250403T090000
DTEND;TZID=America/Detroit:20250403T094500
DTSTAMP:20260422T181558
CREATED:20231025T130315Z
LAST-MODIFIED:20260219T151402Z
UID:10005883-1743670800-1743673500@saintthomaszanesville.org
SUMMARY:Mass
DESCRIPTION:
URL:https://saintthomaszanesville.org/event/mass-5-3/2025-04-03/
LOCATION:St Thomas
CATEGORIES:Mass
END:VEVENT
BEGIN:VEVENT
DTSTART;TZID=America/Detroit:20250404T090000
DTEND;TZID=America/Detroit:20250404T094500
DTSTAMP:20260422T181558
CREATED:20231026T143024Z
LAST-MODIFIED:20260219T151539Z
UID:10006142-1743757200-1743759900@saintthomaszanesville.org
SUMMARY:Mass
DESCRIPTION:
URL:https://saintthomaszanesville.org/event/mass-6-2/2025-04-04/
LOCATION:St Thomas
CATEGORIES:Mass
END:VEVENT
BEGIN:VEVENT
DTSTART;TZID=America/Detroit:20250404T180000
DTEND;TZID=America/Detroit:20250404T190000
DTSTAMP:20260422T181558
CREATED:20250219T155739Z
LAST-MODIFIED:20250219T155739Z
UID:10009756-1743789600-1743793200@saintthomaszanesville.org
SUMMARY:Stations of the Cross
DESCRIPTION:Stations of the Cross at St Thomas Aquinas Church
URL:https://saintthomaszanesville.org/event/stations-of-the-cross/2025-04-04/
LOCATION:St Thomas
END:VEVENT
BEGIN:VEVENT
DTSTART;TZID=America/Detroit:20250405T153000
DTEND;TZID=America/Detroit:20250405T161500
DTSTAMP:20260422T181558
CREATED:20230123T173105Z
LAST-MODIFIED:20260219T153419Z
UID:10003293-1743867000-1743869700@saintthomaszanesville.org
SUMMARY:Confessions
DESCRIPTION:
URL:https://saintthomaszanesville.org/event/confessions/2025-04-05/
LOCATION:St Thomas
CATEGORIES:Confessions
END:VEVENT
BEGIN:VEVENT
DTSTART;TZID=America/Detroit:20250405T163000
DTEND;TZID=America/Detroit:20250405T173000
DTSTAMP:20260422T181558
CREATED:20240626T171342Z
LAST-MODIFIED:20260219T153326Z
UID:10007956-1743870600-1743874200@saintthomaszanesville.org
SUMMARY:Mass
DESCRIPTION:
URL:https://saintthomaszanesville.org/event/mass/2025-04-05/
LOCATION:St Thomas
CATEGORIES:Mass
END:VEVENT
BEGIN:VEVENT
DTSTART;TZID=America/Detroit:20250406T074500
DTEND;TZID=America/Detroit:20250406T084500
DTSTAMP:20260422T181558
CREATED:20240626T174505Z
LAST-MODIFIED:20250917T124608Z
UID:10008760-1743925500-1743929100@saintthomaszanesville.org
SUMMARY:Mass
DESCRIPTION:
URL:https://saintthomaszanesville.org/event/mass-2-2/2025-04-06/
LOCATION:OH
CATEGORIES:Mass
END:VEVENT
BEGIN:VEVENT
DTSTART;TZID=America/Detroit:20250406T094500
DTEND;TZID=America/Detroit:20250406T223000
DTSTAMP:20260422T181558
CREATED:20231026T154327Z
LAST-MODIFIED:20240829T124728Z
UID:10006999-1743932700-1743978600@saintthomaszanesville.org
SUMMARY:Choir Rehearsal
DESCRIPTION:
URL:https://saintthomaszanesville.org/event/choir-rehersal-2/2025-04-06/
LOCATION:Activity Center
CATEGORIES:Choir
END:VEVENT
BEGIN:VEVENT
DTSTART;TZID=America/Detroit:20250406T110000
DTEND;TZID=America/Detroit:20250406T120000
DTSTAMP:20260422T181558
CREATED:20240626T174409Z
LAST-MODIFIED:20241205T172135Z
UID:10009025-1743937200-1743940800@saintthomaszanesville.org
SUMMARY:Mass
DESCRIPTION:
URL:https://saintthomaszanesville.org/event/mass-2/2025-04-06/
LOCATION:OH
CATEGORIES:Mass
END:VEVENT
BEGIN:VEVENT
DTSTART;TZID=America/Detroit:20250406T180000
DTEND;TZID=America/Detroit:20250406T203000
DTSTAMP:20260422T181558
CREATED:20240724T171039Z
LAST-MODIFIED:20240724T171039Z
UID:10009254-1743962400-1743971400@saintthomaszanesville.org
SUMMARY:Catalyst Nights
DESCRIPTION:
URL:https://saintthomaszanesville.org/event/catalyst-nights/2025-04-06/
LOCATION:Activity Center
CATEGORIES:CCD
END:VEVENT
END:VCALENDAR