BEGIN:VCALENDAR
VERSION:2.0
PRODID:-//Saint Thomas Acquinas Zanesville - ECPv6.15.20//NONSGML v1.0//EN
CALSCALE:GREGORIAN
METHOD:PUBLISH
X-ORIGINAL-URL:https://saintthomaszanesville.org
X-WR-CALDESC:Events for Saint Thomas Acquinas Zanesville
REFRESH-INTERVAL;VALUE=DURATION:PT1H
X-Robots-Tag:noindex
X-PUBLISHED-TTL:PT1H
BEGIN:VTIMEZONE
TZID:America/Detroit
BEGIN:DAYLIGHT
TZOFFSETFROM:-0500
TZOFFSETTO:-0400
TZNAME:EDT
DTSTART:20240310T070000
END:DAYLIGHT
BEGIN:STANDARD
TZOFFSETFROM:-0400
TZOFFSETTO:-0500
TZNAME:EST
DTSTART:20241103T060000
END:STANDARD
BEGIN:DAYLIGHT
TZOFFSETFROM:-0500
TZOFFSETTO:-0400
TZNAME:EDT
DTSTART:20250309T070000
END:DAYLIGHT
BEGIN:STANDARD
TZOFFSETFROM:-0400
TZOFFSETTO:-0500
TZNAME:EST
DTSTART:20251102T060000
END:STANDARD
BEGIN:DAYLIGHT
TZOFFSETFROM:-0500
TZOFFSETTO:-0400
TZNAME:EDT
DTSTART:20260308T070000
END:DAYLIGHT
BEGIN:STANDARD
TZOFFSETFROM:-0400
TZOFFSETTO:-0500
TZNAME:EST
DTSTART:20261101T060000
END:STANDARD
END:VTIMEZONE
BEGIN:VEVENT
DTSTART;TZID=America/Detroit:20250105T094500
DTEND;TZID=America/Detroit:20250105T223000
DTSTAMP:20260422T180557
CREATED:20231026T154327Z
LAST-MODIFIED:20240829T124728Z
UID:10006986-1736070300-1736116200@saintthomaszanesville.org
SUMMARY:Choir Rehearsal
DESCRIPTION:
URL:https://saintthomaszanesville.org/event/choir-rehersal-2/2025-01-05/
LOCATION:Activity Center
CATEGORIES:Choir
END:VEVENT
BEGIN:VEVENT
DTSTART;TZID=America/Detroit:20250105T110000
DTEND;TZID=America/Detroit:20250105T120000
DTSTAMP:20260422T180557
CREATED:20240626T174409Z
LAST-MODIFIED:20241205T172135Z
UID:10009012-1736074800-1736078400@saintthomaszanesville.org
SUMMARY:Mass
DESCRIPTION:
URL:https://saintthomaszanesville.org/event/mass-2/2025-01-05/
LOCATION:OH
CATEGORIES:Mass
END:VEVENT
BEGIN:VEVENT
DTSTART;TZID=America/Detroit:20250107T090000
DTEND;TZID=America/Detroit:20250107T094500
DTSTAMP:20260422T180557
CREATED:20230717T191610Z
LAST-MODIFIED:20260219T151222Z
UID:10005612-1736240400-1736243100@saintthomaszanesville.org
SUMMARY:Mass
DESCRIPTION:
URL:https://saintthomaszanesville.org/event/mass-4/2025-01-07/
LOCATION:St Thomas
CATEGORIES:Mass
END:VEVENT
BEGIN:VEVENT
DTSTART;TZID=America/Detroit:20250108T090000
DTEND;TZID=America/Detroit:20250108T094500
DTSTAMP:20260422T180557
CREATED:20230717T191330Z
LAST-MODIFIED:20251121T143234Z
UID:10005353-1736326800-1736329500@saintthomaszanesville.org
SUMMARY:Mass
DESCRIPTION:
URL:https://saintthomaszanesville.org/event/mass-3/2025-01-08/
LOCATION:St Thomas
CATEGORIES:Mass
END:VEVENT
BEGIN:VEVENT
DTSTART;TZID=America/Detroit:20250108T100000
DTEND;TZID=America/Detroit:20250108T210000
DTSTAMP:20260422T180557
CREATED:20231025T130420Z
LAST-MODIFIED:20260219T151646Z
UID:10006388-1736330400-1736370000@saintthomaszanesville.org
SUMMARY:Eucharistic Exposition of the Blessed Sacrement
DESCRIPTION:
URL:https://saintthomaszanesville.org/event/eucharistic-exposition-of-the-blessed-sacrement-2-2/2025-01-08/
LOCATION:St Thomas
CATEGORIES:Eucharist
END:VEVENT
BEGIN:VEVENT
DTSTART;TZID=America/Detroit:20250109T090000
DTEND;TZID=America/Detroit:20250109T094500
DTSTAMP:20260422T180557
CREATED:20231025T130315Z
LAST-MODIFIED:20260219T151402Z
UID:10005871-1736413200-1736415900@saintthomaszanesville.org
SUMMARY:Mass
DESCRIPTION:
URL:https://saintthomaszanesville.org/event/mass-5-3/2025-01-09/
LOCATION:St Thomas
CATEGORIES:Mass
END:VEVENT
BEGIN:VEVENT
DTSTART;TZID=America/Detroit:20250110T090000
DTEND;TZID=America/Detroit:20250110T094500
DTSTAMP:20260422T180557
CREATED:20231026T143024Z
LAST-MODIFIED:20260219T151539Z
UID:10006130-1736499600-1736502300@saintthomaszanesville.org
SUMMARY:Mass
DESCRIPTION:
URL:https://saintthomaszanesville.org/event/mass-6-2/2025-01-10/
LOCATION:St Thomas
CATEGORIES:Mass
END:VEVENT
BEGIN:VEVENT
DTSTART;TZID=America/Detroit:20250111T153000
DTEND;TZID=America/Detroit:20250111T161500
DTSTAMP:20260422T180557
CREATED:20230123T173105Z
LAST-MODIFIED:20260219T153419Z
UID:10003281-1736609400-1736612100@saintthomaszanesville.org
SUMMARY:Confessions
DESCRIPTION:
URL:https://saintthomaszanesville.org/event/confessions/2025-01-11/
LOCATION:St Thomas
CATEGORIES:Confessions
END:VEVENT
BEGIN:VEVENT
DTSTART;TZID=America/Detroit:20250111T163000
DTEND;TZID=America/Detroit:20250111T173000
DTSTAMP:20260422T180557
CREATED:20240626T171342Z
LAST-MODIFIED:20260219T153326Z
UID:10007944-1736613000-1736616600@saintthomaszanesville.org
SUMMARY:Mass
DESCRIPTION:
URL:https://saintthomaszanesville.org/event/mass/2025-01-11/
LOCATION:St Thomas
CATEGORIES:Mass
END:VEVENT
BEGIN:VEVENT
DTSTART;TZID=America/Detroit:20250112T074500
DTEND;TZID=America/Detroit:20250112T084500
DTSTAMP:20260422T180557
CREATED:20240626T174505Z
LAST-MODIFIED:20250917T124608Z
UID:10008748-1736667900-1736671500@saintthomaszanesville.org
SUMMARY:Mass
DESCRIPTION:
URL:https://saintthomaszanesville.org/event/mass-2-2/2025-01-12/
LOCATION:OH
CATEGORIES:Mass
END:VEVENT
BEGIN:VEVENT
DTSTART;TZID=America/Detroit:20250112T094500
DTEND;TZID=America/Detroit:20250112T223000
DTSTAMP:20260422T180557
CREATED:20231026T154327Z
LAST-MODIFIED:20240829T124728Z
UID:10006987-1736675100-1736721000@saintthomaszanesville.org
SUMMARY:Choir Rehearsal
DESCRIPTION:
URL:https://saintthomaszanesville.org/event/choir-rehersal-2/2025-01-12/
LOCATION:Activity Center
CATEGORIES:Choir
END:VEVENT
BEGIN:VEVENT
DTSTART;TZID=America/Detroit:20250112T110000
DTEND;TZID=America/Detroit:20250112T120000
DTSTAMP:20260422T180557
CREATED:20240626T174409Z
LAST-MODIFIED:20241205T172135Z
UID:10009013-1736679600-1736683200@saintthomaszanesville.org
SUMMARY:Mass
DESCRIPTION:
URL:https://saintthomaszanesville.org/event/mass-2/2025-01-12/
LOCATION:OH
CATEGORIES:Mass
END:VEVENT
BEGIN:VEVENT
DTSTART;TZID=America/Detroit:20250112T180000
DTEND;TZID=America/Detroit:20250112T203000
DTSTAMP:20260422T180557
CREATED:20240724T171039Z
LAST-MODIFIED:20240724T171039Z
UID:10009251-1736704800-1736713800@saintthomaszanesville.org
SUMMARY:Catalyst Nights
DESCRIPTION:
URL:https://saintthomaszanesville.org/event/catalyst-nights/2025-01-12/
LOCATION:Activity Center
CATEGORIES:CCD
END:VEVENT
BEGIN:VEVENT
DTSTART;TZID=America/Detroit:20250114T090000
DTEND;TZID=America/Detroit:20250114T094500
DTSTAMP:20260422T180557
CREATED:20230717T191610Z
LAST-MODIFIED:20260219T151222Z
UID:10005613-1736845200-1736847900@saintthomaszanesville.org
SUMMARY:Mass
DESCRIPTION:
URL:https://saintthomaszanesville.org/event/mass-4/2025-01-14/
LOCATION:St Thomas
CATEGORIES:Mass
END:VEVENT
BEGIN:VEVENT
DTSTART;TZID=America/Detroit:20250115T090000
DTEND;TZID=America/Detroit:20250115T094500
DTSTAMP:20260422T180557
CREATED:20230717T191330Z
LAST-MODIFIED:20251121T143234Z
UID:10005354-1736931600-1736934300@saintthomaszanesville.org
SUMMARY:Mass
DESCRIPTION:
URL:https://saintthomaszanesville.org/event/mass-3/2025-01-15/
LOCATION:St Thomas
CATEGORIES:Mass
END:VEVENT
BEGIN:VEVENT
DTSTART;TZID=America/Detroit:20250115T100000
DTEND;TZID=America/Detroit:20250115T210000
DTSTAMP:20260422T180557
CREATED:20231025T130420Z
LAST-MODIFIED:20260219T151646Z
UID:10006389-1736935200-1736974800@saintthomaszanesville.org
SUMMARY:Eucharistic Exposition of the Blessed Sacrement
DESCRIPTION:
URL:https://saintthomaszanesville.org/event/eucharistic-exposition-of-the-blessed-sacrement-2-2/2025-01-15/
LOCATION:St Thomas
CATEGORIES:Eucharist
END:VEVENT
BEGIN:VEVENT
DTSTART;TZID=America/Detroit:20250116T090000
DTEND;TZID=America/Detroit:20250116T094500
DTSTAMP:20260422T180557
CREATED:20231025T130315Z
LAST-MODIFIED:20260219T151402Z
UID:10005872-1737018000-1737020700@saintthomaszanesville.org
SUMMARY:Mass
DESCRIPTION:
URL:https://saintthomaszanesville.org/event/mass-5-3/2025-01-16/
LOCATION:St Thomas
CATEGORIES:Mass
END:VEVENT
BEGIN:VEVENT
DTSTART;TZID=America/Detroit:20250117T090000
DTEND;TZID=America/Detroit:20250117T094500
DTSTAMP:20260422T180557
CREATED:20231026T143024Z
LAST-MODIFIED:20260219T151539Z
UID:10006131-1737104400-1737107100@saintthomaszanesville.org
SUMMARY:Mass
DESCRIPTION:
URL:https://saintthomaszanesville.org/event/mass-6-2/2025-01-17/
LOCATION:St Thomas
CATEGORIES:Mass
END:VEVENT
BEGIN:VEVENT
DTSTART;TZID=America/Detroit:20250118T153000
DTEND;TZID=America/Detroit:20250118T161500
DTSTAMP:20260422T180557
CREATED:20230123T173105Z
LAST-MODIFIED:20260219T153419Z
UID:10003282-1737214200-1737216900@saintthomaszanesville.org
SUMMARY:Confessions
DESCRIPTION:
URL:https://saintthomaszanesville.org/event/confessions/2025-01-18/
LOCATION:St Thomas
CATEGORIES:Confessions
END:VEVENT
BEGIN:VEVENT
DTSTART;TZID=America/Detroit:20250118T163000
DTEND;TZID=America/Detroit:20250118T173000
DTSTAMP:20260422T180557
CREATED:20240626T171342Z
LAST-MODIFIED:20260219T153326Z
UID:10007945-1737217800-1737221400@saintthomaszanesville.org
SUMMARY:Mass
DESCRIPTION:
URL:https://saintthomaszanesville.org/event/mass/2025-01-18/
LOCATION:St Thomas
CATEGORIES:Mass
END:VEVENT
BEGIN:VEVENT
DTSTART;TZID=America/Detroit:20250119T074500
DTEND;TZID=America/Detroit:20250119T084500
DTSTAMP:20260422T180557
CREATED:20240626T174505Z
LAST-MODIFIED:20250917T124608Z
UID:10008749-1737272700-1737276300@saintthomaszanesville.org
SUMMARY:Mass
DESCRIPTION:
URL:https://saintthomaszanesville.org/event/mass-2-2/2025-01-19/
LOCATION:OH
CATEGORIES:Mass
END:VEVENT
BEGIN:VEVENT
DTSTART;TZID=America/Detroit:20250119T094500
DTEND;TZID=America/Detroit:20250119T223000
DTSTAMP:20260422T180557
CREATED:20231026T154327Z
LAST-MODIFIED:20240829T124728Z
UID:10006988-1737279900-1737325800@saintthomaszanesville.org
SUMMARY:Choir Rehearsal
DESCRIPTION:
URL:https://saintthomaszanesville.org/event/choir-rehersal-2/2025-01-19/
LOCATION:Activity Center
CATEGORIES:Choir
END:VEVENT
BEGIN:VEVENT
DTSTART;TZID=America/Detroit:20250119T110000
DTEND;TZID=America/Detroit:20250119T120000
DTSTAMP:20260422T180557
CREATED:20240626T174409Z
LAST-MODIFIED:20241205T172135Z
UID:10009014-1737284400-1737288000@saintthomaszanesville.org
SUMMARY:Mass
DESCRIPTION:
URL:https://saintthomaszanesville.org/event/mass-2/2025-01-19/
LOCATION:OH
CATEGORIES:Mass
END:VEVENT
BEGIN:VEVENT
DTSTART;TZID=America/Detroit:20250121T090000
DTEND;TZID=America/Detroit:20250121T094500
DTSTAMP:20260422T180557
CREATED:20230717T191610Z
LAST-MODIFIED:20260219T151222Z
UID:10005614-1737450000-1737452700@saintthomaszanesville.org
SUMMARY:Mass
DESCRIPTION:
URL:https://saintthomaszanesville.org/event/mass-4/2025-01-21/
LOCATION:St Thomas
CATEGORIES:Mass
END:VEVENT
BEGIN:VEVENT
DTSTART;TZID=America/Detroit:20250122T090000
DTEND;TZID=America/Detroit:20250122T094500
DTSTAMP:20260422T180557
CREATED:20230717T191330Z
LAST-MODIFIED:20251121T143234Z
UID:10005355-1737536400-1737539100@saintthomaszanesville.org
SUMMARY:Mass
DESCRIPTION:
URL:https://saintthomaszanesville.org/event/mass-3/2025-01-22/
LOCATION:St Thomas
CATEGORIES:Mass
END:VEVENT
BEGIN:VEVENT
DTSTART;TZID=America/Detroit:20250122T100000
DTEND;TZID=America/Detroit:20250122T210000
DTSTAMP:20260422T180557
CREATED:20231025T130420Z
LAST-MODIFIED:20260219T151646Z
UID:10006390-1737540000-1737579600@saintthomaszanesville.org
SUMMARY:Eucharistic Exposition of the Blessed Sacrement
DESCRIPTION:
URL:https://saintthomaszanesville.org/event/eucharistic-exposition-of-the-blessed-sacrement-2-2/2025-01-22/
LOCATION:St Thomas
CATEGORIES:Eucharist
END:VEVENT
BEGIN:VEVENT
DTSTART;TZID=America/Detroit:20250123T090000
DTEND;TZID=America/Detroit:20250123T094500
DTSTAMP:20260422T180557
CREATED:20231025T130315Z
LAST-MODIFIED:20260219T151402Z
UID:10005873-1737622800-1737625500@saintthomaszanesville.org
SUMMARY:Mass
DESCRIPTION:
URL:https://saintthomaszanesville.org/event/mass-5-3/2025-01-23/
LOCATION:St Thomas
CATEGORIES:Mass
END:VEVENT
BEGIN:VEVENT
DTSTART;TZID=America/Detroit:20250124T090000
DTEND;TZID=America/Detroit:20250124T094500
DTSTAMP:20260422T180557
CREATED:20231026T143024Z
LAST-MODIFIED:20260219T151539Z
UID:10006132-1737709200-1737711900@saintthomaszanesville.org
SUMMARY:Mass
DESCRIPTION:
URL:https://saintthomaszanesville.org/event/mass-6-2/2025-01-24/
LOCATION:St Thomas
CATEGORIES:Mass
END:VEVENT
BEGIN:VEVENT
DTSTART;TZID=America/Detroit:20250125T153000
DTEND;TZID=America/Detroit:20250125T161500
DTSTAMP:20260422T180558
CREATED:20230123T173105Z
LAST-MODIFIED:20260219T153419Z
UID:10003283-1737819000-1737821700@saintthomaszanesville.org
SUMMARY:Confessions
DESCRIPTION:
URL:https://saintthomaszanesville.org/event/confessions/2025-01-25/
LOCATION:St Thomas
CATEGORIES:Confessions
END:VEVENT
BEGIN:VEVENT
DTSTART;TZID=America/Detroit:20250125T163000
DTEND;TZID=America/Detroit:20250125T173000
DTSTAMP:20260422T180558
CREATED:20240626T171342Z
LAST-MODIFIED:20260219T153326Z
UID:10007946-1737822600-1737826200@saintthomaszanesville.org
SUMMARY:Mass
DESCRIPTION:
URL:https://saintthomaszanesville.org/event/mass/2025-01-25/
LOCATION:St Thomas
CATEGORIES:Mass
END:VEVENT
END:VCALENDAR