BEGIN:VCALENDAR
VERSION:2.0
PRODID:-//Saint Thomas Acquinas Zanesville - ECPv6.15.20//NONSGML v1.0//EN
CALSCALE:GREGORIAN
METHOD:PUBLISH
X-WR-CALNAME:Saint Thomas Acquinas Zanesville
X-ORIGINAL-URL:https://saintthomaszanesville.org
X-WR-CALDESC:Events for Saint Thomas Acquinas Zanesville
REFRESH-INTERVAL;VALUE=DURATION:PT1H
X-Robots-Tag:noindex
X-PUBLISHED-TTL:PT1H
BEGIN:VTIMEZONE
TZID:America/Detroit
BEGIN:DAYLIGHT
TZOFFSETFROM:-0500
TZOFFSETTO:-0400
TZNAME:EDT
DTSTART:20260308T070000
END:DAYLIGHT
BEGIN:STANDARD
TZOFFSETFROM:-0400
TZOFFSETTO:-0500
TZNAME:EST
DTSTART:20261101T060000
END:STANDARD
BEGIN:DAYLIGHT
TZOFFSETFROM:-0500
TZOFFSETTO:-0400
TZNAME:EDT
DTSTART:20270314T070000
END:DAYLIGHT
BEGIN:STANDARD
TZOFFSETFROM:-0400
TZOFFSETTO:-0500
TZNAME:EST
DTSTART:20271107T060000
END:STANDARD
BEGIN:DAYLIGHT
TZOFFSETFROM:-0500
TZOFFSETTO:-0400
TZNAME:EDT
DTSTART:20280312T070000
END:DAYLIGHT
BEGIN:STANDARD
TZOFFSETFROM:-0400
TZOFFSETTO:-0500
TZNAME:EST
DTSTART:20281105T060000
END:STANDARD
END:VTIMEZONE
BEGIN:VEVENT
DTSTART;TZID=America/Detroit:20270411T110000
DTEND;TZID=America/Detroit:20270411T120000
DTSTAMP:20260421T182141
CREATED:20240626T174409Z
LAST-MODIFIED:20241205T172135Z
UID:10009130-1807441200-1807444800@saintthomaszanesville.org
SUMMARY:Mass
DESCRIPTION:
URL:https://saintthomaszanesville.org/event/mass-2/2027-04-11/
LOCATION:OH
CATEGORIES:Mass
END:VEVENT
BEGIN:VEVENT
DTSTART;TZID=America/Detroit:20270413T090000
DTEND;TZID=America/Detroit:20270413T094500
DTSTAMP:20260421T182141
CREATED:20230717T191610Z
LAST-MODIFIED:20260219T151222Z
UID:10005730-1807606800-1807609500@saintthomaszanesville.org
SUMMARY:Mass
DESCRIPTION:
URL:https://saintthomaszanesville.org/event/mass-4/2027-04-13/
LOCATION:St Thomas
CATEGORIES:Mass
END:VEVENT
BEGIN:VEVENT
DTSTART;TZID=America/Detroit:20270414T090000
DTEND;TZID=America/Detroit:20270414T094500
DTSTAMP:20260421T182141
CREATED:20230717T191330Z
LAST-MODIFIED:20251121T143234Z
UID:10005471-1807693200-1807695900@saintthomaszanesville.org
SUMMARY:Mass
DESCRIPTION:
URL:https://saintthomaszanesville.org/event/mass-3/2027-04-14/
LOCATION:St Thomas
CATEGORIES:Mass
END:VEVENT
BEGIN:VEVENT
DTSTART;TZID=America/Detroit:20270414T100000
DTEND;TZID=America/Detroit:20270414T210000
DTSTAMP:20260421T182141
CREATED:20231025T130420Z
LAST-MODIFIED:20260219T151646Z
UID:10006506-1807696800-1807736400@saintthomaszanesville.org
SUMMARY:Eucharistic Exposition of the Blessed Sacrement
DESCRIPTION:
URL:https://saintthomaszanesville.org/event/eucharistic-exposition-of-the-blessed-sacrement-2-2/2027-04-14/
LOCATION:St Thomas
CATEGORIES:Eucharist
END:VEVENT
BEGIN:VEVENT
DTSTART;TZID=America/Detroit:20270415T090000
DTEND;TZID=America/Detroit:20270415T094500
DTSTAMP:20260421T182141
CREATED:20231025T130315Z
LAST-MODIFIED:20260219T151402Z
UID:10005989-1807779600-1807782300@saintthomaszanesville.org
SUMMARY:Mass
DESCRIPTION:
URL:https://saintthomaszanesville.org/event/mass-5-3/2027-04-15/
LOCATION:St Thomas
CATEGORIES:Mass
END:VEVENT
BEGIN:VEVENT
DTSTART;TZID=America/Detroit:20270416T090000
DTEND;TZID=America/Detroit:20270416T094500
DTSTAMP:20260421T182141
CREATED:20231026T143024Z
LAST-MODIFIED:20260219T151539Z
UID:10006248-1807866000-1807868700@saintthomaszanesville.org
SUMMARY:Mass
DESCRIPTION:
URL:https://saintthomaszanesville.org/event/mass-6-2/2027-04-16/
LOCATION:St Thomas
CATEGORIES:Mass
END:VEVENT
BEGIN:VEVENT
DTSTART;TZID=America/Detroit:20270417T153000
DTEND;TZID=America/Detroit:20270417T161500
DTSTAMP:20260421T182141
CREATED:20230123T173105Z
LAST-MODIFIED:20260219T153419Z
UID:10003399-1807975800-1807978500@saintthomaszanesville.org
SUMMARY:Confessions
DESCRIPTION:
URL:https://saintthomaszanesville.org/event/confessions/2027-04-17/
LOCATION:St Thomas
CATEGORIES:Confessions
END:VEVENT
BEGIN:VEVENT
DTSTART;TZID=America/Detroit:20270417T163000
DTEND;TZID=America/Detroit:20270417T173000
DTSTAMP:20260421T182141
CREATED:20240626T171342Z
LAST-MODIFIED:20260219T153326Z
UID:10008062-1807979400-1807983000@saintthomaszanesville.org
SUMMARY:Mass
DESCRIPTION:
URL:https://saintthomaszanesville.org/event/mass/2027-04-17/
LOCATION:St Thomas
CATEGORIES:Mass
END:VEVENT
BEGIN:VEVENT
DTSTART;TZID=America/Detroit:20270418T074500
DTEND;TZID=America/Detroit:20270418T084500
DTSTAMP:20260421T182141
CREATED:20240626T174505Z
LAST-MODIFIED:20250917T124608Z
UID:10008866-1808034300-1808037900@saintthomaszanesville.org
SUMMARY:Mass
DESCRIPTION:
URL:https://saintthomaszanesville.org/event/mass-2-2/2027-04-18/
LOCATION:OH
CATEGORIES:Mass
END:VEVENT
BEGIN:VEVENT
DTSTART;TZID=America/Detroit:20270418T094500
DTEND;TZID=America/Detroit:20270418T223000
DTSTAMP:20260421T182141
CREATED:20231026T154327Z
LAST-MODIFIED:20240829T124728Z
UID:10007105-1808041500-1808087400@saintthomaszanesville.org
SUMMARY:Choir Rehearsal
DESCRIPTION:
URL:https://saintthomaszanesville.org/event/choir-rehersal-2/2027-04-18/
LOCATION:Activity Center
CATEGORIES:Choir
END:VEVENT
BEGIN:VEVENT
DTSTART;TZID=America/Detroit:20270418T110000
DTEND;TZID=America/Detroit:20270418T120000
DTSTAMP:20260421T182141
CREATED:20240626T174409Z
LAST-MODIFIED:20241205T172135Z
UID:10009131-1808046000-1808049600@saintthomaszanesville.org
SUMMARY:Mass
DESCRIPTION:
URL:https://saintthomaszanesville.org/event/mass-2/2027-04-18/
LOCATION:OH
CATEGORIES:Mass
END:VEVENT
BEGIN:VEVENT
DTSTART;TZID=America/Detroit:20270420T090000
DTEND;TZID=America/Detroit:20270420T094500
DTSTAMP:20260421T182141
CREATED:20230717T191610Z
LAST-MODIFIED:20260219T151222Z
UID:10005731-1808211600-1808214300@saintthomaszanesville.org
SUMMARY:Mass
DESCRIPTION:
URL:https://saintthomaszanesville.org/event/mass-4/2027-04-20/
LOCATION:St Thomas
CATEGORIES:Mass
END:VEVENT
BEGIN:VEVENT
DTSTART;TZID=America/Detroit:20270421T090000
DTEND;TZID=America/Detroit:20270421T094500
DTSTAMP:20260421T182141
CREATED:20230717T191330Z
LAST-MODIFIED:20251121T143234Z
UID:10005472-1808298000-1808300700@saintthomaszanesville.org
SUMMARY:Mass
DESCRIPTION:
URL:https://saintthomaszanesville.org/event/mass-3/2027-04-21/
LOCATION:St Thomas
CATEGORIES:Mass
END:VEVENT
BEGIN:VEVENT
DTSTART;TZID=America/Detroit:20270421T100000
DTEND;TZID=America/Detroit:20270421T210000
DTSTAMP:20260421T182141
CREATED:20231025T130420Z
LAST-MODIFIED:20260219T151646Z
UID:10006507-1808301600-1808341200@saintthomaszanesville.org
SUMMARY:Eucharistic Exposition of the Blessed Sacrement
DESCRIPTION:
URL:https://saintthomaszanesville.org/event/eucharistic-exposition-of-the-blessed-sacrement-2-2/2027-04-21/
LOCATION:St Thomas
CATEGORIES:Eucharist
END:VEVENT
BEGIN:VEVENT
DTSTART;TZID=America/Detroit:20270422T090000
DTEND;TZID=America/Detroit:20270422T094500
DTSTAMP:20260421T182141
CREATED:20231025T130315Z
LAST-MODIFIED:20260219T151402Z
UID:10005990-1808384400-1808387100@saintthomaszanesville.org
SUMMARY:Mass
DESCRIPTION:
URL:https://saintthomaszanesville.org/event/mass-5-3/2027-04-22/
LOCATION:St Thomas
CATEGORIES:Mass
END:VEVENT
BEGIN:VEVENT
DTSTART;TZID=America/Detroit:20270423T090000
DTEND;TZID=America/Detroit:20270423T094500
DTSTAMP:20260421T182141
CREATED:20231026T143024Z
LAST-MODIFIED:20260219T151539Z
UID:10006249-1808470800-1808473500@saintthomaszanesville.org
SUMMARY:Mass
DESCRIPTION:
URL:https://saintthomaszanesville.org/event/mass-6-2/2027-04-23/
LOCATION:St Thomas
CATEGORIES:Mass
END:VEVENT
BEGIN:VEVENT
DTSTART;TZID=America/Detroit:20270424T153000
DTEND;TZID=America/Detroit:20270424T161500
DTSTAMP:20260421T182141
CREATED:20230123T173105Z
LAST-MODIFIED:20260219T153419Z
UID:10003400-1808580600-1808583300@saintthomaszanesville.org
SUMMARY:Confessions
DESCRIPTION:
URL:https://saintthomaszanesville.org/event/confessions/2027-04-24/
LOCATION:St Thomas
CATEGORIES:Confessions
END:VEVENT
BEGIN:VEVENT
DTSTART;TZID=America/Detroit:20270424T163000
DTEND;TZID=America/Detroit:20270424T173000
DTSTAMP:20260421T182141
CREATED:20240626T171342Z
LAST-MODIFIED:20260219T153326Z
UID:10008063-1808584200-1808587800@saintthomaszanesville.org
SUMMARY:Mass
DESCRIPTION:
URL:https://saintthomaszanesville.org/event/mass/2027-04-24/
LOCATION:St Thomas
CATEGORIES:Mass
END:VEVENT
BEGIN:VEVENT
DTSTART;TZID=America/Detroit:20270425T074500
DTEND;TZID=America/Detroit:20270425T084500
DTSTAMP:20260421T182141
CREATED:20240626T174505Z
LAST-MODIFIED:20250917T124608Z
UID:10008867-1808639100-1808642700@saintthomaszanesville.org
SUMMARY:Mass
DESCRIPTION:
URL:https://saintthomaszanesville.org/event/mass-2-2/2027-04-25/
LOCATION:OH
CATEGORIES:Mass
END:VEVENT
BEGIN:VEVENT
DTSTART;TZID=America/Detroit:20270425T094500
DTEND;TZID=America/Detroit:20270425T223000
DTSTAMP:20260421T182141
CREATED:20231026T154327Z
LAST-MODIFIED:20240829T124728Z
UID:10007106-1808646300-1808692200@saintthomaszanesville.org
SUMMARY:Choir Rehearsal
DESCRIPTION:
URL:https://saintthomaszanesville.org/event/choir-rehersal-2/2027-04-25/
LOCATION:Activity Center
CATEGORIES:Choir
END:VEVENT
BEGIN:VEVENT
DTSTART;TZID=America/Detroit:20270425T110000
DTEND;TZID=America/Detroit:20270425T120000
DTSTAMP:20260421T182141
CREATED:20240626T174409Z
LAST-MODIFIED:20241205T172135Z
UID:10009132-1808650800-1808654400@saintthomaszanesville.org
SUMMARY:Mass
DESCRIPTION:
URL:https://saintthomaszanesville.org/event/mass-2/2027-04-25/
LOCATION:OH
CATEGORIES:Mass
END:VEVENT
BEGIN:VEVENT
DTSTART;TZID=America/Detroit:20270427T090000
DTEND;TZID=America/Detroit:20270427T094500
DTSTAMP:20260421T182141
CREATED:20230717T191610Z
LAST-MODIFIED:20260219T151222Z
UID:10005732-1808816400-1808819100@saintthomaszanesville.org
SUMMARY:Mass
DESCRIPTION:
URL:https://saintthomaszanesville.org/event/mass-4/2027-04-27/
LOCATION:St Thomas
CATEGORIES:Mass
END:VEVENT
BEGIN:VEVENT
DTSTART;TZID=America/Detroit:20270428T090000
DTEND;TZID=America/Detroit:20270428T094500
DTSTAMP:20260421T182141
CREATED:20230717T191330Z
LAST-MODIFIED:20251121T143234Z
UID:10005473-1808902800-1808905500@saintthomaszanesville.org
SUMMARY:Mass
DESCRIPTION:
URL:https://saintthomaszanesville.org/event/mass-3/2027-04-28/
LOCATION:St Thomas
CATEGORIES:Mass
END:VEVENT
BEGIN:VEVENT
DTSTART;TZID=America/Detroit:20270428T100000
DTEND;TZID=America/Detroit:20270428T210000
DTSTAMP:20260421T182141
CREATED:20231025T130420Z
LAST-MODIFIED:20260219T151646Z
UID:10006508-1808906400-1808946000@saintthomaszanesville.org
SUMMARY:Eucharistic Exposition of the Blessed Sacrement
DESCRIPTION:
URL:https://saintthomaszanesville.org/event/eucharistic-exposition-of-the-blessed-sacrement-2-2/2027-04-28/
LOCATION:St Thomas
CATEGORIES:Eucharist
END:VEVENT
BEGIN:VEVENT
DTSTART;TZID=America/Detroit:20270429T090000
DTEND;TZID=America/Detroit:20270429T094500
DTSTAMP:20260421T182141
CREATED:20231025T130315Z
LAST-MODIFIED:20260219T151402Z
UID:10005991-1808989200-1808991900@saintthomaszanesville.org
SUMMARY:Mass
DESCRIPTION:
URL:https://saintthomaszanesville.org/event/mass-5-3/2027-04-29/
LOCATION:St Thomas
CATEGORIES:Mass
END:VEVENT
BEGIN:VEVENT
DTSTART;TZID=America/Detroit:20270430T090000
DTEND;TZID=America/Detroit:20270430T094500
DTSTAMP:20260421T182141
CREATED:20231026T143024Z
LAST-MODIFIED:20260219T151539Z
UID:10006250-1809075600-1809078300@saintthomaszanesville.org
SUMMARY:Mass
DESCRIPTION:
URL:https://saintthomaszanesville.org/event/mass-6-2/2027-04-30/
LOCATION:St Thomas
CATEGORIES:Mass
END:VEVENT
BEGIN:VEVENT
DTSTART;TZID=America/Detroit:20270501T153000
DTEND;TZID=America/Detroit:20270501T161500
DTSTAMP:20260421T182141
CREATED:20230123T173105Z
LAST-MODIFIED:20260219T153419Z
UID:10003401-1809185400-1809188100@saintthomaszanesville.org
SUMMARY:Confessions
DESCRIPTION:
URL:https://saintthomaszanesville.org/event/confessions/2027-05-01/
LOCATION:St Thomas
CATEGORIES:Confessions
END:VEVENT
BEGIN:VEVENT
DTSTART;TZID=America/Detroit:20270501T163000
DTEND;TZID=America/Detroit:20270501T173000
DTSTAMP:20260421T182141
CREATED:20240626T171342Z
LAST-MODIFIED:20260219T153326Z
UID:10008064-1809189000-1809192600@saintthomaszanesville.org
SUMMARY:Mass
DESCRIPTION:
URL:https://saintthomaszanesville.org/event/mass/2027-05-01/
LOCATION:St Thomas
CATEGORIES:Mass
END:VEVENT
BEGIN:VEVENT
DTSTART;TZID=America/Detroit:20270502T074500
DTEND;TZID=America/Detroit:20270502T084500
DTSTAMP:20260421T182141
CREATED:20240626T174505Z
LAST-MODIFIED:20250917T124608Z
UID:10008868-1809243900-1809247500@saintthomaszanesville.org
SUMMARY:Mass
DESCRIPTION:
URL:https://saintthomaszanesville.org/event/mass-2-2/2027-05-02/
LOCATION:OH
CATEGORIES:Mass
END:VEVENT
BEGIN:VEVENT
DTSTART;TZID=America/Detroit:20270502T094500
DTEND;TZID=America/Detroit:20270502T223000
DTSTAMP:20260421T182141
CREATED:20231026T154327Z
LAST-MODIFIED:20240829T124728Z
UID:10007107-1809251100-1809297000@saintthomaszanesville.org
SUMMARY:Choir Rehearsal
DESCRIPTION:
URL:https://saintthomaszanesville.org/event/choir-rehersal-2/2027-05-02/
LOCATION:Activity Center
CATEGORIES:Choir
END:VEVENT
END:VCALENDAR