BEGIN:VCALENDAR
VERSION:2.0
PRODID:-//Saint Thomas Acquinas Zanesville - ECPv6.15.20//NONSGML v1.0//EN
CALSCALE:GREGORIAN
METHOD:PUBLISH
X-ORIGINAL-URL:https://saintthomaszanesville.org
X-WR-CALDESC:Events for Saint Thomas Acquinas Zanesville
REFRESH-INTERVAL;VALUE=DURATION:PT1H
X-Robots-Tag:noindex
X-PUBLISHED-TTL:PT1H
BEGIN:VTIMEZONE
TZID:America/Detroit
BEGIN:DAYLIGHT
TZOFFSETFROM:-0500
TZOFFSETTO:-0400
TZNAME:EDT
DTSTART:20260308T070000
END:DAYLIGHT
BEGIN:STANDARD
TZOFFSETFROM:-0400
TZOFFSETTO:-0500
TZNAME:EST
DTSTART:20261101T060000
END:STANDARD
BEGIN:DAYLIGHT
TZOFFSETFROM:-0500
TZOFFSETTO:-0400
TZNAME:EDT
DTSTART:20270314T070000
END:DAYLIGHT
BEGIN:STANDARD
TZOFFSETFROM:-0400
TZOFFSETTO:-0500
TZNAME:EST
DTSTART:20271107T060000
END:STANDARD
BEGIN:DAYLIGHT
TZOFFSETFROM:-0500
TZOFFSETTO:-0400
TZNAME:EDT
DTSTART:20280312T070000
END:DAYLIGHT
BEGIN:STANDARD
TZOFFSETFROM:-0400
TZOFFSETTO:-0500
TZNAME:EST
DTSTART:20281105T060000
END:STANDARD
END:VTIMEZONE
BEGIN:VEVENT
DTSTART;TZID=America/Detroit:20270211T090000
DTEND;TZID=America/Detroit:20270211T094500
DTSTAMP:20260421T014313
CREATED:20231025T130315Z
LAST-MODIFIED:20260219T151402Z
UID:10005980-1802336400-1802339100@saintthomaszanesville.org
SUMMARY:Mass
DESCRIPTION:
URL:https://saintthomaszanesville.org/event/mass-5-3/2027-02-11/
LOCATION:St Thomas
CATEGORIES:Mass
END:VEVENT
BEGIN:VEVENT
DTSTART;TZID=America/Detroit:20270212T090000
DTEND;TZID=America/Detroit:20270212T094500
DTSTAMP:20260421T014313
CREATED:20231026T143024Z
LAST-MODIFIED:20260219T151539Z
UID:10006239-1802422800-1802425500@saintthomaszanesville.org
SUMMARY:Mass
DESCRIPTION:
URL:https://saintthomaszanesville.org/event/mass-6-2/2027-02-12/
LOCATION:St Thomas
CATEGORIES:Mass
END:VEVENT
BEGIN:VEVENT
DTSTART;TZID=America/Detroit:20270213T153000
DTEND;TZID=America/Detroit:20270213T161500
DTSTAMP:20260421T014313
CREATED:20230123T173105Z
LAST-MODIFIED:20260219T153419Z
UID:10003390-1802532600-1802535300@saintthomaszanesville.org
SUMMARY:Confessions
DESCRIPTION:
URL:https://saintthomaszanesville.org/event/confessions/2027-02-13/
LOCATION:St Thomas
CATEGORIES:Confessions
END:VEVENT
BEGIN:VEVENT
DTSTART;TZID=America/Detroit:20270213T163000
DTEND;TZID=America/Detroit:20270213T173000
DTSTAMP:20260421T014313
CREATED:20240626T171342Z
LAST-MODIFIED:20260219T153326Z
UID:10008053-1802536200-1802539800@saintthomaszanesville.org
SUMMARY:Mass
DESCRIPTION:
URL:https://saintthomaszanesville.org/event/mass/2027-02-13/
LOCATION:St Thomas
CATEGORIES:Mass
END:VEVENT
BEGIN:VEVENT
DTSTART;TZID=America/Detroit:20270214T074500
DTEND;TZID=America/Detroit:20270214T084500
DTSTAMP:20260421T014313
CREATED:20240626T174505Z
LAST-MODIFIED:20250917T124608Z
UID:10008857-1802591100-1802594700@saintthomaszanesville.org
SUMMARY:Mass
DESCRIPTION:
URL:https://saintthomaszanesville.org/event/mass-2-2/2027-02-14/
CATEGORIES:Mass
END:VEVENT
BEGIN:VEVENT
DTSTART;TZID=America/Detroit:20270214T094500
DTEND;TZID=America/Detroit:20270214T223000
DTSTAMP:20260421T014313
CREATED:20231026T154327Z
LAST-MODIFIED:20240829T124728Z
UID:10007096-1802598300-1802644200@saintthomaszanesville.org
SUMMARY:Choir Rehearsal
DESCRIPTION:
URL:https://saintthomaszanesville.org/event/choir-rehersal-2/2027-02-14/
LOCATION:Activity Center
CATEGORIES:Choir
END:VEVENT
BEGIN:VEVENT
DTSTART;TZID=America/Detroit:20270214T110000
DTEND;TZID=America/Detroit:20270214T120000
DTSTAMP:20260421T014313
CREATED:20240626T174409Z
LAST-MODIFIED:20241205T172135Z
UID:10009122-1802602800-1802606400@saintthomaszanesville.org
SUMMARY:Mass
DESCRIPTION:
URL:https://saintthomaszanesville.org/event/mass-2/2027-02-14/
CATEGORIES:Mass
END:VEVENT
BEGIN:VEVENT
DTSTART;TZID=America/Detroit:20270216T090000
DTEND;TZID=America/Detroit:20270216T094500
DTSTAMP:20260421T014313
CREATED:20230717T191610Z
LAST-MODIFIED:20260219T151222Z
UID:10005722-1802768400-1802771100@saintthomaszanesville.org
SUMMARY:Mass
DESCRIPTION:
URL:https://saintthomaszanesville.org/event/mass-4/2027-02-16/
LOCATION:St Thomas
CATEGORIES:Mass
END:VEVENT
BEGIN:VEVENT
DTSTART;TZID=America/Detroit:20270217T090000
DTEND;TZID=America/Detroit:20270217T094500
DTSTAMP:20260421T014313
CREATED:20230717T191330Z
LAST-MODIFIED:20251121T143234Z
UID:10005463-1802854800-1802857500@saintthomaszanesville.org
SUMMARY:Mass
DESCRIPTION:
URL:https://saintthomaszanesville.org/event/mass-3/2027-02-17/
LOCATION:St Thomas
CATEGORIES:Mass
END:VEVENT
BEGIN:VEVENT
DTSTART;TZID=America/Detroit:20270217T100000
DTEND;TZID=America/Detroit:20270217T210000
DTSTAMP:20260421T014313
CREATED:20231025T130420Z
LAST-MODIFIED:20260219T151646Z
UID:10006498-1802858400-1802898000@saintthomaszanesville.org
SUMMARY:Eucharistic Exposition of the Blessed Sacrement
DESCRIPTION:
URL:https://saintthomaszanesville.org/event/eucharistic-exposition-of-the-blessed-sacrement-2-2/2027-02-17/
LOCATION:St Thomas
CATEGORIES:Eucharist
END:VEVENT
BEGIN:VEVENT
DTSTART;TZID=America/Detroit:20270218T090000
DTEND;TZID=America/Detroit:20270218T094500
DTSTAMP:20260421T014313
CREATED:20231025T130315Z
LAST-MODIFIED:20260219T151402Z
UID:10005981-1802941200-1802943900@saintthomaszanesville.org
SUMMARY:Mass
DESCRIPTION:
URL:https://saintthomaszanesville.org/event/mass-5-3/2027-02-18/
LOCATION:St Thomas
CATEGORIES:Mass
END:VEVENT
BEGIN:VEVENT
DTSTART;TZID=America/Detroit:20270219T090000
DTEND;TZID=America/Detroit:20270219T094500
DTSTAMP:20260421T014313
CREATED:20231026T143024Z
LAST-MODIFIED:20260219T151539Z
UID:10006240-1803027600-1803030300@saintthomaszanesville.org
SUMMARY:Mass
DESCRIPTION:
URL:https://saintthomaszanesville.org/event/mass-6-2/2027-02-19/
LOCATION:St Thomas
CATEGORIES:Mass
END:VEVENT
BEGIN:VEVENT
DTSTART;TZID=America/Detroit:20270220T153000
DTEND;TZID=America/Detroit:20270220T161500
DTSTAMP:20260421T014313
CREATED:20230123T173105Z
LAST-MODIFIED:20260219T153419Z
UID:10003391-1803137400-1803140100@saintthomaszanesville.org
SUMMARY:Confessions
DESCRIPTION:
URL:https://saintthomaszanesville.org/event/confessions/2027-02-20/
LOCATION:St Thomas
CATEGORIES:Confessions
END:VEVENT
BEGIN:VEVENT
DTSTART;TZID=America/Detroit:20270220T163000
DTEND;TZID=America/Detroit:20270220T173000
DTSTAMP:20260421T014313
CREATED:20240626T171342Z
LAST-MODIFIED:20260219T153326Z
UID:10008054-1803141000-1803144600@saintthomaszanesville.org
SUMMARY:Mass
DESCRIPTION:
URL:https://saintthomaszanesville.org/event/mass/2027-02-20/
LOCATION:St Thomas
CATEGORIES:Mass
END:VEVENT
BEGIN:VEVENT
DTSTART;TZID=America/Detroit:20270221T074500
DTEND;TZID=America/Detroit:20270221T084500
DTSTAMP:20260421T014313
CREATED:20240626T174505Z
LAST-MODIFIED:20250917T124608Z
UID:10008858-1803195900-1803199500@saintthomaszanesville.org
SUMMARY:Mass
DESCRIPTION:
URL:https://saintthomaszanesville.org/event/mass-2-2/2027-02-21/
CATEGORIES:Mass
END:VEVENT
BEGIN:VEVENT
DTSTART;TZID=America/Detroit:20270221T094500
DTEND;TZID=America/Detroit:20270221T223000
DTSTAMP:20260421T014313
CREATED:20231026T154327Z
LAST-MODIFIED:20240829T124728Z
UID:10007097-1803203100-1803249000@saintthomaszanesville.org
SUMMARY:Choir Rehearsal
DESCRIPTION:
URL:https://saintthomaszanesville.org/event/choir-rehersal-2/2027-02-21/
LOCATION:Activity Center
CATEGORIES:Choir
END:VEVENT
BEGIN:VEVENT
DTSTART;TZID=America/Detroit:20270221T110000
DTEND;TZID=America/Detroit:20270221T120000
DTSTAMP:20260421T014313
CREATED:20240626T174409Z
LAST-MODIFIED:20241205T172135Z
UID:10009123-1803207600-1803211200@saintthomaszanesville.org
SUMMARY:Mass
DESCRIPTION:
URL:https://saintthomaszanesville.org/event/mass-2/2027-02-21/
CATEGORIES:Mass
END:VEVENT
BEGIN:VEVENT
DTSTART;TZID=America/Detroit:20270223T090000
DTEND;TZID=America/Detroit:20270223T094500
DTSTAMP:20260421T014313
CREATED:20230717T191610Z
LAST-MODIFIED:20260219T151222Z
UID:10005723-1803373200-1803375900@saintthomaszanesville.org
SUMMARY:Mass
DESCRIPTION:
URL:https://saintthomaszanesville.org/event/mass-4/2027-02-23/
LOCATION:St Thomas
CATEGORIES:Mass
END:VEVENT
BEGIN:VEVENT
DTSTART;TZID=America/Detroit:20270224T090000
DTEND;TZID=America/Detroit:20270224T094500
DTSTAMP:20260421T014313
CREATED:20230717T191330Z
LAST-MODIFIED:20251121T143234Z
UID:10005464-1803459600-1803462300@saintthomaszanesville.org
SUMMARY:Mass
DESCRIPTION:
URL:https://saintthomaszanesville.org/event/mass-3/2027-02-24/
LOCATION:St Thomas
CATEGORIES:Mass
END:VEVENT
BEGIN:VEVENT
DTSTART;TZID=America/Detroit:20270224T100000
DTEND;TZID=America/Detroit:20270224T210000
DTSTAMP:20260421T014313
CREATED:20231025T130420Z
LAST-MODIFIED:20260219T151646Z
UID:10006499-1803463200-1803502800@saintthomaszanesville.org
SUMMARY:Eucharistic Exposition of the Blessed Sacrement
DESCRIPTION:
URL:https://saintthomaszanesville.org/event/eucharistic-exposition-of-the-blessed-sacrement-2-2/2027-02-24/
LOCATION:St Thomas
CATEGORIES:Eucharist
END:VEVENT
BEGIN:VEVENT
DTSTART;TZID=America/Detroit:20270225T090000
DTEND;TZID=America/Detroit:20270225T094500
DTSTAMP:20260421T014313
CREATED:20231025T130315Z
LAST-MODIFIED:20260219T151402Z
UID:10005982-1803546000-1803548700@saintthomaszanesville.org
SUMMARY:Mass
DESCRIPTION:
URL:https://saintthomaszanesville.org/event/mass-5-3/2027-02-25/
LOCATION:St Thomas
CATEGORIES:Mass
END:VEVENT
BEGIN:VEVENT
DTSTART;TZID=America/Detroit:20270226T090000
DTEND;TZID=America/Detroit:20270226T094500
DTSTAMP:20260421T014313
CREATED:20231026T143024Z
LAST-MODIFIED:20260219T151539Z
UID:10006241-1803632400-1803635100@saintthomaszanesville.org
SUMMARY:Mass
DESCRIPTION:
URL:https://saintthomaszanesville.org/event/mass-6-2/2027-02-26/
LOCATION:St Thomas
CATEGORIES:Mass
END:VEVENT
BEGIN:VEVENT
DTSTART;TZID=America/Detroit:20270227T153000
DTEND;TZID=America/Detroit:20270227T161500
DTSTAMP:20260421T014313
CREATED:20230123T173105Z
LAST-MODIFIED:20260219T153419Z
UID:10003392-1803742200-1803744900@saintthomaszanesville.org
SUMMARY:Confessions
DESCRIPTION:
URL:https://saintthomaszanesville.org/event/confessions/2027-02-27/
LOCATION:St Thomas
CATEGORIES:Confessions
END:VEVENT
BEGIN:VEVENT
DTSTART;TZID=America/Detroit:20270227T163000
DTEND;TZID=America/Detroit:20270227T173000
DTSTAMP:20260421T014313
CREATED:20240626T171342Z
LAST-MODIFIED:20260219T153326Z
UID:10008055-1803745800-1803749400@saintthomaszanesville.org
SUMMARY:Mass
DESCRIPTION:
URL:https://saintthomaszanesville.org/event/mass/2027-02-27/
LOCATION:St Thomas
CATEGORIES:Mass
END:VEVENT
BEGIN:VEVENT
DTSTART;TZID=America/Detroit:20270228T074500
DTEND;TZID=America/Detroit:20270228T084500
DTSTAMP:20260421T014313
CREATED:20240626T174505Z
LAST-MODIFIED:20250917T124608Z
UID:10008859-1803800700-1803804300@saintthomaszanesville.org
SUMMARY:Mass
DESCRIPTION:
URL:https://saintthomaszanesville.org/event/mass-2-2/2027-02-28/
CATEGORIES:Mass
END:VEVENT
BEGIN:VEVENT
DTSTART;TZID=America/Detroit:20270228T094500
DTEND;TZID=America/Detroit:20270228T223000
DTSTAMP:20260421T014313
CREATED:20231026T154327Z
LAST-MODIFIED:20240829T124728Z
UID:10007098-1803807900-1803853800@saintthomaszanesville.org
SUMMARY:Choir Rehearsal
DESCRIPTION:
URL:https://saintthomaszanesville.org/event/choir-rehersal-2/2027-02-28/
LOCATION:Activity Center
CATEGORIES:Choir
END:VEVENT
BEGIN:VEVENT
DTSTART;TZID=America/Detroit:20270228T110000
DTEND;TZID=America/Detroit:20270228T120000
DTSTAMP:20260421T014313
CREATED:20240626T174409Z
LAST-MODIFIED:20241205T172135Z
UID:10009124-1803812400-1803816000@saintthomaszanesville.org
SUMMARY:Mass
DESCRIPTION:
URL:https://saintthomaszanesville.org/event/mass-2/2027-02-28/
CATEGORIES:Mass
END:VEVENT
BEGIN:VEVENT
DTSTART;TZID=America/Detroit:20270302T090000
DTEND;TZID=America/Detroit:20270302T094500
DTSTAMP:20260421T014313
CREATED:20230717T191610Z
LAST-MODIFIED:20260219T151222Z
UID:10005724-1803978000-1803980700@saintthomaszanesville.org
SUMMARY:Mass
DESCRIPTION:
URL:https://saintthomaszanesville.org/event/mass-4/2027-03-02/
LOCATION:St Thomas
CATEGORIES:Mass
END:VEVENT
BEGIN:VEVENT
DTSTART;TZID=America/Detroit:20270303T090000
DTEND;TZID=America/Detroit:20270303T094500
DTSTAMP:20260421T014313
CREATED:20230717T191330Z
LAST-MODIFIED:20251121T143234Z
UID:10005465-1804064400-1804067100@saintthomaszanesville.org
SUMMARY:Mass
DESCRIPTION:
URL:https://saintthomaszanesville.org/event/mass-3/2027-03-03/
LOCATION:St Thomas
CATEGORIES:Mass
END:VEVENT
BEGIN:VEVENT
DTSTART;TZID=America/Detroit:20270303T100000
DTEND;TZID=America/Detroit:20270303T210000
DTSTAMP:20260421T014313
CREATED:20231025T130420Z
LAST-MODIFIED:20260219T151646Z
UID:10006500-1804068000-1804107600@saintthomaszanesville.org
SUMMARY:Eucharistic Exposition of the Blessed Sacrement
DESCRIPTION:
URL:https://saintthomaszanesville.org/event/eucharistic-exposition-of-the-blessed-sacrement-2-2/2027-03-03/
LOCATION:St Thomas
CATEGORIES:Eucharist
END:VEVENT
END:VCALENDAR