BEGIN:VCALENDAR
VERSION:2.0
PRODID:-//Saint Thomas Acquinas Zanesville - ECPv6.15.20//NONSGML v1.0//EN
CALSCALE:GREGORIAN
METHOD:PUBLISH
X-ORIGINAL-URL:https://saintthomaszanesville.org
X-WR-CALDESC:Events for Saint Thomas Acquinas Zanesville
REFRESH-INTERVAL;VALUE=DURATION:PT1H
X-Robots-Tag:noindex
X-PUBLISHED-TTL:PT1H
BEGIN:VTIMEZONE
TZID:America/Detroit
BEGIN:DAYLIGHT
TZOFFSETFROM:-0500
TZOFFSETTO:-0400
TZNAME:EDT
DTSTART:20260308T070000
END:DAYLIGHT
BEGIN:STANDARD
TZOFFSETFROM:-0400
TZOFFSETTO:-0500
TZNAME:EST
DTSTART:20261101T060000
END:STANDARD
BEGIN:DAYLIGHT
TZOFFSETFROM:-0500
TZOFFSETTO:-0400
TZNAME:EDT
DTSTART:20270314T070000
END:DAYLIGHT
BEGIN:STANDARD
TZOFFSETFROM:-0400
TZOFFSETTO:-0500
TZNAME:EST
DTSTART:20271107T060000
END:STANDARD
BEGIN:DAYLIGHT
TZOFFSETFROM:-0500
TZOFFSETTO:-0400
TZNAME:EDT
DTSTART:20280312T070000
END:DAYLIGHT
BEGIN:STANDARD
TZOFFSETFROM:-0400
TZOFFSETTO:-0500
TZNAME:EST
DTSTART:20281105T060000
END:STANDARD
END:VTIMEZONE
BEGIN:VEVENT
DTSTART;TZID=America/Detroit:20270827T090000
DTEND;TZID=America/Detroit:20270827T094500
DTSTAMP:20260422T180440
CREATED:20231026T143024Z
LAST-MODIFIED:20260219T151539Z
UID:10006267-1819357200-1819359900@saintthomaszanesville.org
SUMMARY:Mass
DESCRIPTION:
URL:https://saintthomaszanesville.org/event/mass-6-2/2027-08-27/
LOCATION:St Thomas
CATEGORIES:Mass
END:VEVENT
BEGIN:VEVENT
DTSTART;TZID=America/Detroit:20270828T153000
DTEND;TZID=America/Detroit:20270828T161500
DTSTAMP:20260422T180441
CREATED:20230123T173105Z
LAST-MODIFIED:20260219T153419Z
UID:10003418-1819467000-1819469700@saintthomaszanesville.org
SUMMARY:Confessions
DESCRIPTION:
URL:https://saintthomaszanesville.org/event/confessions/2027-08-28/
LOCATION:St Thomas
CATEGORIES:Confessions
END:VEVENT
BEGIN:VEVENT
DTSTART;TZID=America/Detroit:20270828T163000
DTEND;TZID=America/Detroit:20270828T173000
DTSTAMP:20260422T180441
CREATED:20240626T171342Z
LAST-MODIFIED:20260219T153326Z
UID:10008081-1819470600-1819474200@saintthomaszanesville.org
SUMMARY:Mass
DESCRIPTION:
URL:https://saintthomaszanesville.org/event/mass/2027-08-28/
LOCATION:St Thomas
CATEGORIES:Mass
END:VEVENT
BEGIN:VEVENT
DTSTART;TZID=America/Detroit:20270829T074500
DTEND;TZID=America/Detroit:20270829T084500
DTSTAMP:20260422T180441
CREATED:20240626T174505Z
LAST-MODIFIED:20250917T124608Z
UID:10008885-1819525500-1819529100@saintthomaszanesville.org
SUMMARY:Mass
DESCRIPTION:
URL:https://saintthomaszanesville.org/event/mass-2-2/2027-08-29/
LOCATION:OH
CATEGORIES:Mass
END:VEVENT
BEGIN:VEVENT
DTSTART;TZID=America/Detroit:20270829T094500
DTEND;TZID=America/Detroit:20270829T223000
DTSTAMP:20260422T180441
CREATED:20231026T154327Z
LAST-MODIFIED:20240829T124728Z
UID:10007124-1819532700-1819578600@saintthomaszanesville.org
SUMMARY:Choir Rehearsal
DESCRIPTION:
URL:https://saintthomaszanesville.org/event/choir-rehersal-2/2027-08-29/
LOCATION:Activity Center
CATEGORIES:Choir
END:VEVENT
BEGIN:VEVENT
DTSTART;TZID=America/Detroit:20270829T110000
DTEND;TZID=America/Detroit:20270829T120000
DTSTAMP:20260422T180441
CREATED:20240626T174409Z
LAST-MODIFIED:20241205T172135Z
UID:10009150-1819537200-1819540800@saintthomaszanesville.org
SUMMARY:Mass
DESCRIPTION:
URL:https://saintthomaszanesville.org/event/mass-2/2027-08-29/
LOCATION:OH
CATEGORIES:Mass
END:VEVENT
BEGIN:VEVENT
DTSTART;TZID=America/Detroit:20270831T090000
DTEND;TZID=America/Detroit:20270831T094500
DTSTAMP:20260422T180441
CREATED:20230717T191610Z
LAST-MODIFIED:20260219T151222Z
UID:10005750-1819702800-1819705500@saintthomaszanesville.org
SUMMARY:Mass
DESCRIPTION:
URL:https://saintthomaszanesville.org/event/mass-4/2027-08-31/
LOCATION:St Thomas
CATEGORIES:Mass
END:VEVENT
BEGIN:VEVENT
DTSTART;TZID=America/Detroit:20270901T090000
DTEND;TZID=America/Detroit:20270901T094500
DTSTAMP:20260422T180441
CREATED:20230717T191330Z
LAST-MODIFIED:20251121T143234Z
UID:10005491-1819789200-1819791900@saintthomaszanesville.org
SUMMARY:Mass
DESCRIPTION:
URL:https://saintthomaszanesville.org/event/mass-3/2027-09-01/
LOCATION:St Thomas
CATEGORIES:Mass
END:VEVENT
BEGIN:VEVENT
DTSTART;TZID=America/Detroit:20270901T100000
DTEND;TZID=America/Detroit:20270901T210000
DTSTAMP:20260422T180441
CREATED:20231025T130420Z
LAST-MODIFIED:20260219T151646Z
UID:10006526-1819792800-1819832400@saintthomaszanesville.org
SUMMARY:Eucharistic Exposition of the Blessed Sacrement
DESCRIPTION:
URL:https://saintthomaszanesville.org/event/eucharistic-exposition-of-the-blessed-sacrement-2-2/2027-09-01/
LOCATION:St Thomas
CATEGORIES:Eucharist
END:VEVENT
BEGIN:VEVENT
DTSTART;TZID=America/Detroit:20270902T090000
DTEND;TZID=America/Detroit:20270902T094500
DTSTAMP:20260422T180441
CREATED:20231025T130315Z
LAST-MODIFIED:20260219T151402Z
UID:10006009-1819875600-1819878300@saintthomaszanesville.org
SUMMARY:Mass
DESCRIPTION:
URL:https://saintthomaszanesville.org/event/mass-5-3/2027-09-02/
LOCATION:St Thomas
CATEGORIES:Mass
END:VEVENT
BEGIN:VEVENT
DTSTART;TZID=America/Detroit:20270903T090000
DTEND;TZID=America/Detroit:20270903T094500
DTSTAMP:20260422T180441
CREATED:20231026T143024Z
LAST-MODIFIED:20260219T151539Z
UID:10006268-1819962000-1819964700@saintthomaszanesville.org
SUMMARY:Mass
DESCRIPTION:
URL:https://saintthomaszanesville.org/event/mass-6-2/2027-09-03/
LOCATION:St Thomas
CATEGORIES:Mass
END:VEVENT
BEGIN:VEVENT
DTSTART;TZID=America/Detroit:20270904T153000
DTEND;TZID=America/Detroit:20270904T161500
DTSTAMP:20260422T180441
CREATED:20230123T173105Z
LAST-MODIFIED:20260219T153419Z
UID:10003419-1820071800-1820074500@saintthomaszanesville.org
SUMMARY:Confessions
DESCRIPTION:
URL:https://saintthomaszanesville.org/event/confessions/2027-09-04/
LOCATION:St Thomas
CATEGORIES:Confessions
END:VEVENT
BEGIN:VEVENT
DTSTART;TZID=America/Detroit:20270904T163000
DTEND;TZID=America/Detroit:20270904T173000
DTSTAMP:20260422T180441
CREATED:20240626T171342Z
LAST-MODIFIED:20260219T153326Z
UID:10008082-1820075400-1820079000@saintthomaszanesville.org
SUMMARY:Mass
DESCRIPTION:
URL:https://saintthomaszanesville.org/event/mass/2027-09-04/
LOCATION:St Thomas
CATEGORIES:Mass
END:VEVENT
BEGIN:VEVENT
DTSTART;TZID=America/Detroit:20270905T074500
DTEND;TZID=America/Detroit:20270905T084500
DTSTAMP:20260422T180441
CREATED:20240626T174505Z
LAST-MODIFIED:20250917T124608Z
UID:10008886-1820130300-1820133900@saintthomaszanesville.org
SUMMARY:Mass
DESCRIPTION:
URL:https://saintthomaszanesville.org/event/mass-2-2/2027-09-05/
LOCATION:OH
CATEGORIES:Mass
END:VEVENT
BEGIN:VEVENT
DTSTART;TZID=America/Detroit:20270905T094500
DTEND;TZID=America/Detroit:20270905T223000
DTSTAMP:20260422T180441
CREATED:20231026T154327Z
LAST-MODIFIED:20240829T124728Z
UID:10007125-1820137500-1820183400@saintthomaszanesville.org
SUMMARY:Choir Rehearsal
DESCRIPTION:
URL:https://saintthomaszanesville.org/event/choir-rehersal-2/2027-09-05/
LOCATION:Activity Center
CATEGORIES:Choir
END:VEVENT
BEGIN:VEVENT
DTSTART;TZID=America/Detroit:20270905T110000
DTEND;TZID=America/Detroit:20270905T120000
DTSTAMP:20260422T180441
CREATED:20240626T174409Z
LAST-MODIFIED:20241205T172135Z
UID:10009151-1820142000-1820145600@saintthomaszanesville.org
SUMMARY:Mass
DESCRIPTION:
URL:https://saintthomaszanesville.org/event/mass-2/2027-09-05/
LOCATION:OH
CATEGORIES:Mass
END:VEVENT
BEGIN:VEVENT
DTSTART;TZID=America/Detroit:20270907T090000
DTEND;TZID=America/Detroit:20270907T094500
DTSTAMP:20260422T180441
CREATED:20230717T191610Z
LAST-MODIFIED:20260219T151222Z
UID:10005751-1820307600-1820310300@saintthomaszanesville.org
SUMMARY:Mass
DESCRIPTION:
URL:https://saintthomaszanesville.org/event/mass-4/2027-09-07/
LOCATION:St Thomas
CATEGORIES:Mass
END:VEVENT
BEGIN:VEVENT
DTSTART;TZID=America/Detroit:20270908T090000
DTEND;TZID=America/Detroit:20270908T094500
DTSTAMP:20260422T180441
CREATED:20230717T191330Z
LAST-MODIFIED:20251121T143234Z
UID:10005492-1820394000-1820396700@saintthomaszanesville.org
SUMMARY:Mass
DESCRIPTION:
URL:https://saintthomaszanesville.org/event/mass-3/2027-09-08/
LOCATION:St Thomas
CATEGORIES:Mass
END:VEVENT
BEGIN:VEVENT
DTSTART;TZID=America/Detroit:20270908T100000
DTEND;TZID=America/Detroit:20270908T210000
DTSTAMP:20260422T180441
CREATED:20231025T130420Z
LAST-MODIFIED:20260219T151646Z
UID:10006527-1820397600-1820437200@saintthomaszanesville.org
SUMMARY:Eucharistic Exposition of the Blessed Sacrement
DESCRIPTION:
URL:https://saintthomaszanesville.org/event/eucharistic-exposition-of-the-blessed-sacrement-2-2/2027-09-08/
LOCATION:St Thomas
CATEGORIES:Eucharist
END:VEVENT
BEGIN:VEVENT
DTSTART;TZID=America/Detroit:20270909T090000
DTEND;TZID=America/Detroit:20270909T094500
DTSTAMP:20260422T180441
CREATED:20231025T130315Z
LAST-MODIFIED:20260219T151402Z
UID:10006010-1820480400-1820483100@saintthomaszanesville.org
SUMMARY:Mass
DESCRIPTION:
URL:https://saintthomaszanesville.org/event/mass-5-3/2027-09-09/
LOCATION:St Thomas
CATEGORIES:Mass
END:VEVENT
BEGIN:VEVENT
DTSTART;TZID=America/Detroit:20270910T090000
DTEND;TZID=America/Detroit:20270910T094500
DTSTAMP:20260422T180441
CREATED:20231026T143024Z
LAST-MODIFIED:20260219T151539Z
UID:10006269-1820566800-1820569500@saintthomaszanesville.org
SUMMARY:Mass
DESCRIPTION:
URL:https://saintthomaszanesville.org/event/mass-6-2/2027-09-10/
LOCATION:St Thomas
CATEGORIES:Mass
END:VEVENT
BEGIN:VEVENT
DTSTART;TZID=America/Detroit:20270911T153000
DTEND;TZID=America/Detroit:20270911T161500
DTSTAMP:20260422T180441
CREATED:20230123T173105Z
LAST-MODIFIED:20260219T153419Z
UID:10003420-1820676600-1820679300@saintthomaszanesville.org
SUMMARY:Confessions
DESCRIPTION:
URL:https://saintthomaszanesville.org/event/confessions/2027-09-11/
LOCATION:St Thomas
CATEGORIES:Confessions
END:VEVENT
BEGIN:VEVENT
DTSTART;TZID=America/Detroit:20270911T163000
DTEND;TZID=America/Detroit:20270911T173000
DTSTAMP:20260422T180441
CREATED:20240626T171342Z
LAST-MODIFIED:20260219T153326Z
UID:10008083-1820680200-1820683800@saintthomaszanesville.org
SUMMARY:Mass
DESCRIPTION:
URL:https://saintthomaszanesville.org/event/mass/2027-09-11/
LOCATION:St Thomas
CATEGORIES:Mass
END:VEVENT
BEGIN:VEVENT
DTSTART;TZID=America/Detroit:20270912T074500
DTEND;TZID=America/Detroit:20270912T084500
DTSTAMP:20260422T180441
CREATED:20240626T174505Z
LAST-MODIFIED:20250917T124608Z
UID:10008887-1820735100-1820738700@saintthomaszanesville.org
SUMMARY:Mass
DESCRIPTION:
URL:https://saintthomaszanesville.org/event/mass-2-2/2027-09-12/
LOCATION:OH
CATEGORIES:Mass
END:VEVENT
BEGIN:VEVENT
DTSTART;TZID=America/Detroit:20270912T094500
DTEND;TZID=America/Detroit:20270912T223000
DTSTAMP:20260422T180441
CREATED:20231026T154327Z
LAST-MODIFIED:20240829T124728Z
UID:10007126-1820742300-1820788200@saintthomaszanesville.org
SUMMARY:Choir Rehearsal
DESCRIPTION:
URL:https://saintthomaszanesville.org/event/choir-rehersal-2/2027-09-12/
LOCATION:Activity Center
CATEGORIES:Choir
END:VEVENT
BEGIN:VEVENT
DTSTART;TZID=America/Detroit:20270912T110000
DTEND;TZID=America/Detroit:20270912T120000
DTSTAMP:20260422T180441
CREATED:20240626T174409Z
LAST-MODIFIED:20241205T172135Z
UID:10009152-1820746800-1820750400@saintthomaszanesville.org
SUMMARY:Mass
DESCRIPTION:
URL:https://saintthomaszanesville.org/event/mass-2/2027-09-12/
LOCATION:OH
CATEGORIES:Mass
END:VEVENT
BEGIN:VEVENT
DTSTART;TZID=America/Detroit:20270914T090000
DTEND;TZID=America/Detroit:20270914T094500
DTSTAMP:20260422T180441
CREATED:20230717T191610Z
LAST-MODIFIED:20260219T151222Z
UID:10005752-1820912400-1820915100@saintthomaszanesville.org
SUMMARY:Mass
DESCRIPTION:
URL:https://saintthomaszanesville.org/event/mass-4/2027-09-14/
LOCATION:St Thomas
CATEGORIES:Mass
END:VEVENT
BEGIN:VEVENT
DTSTART;TZID=America/Detroit:20270915T090000
DTEND;TZID=America/Detroit:20270915T094500
DTSTAMP:20260422T180441
CREATED:20230717T191330Z
LAST-MODIFIED:20251121T143234Z
UID:10005493-1820998800-1821001500@saintthomaszanesville.org
SUMMARY:Mass
DESCRIPTION:
URL:https://saintthomaszanesville.org/event/mass-3/2027-09-15/
LOCATION:St Thomas
CATEGORIES:Mass
END:VEVENT
BEGIN:VEVENT
DTSTART;TZID=America/Detroit:20270915T100000
DTEND;TZID=America/Detroit:20270915T210000
DTSTAMP:20260422T180441
CREATED:20231025T130420Z
LAST-MODIFIED:20260219T151646Z
UID:10006528-1821002400-1821042000@saintthomaszanesville.org
SUMMARY:Eucharistic Exposition of the Blessed Sacrement
DESCRIPTION:
URL:https://saintthomaszanesville.org/event/eucharistic-exposition-of-the-blessed-sacrement-2-2/2027-09-15/
LOCATION:St Thomas
CATEGORIES:Eucharist
END:VEVENT
BEGIN:VEVENT
DTSTART;TZID=America/Detroit:20270916T090000
DTEND;TZID=America/Detroit:20270916T094500
DTSTAMP:20260422T180441
CREATED:20231025T130315Z
LAST-MODIFIED:20260219T151402Z
UID:10006011-1821085200-1821087900@saintthomaszanesville.org
SUMMARY:Mass
DESCRIPTION:
URL:https://saintthomaszanesville.org/event/mass-5-3/2027-09-16/
LOCATION:St Thomas
CATEGORIES:Mass
END:VEVENT
END:VCALENDAR