BEGIN:VCALENDAR
VERSION:2.0
PRODID:-//Saint Thomas Acquinas Zanesville - ECPv6.15.20//NONSGML v1.0//EN
CALSCALE:GREGORIAN
METHOD:PUBLISH
X-WR-CALNAME:Saint Thomas Acquinas Zanesville
X-ORIGINAL-URL:https://saintthomaszanesville.org
X-WR-CALDESC:Events for Saint Thomas Acquinas Zanesville
REFRESH-INTERVAL;VALUE=DURATION:PT1H
X-Robots-Tag:noindex
X-PUBLISHED-TTL:PT1H
BEGIN:VTIMEZONE
TZID:America/Detroit
BEGIN:DAYLIGHT
TZOFFSETFROM:-0500
TZOFFSETTO:-0400
TZNAME:EDT
DTSTART:20250309T070000
END:DAYLIGHT
BEGIN:STANDARD
TZOFFSETFROM:-0400
TZOFFSETTO:-0500
TZNAME:EST
DTSTART:20251102T060000
END:STANDARD
BEGIN:DAYLIGHT
TZOFFSETFROM:-0500
TZOFFSETTO:-0400
TZNAME:EDT
DTSTART:20260308T070000
END:DAYLIGHT
BEGIN:STANDARD
TZOFFSETFROM:-0400
TZOFFSETTO:-0500
TZNAME:EST
DTSTART:20261101T060000
END:STANDARD
BEGIN:DAYLIGHT
TZOFFSETFROM:-0500
TZOFFSETTO:-0400
TZNAME:EDT
DTSTART:20270314T070000
END:DAYLIGHT
BEGIN:STANDARD
TZOFFSETFROM:-0400
TZOFFSETTO:-0500
TZNAME:EST
DTSTART:20271107T060000
END:STANDARD
END:VTIMEZONE
BEGIN:VEVENT
DTSTART;TZID=America/Detroit:20260310T090000
DTEND;TZID=America/Detroit:20260310T094500
DTSTAMP:20260420T144939
CREATED:20230717T191610Z
LAST-MODIFIED:20260219T151222Z
UID:10005673-1773133200-1773135900@saintthomaszanesville.org
SUMMARY:Mass
DESCRIPTION:
URL:https://saintthomaszanesville.org/event/mass-4/2026-03-10/
LOCATION:St Thomas
CATEGORIES:Mass
END:VEVENT
BEGIN:VEVENT
DTSTART;TZID=America/Detroit:20260311T090000
DTEND;TZID=America/Detroit:20260311T094500
DTSTAMP:20260420T144939
CREATED:20230717T191330Z
LAST-MODIFIED:20251121T143234Z
UID:10005414-1773219600-1773222300@saintthomaszanesville.org
SUMMARY:Mass
DESCRIPTION:
URL:https://saintthomaszanesville.org/event/mass-3/2026-03-11/
LOCATION:St Thomas
CATEGORIES:Mass
END:VEVENT
BEGIN:VEVENT
DTSTART;TZID=America/Detroit:20260311T100000
DTEND;TZID=America/Detroit:20260311T210000
DTSTAMP:20260420T144939
CREATED:20231025T130420Z
LAST-MODIFIED:20260219T151646Z
UID:10006449-1773223200-1773262800@saintthomaszanesville.org
SUMMARY:Eucharistic Exposition of the Blessed Sacrement
DESCRIPTION:
URL:https://saintthomaszanesville.org/event/eucharistic-exposition-of-the-blessed-sacrement-2-2/2026-03-11/
LOCATION:St Thomas
CATEGORIES:Eucharist
END:VEVENT
BEGIN:VEVENT
DTSTART;TZID=America/Detroit:20260311T183000
DTEND;TZID=America/Detroit:20260311T200000
DTSTAMP:20260420T144939
CREATED:20250828T134504Z
LAST-MODIFIED:20250828T134534Z
UID:10009945-1773253800-1773259200@saintthomaszanesville.org
SUMMARY:OCIA
DESCRIPTION:Order of Christian Initiation of Adults \nAll Meetings begin at 6:30 p.m. and end roughly at 8 p.m.\nThey are held at the Saint Nicholas Parish Office\, 925 E. Main St.\nYour Contacts for more information:\nPatty Boggs – pboggs@stnickparish.org – 453-0597\nRobert Rodgers – rrodgers@saintthomaszanesville.org – 453- 3301 ext 125
URL:https://saintthomaszanesville.org/event/ocia/2026-03-11/
LOCATION:St Nicholas\, 925 E Main St\, zanesville\, OH\, 43701\, United States
END:VEVENT
BEGIN:VEVENT
DTSTART;TZID=America/Detroit:20260312T090000
DTEND;TZID=America/Detroit:20260312T094500
DTSTAMP:20260420T144939
CREATED:20231025T130315Z
LAST-MODIFIED:20260219T151402Z
UID:10005932-1773306000-1773308700@saintthomaszanesville.org
SUMMARY:Mass
DESCRIPTION:
URL:https://saintthomaszanesville.org/event/mass-5-3/2026-03-12/
LOCATION:St Thomas
CATEGORIES:Mass
END:VEVENT
BEGIN:VEVENT
DTSTART;TZID=America/Detroit:20260313T090000
DTEND;TZID=America/Detroit:20260313T094500
DTSTAMP:20260420T144939
CREATED:20231026T143024Z
LAST-MODIFIED:20260219T151539Z
UID:10006191-1773392400-1773395100@saintthomaszanesville.org
SUMMARY:Mass
DESCRIPTION:
URL:https://saintthomaszanesville.org/event/mass-6-2/2026-03-13/
LOCATION:St Thomas
CATEGORIES:Mass
END:VEVENT
BEGIN:VEVENT
DTSTART;TZID=America/Detroit:20260314T153000
DTEND;TZID=America/Detroit:20260314T161500
DTSTAMP:20260420T144939
CREATED:20230123T173105Z
LAST-MODIFIED:20260219T153419Z
UID:10003342-1773502200-1773504900@saintthomaszanesville.org
SUMMARY:Confessions
DESCRIPTION:
URL:https://saintthomaszanesville.org/event/confessions/2026-03-14/
LOCATION:St Thomas
CATEGORIES:Confessions
END:VEVENT
BEGIN:VEVENT
DTSTART;TZID=America/Detroit:20260314T163000
DTEND;TZID=America/Detroit:20260314T173000
DTSTAMP:20260420T144939
CREATED:20240626T171342Z
LAST-MODIFIED:20260219T153326Z
UID:10008005-1773505800-1773509400@saintthomaszanesville.org
SUMMARY:Mass
DESCRIPTION:
URL:https://saintthomaszanesville.org/event/mass/2026-03-14/
LOCATION:St Thomas
CATEGORIES:Mass
END:VEVENT
BEGIN:VEVENT
DTSTART;TZID=America/Detroit:20260315T074500
DTEND;TZID=America/Detroit:20260315T084500
DTSTAMP:20260420T144939
CREATED:20240626T174505Z
LAST-MODIFIED:20250917T124608Z
UID:10008809-1773560700-1773564300@saintthomaszanesville.org
SUMMARY:Mass
DESCRIPTION:
URL:https://saintthomaszanesville.org/event/mass-2-2/2026-03-15/
LOCATION:OH
CATEGORIES:Mass
END:VEVENT
BEGIN:VEVENT
DTSTART;TZID=America/Detroit:20260315T093000
DTEND;TZID=America/Detroit:20260315T103000
DTSTAMP:20260420T144939
CREATED:20250729T124342Z
LAST-MODIFIED:20250729T124342Z
UID:10009847-1773567000-1773570600@saintthomaszanesville.org
SUMMARY:CCD
DESCRIPTION:CCD will begin September 14 and end May 10th\nAll CCD Class start at 9:30am and run until 10:30am\nParent/Adult Fellowship is in the Aquinas Room during this time\nUnless noted\, CCD class dates are business as usual
URL:https://saintthomaszanesville.org/event/ccd/2026-03-15/
LOCATION:Parish Office\, 144 N 5th St\, Zanesville\, OH\, 43701\, United States
CATEGORIES:CCD
END:VEVENT
BEGIN:VEVENT
DTSTART;TZID=America/Detroit:20260315T094500
DTEND;TZID=America/Detroit:20260315T223000
DTSTAMP:20260420T144939
CREATED:20231026T154327Z
LAST-MODIFIED:20240829T124728Z
UID:10007048-1773567900-1773613800@saintthomaszanesville.org
SUMMARY:Choir Rehearsal
DESCRIPTION:
URL:https://saintthomaszanesville.org/event/choir-rehersal-2/2026-03-15/
LOCATION:Activity Center
CATEGORIES:Choir
END:VEVENT
BEGIN:VEVENT
DTSTART;TZID=America/Detroit:20260315T110000
DTEND;TZID=America/Detroit:20260315T120000
DTSTAMP:20260420T144939
CREATED:20240626T174409Z
LAST-MODIFIED:20241205T172135Z
UID:10009074-1773572400-1773576000@saintthomaszanesville.org
SUMMARY:Mass
DESCRIPTION:
URL:https://saintthomaszanesville.org/event/mass-2/2026-03-15/
LOCATION:OH
CATEGORIES:Mass
END:VEVENT
BEGIN:VEVENT
DTSTART;TZID=America/Detroit:20260317T090000
DTEND;TZID=America/Detroit:20260317T094500
DTSTAMP:20260420T144939
CREATED:20230717T191610Z
LAST-MODIFIED:20260219T151222Z
UID:10005674-1773738000-1773740700@saintthomaszanesville.org
SUMMARY:Mass
DESCRIPTION:
URL:https://saintthomaszanesville.org/event/mass-4/2026-03-17/
LOCATION:St Thomas
CATEGORIES:Mass
END:VEVENT
BEGIN:VEVENT
DTSTART;TZID=America/Detroit:20260318T090000
DTEND;TZID=America/Detroit:20260318T094500
DTSTAMP:20260420T144939
CREATED:20230717T191330Z
LAST-MODIFIED:20251121T143234Z
UID:10005415-1773824400-1773827100@saintthomaszanesville.org
SUMMARY:Mass
DESCRIPTION:
URL:https://saintthomaszanesville.org/event/mass-3/2026-03-18/
LOCATION:St Thomas
CATEGORIES:Mass
END:VEVENT
BEGIN:VEVENT
DTSTART;TZID=America/Detroit:20260318T100000
DTEND;TZID=America/Detroit:20260318T210000
DTSTAMP:20260420T144939
CREATED:20231025T130420Z
LAST-MODIFIED:20260219T151646Z
UID:10006450-1773828000-1773867600@saintthomaszanesville.org
SUMMARY:Eucharistic Exposition of the Blessed Sacrement
DESCRIPTION:
URL:https://saintthomaszanesville.org/event/eucharistic-exposition-of-the-blessed-sacrement-2-2/2026-03-18/
LOCATION:St Thomas
CATEGORIES:Eucharist
END:VEVENT
BEGIN:VEVENT
DTSTART;TZID=America/Detroit:20260318T183000
DTEND;TZID=America/Detroit:20260318T200000
DTSTAMP:20260420T144939
CREATED:20250828T134504Z
LAST-MODIFIED:20250828T134534Z
UID:10009946-1773858600-1773864000@saintthomaszanesville.org
SUMMARY:OCIA
DESCRIPTION:Order of Christian Initiation of Adults \nAll Meetings begin at 6:30 p.m. and end roughly at 8 p.m.\nThey are held at the Saint Nicholas Parish Office\, 925 E. Main St.\nYour Contacts for more information:\nPatty Boggs – pboggs@stnickparish.org – 453-0597\nRobert Rodgers – rrodgers@saintthomaszanesville.org – 453- 3301 ext 125
URL:https://saintthomaszanesville.org/event/ocia/2026-03-18/
LOCATION:St Nicholas\, 925 E Main St\, zanesville\, OH\, 43701\, United States
END:VEVENT
BEGIN:VEVENT
DTSTART;TZID=America/Detroit:20260319T090000
DTEND;TZID=America/Detroit:20260319T094500
DTSTAMP:20260420T144939
CREATED:20231025T130315Z
LAST-MODIFIED:20260219T151402Z
UID:10005933-1773910800-1773913500@saintthomaszanesville.org
SUMMARY:Mass
DESCRIPTION:
URL:https://saintthomaszanesville.org/event/mass-5-3/2026-03-19/
LOCATION:St Thomas
CATEGORIES:Mass
END:VEVENT
BEGIN:VEVENT
DTSTART;TZID=America/Detroit:20260320T090000
DTEND;TZID=America/Detroit:20260320T094500
DTSTAMP:20260420T144939
CREATED:20231026T143024Z
LAST-MODIFIED:20260219T151539Z
UID:10006192-1773997200-1773999900@saintthomaszanesville.org
SUMMARY:Mass
DESCRIPTION:
URL:https://saintthomaszanesville.org/event/mass-6-2/2026-03-20/
LOCATION:St Thomas
CATEGORIES:Mass
END:VEVENT
BEGIN:VEVENT
DTSTART;TZID=America/Detroit:20260321T153000
DTEND;TZID=America/Detroit:20260321T161500
DTSTAMP:20260420T144939
CREATED:20230123T173105Z
LAST-MODIFIED:20260219T153419Z
UID:10003343-1774107000-1774109700@saintthomaszanesville.org
SUMMARY:Confessions
DESCRIPTION:
URL:https://saintthomaszanesville.org/event/confessions/2026-03-21/
LOCATION:St Thomas
CATEGORIES:Confessions
END:VEVENT
BEGIN:VEVENT
DTSTART;TZID=America/Detroit:20260321T163000
DTEND;TZID=America/Detroit:20260321T173000
DTSTAMP:20260420T144939
CREATED:20240626T171342Z
LAST-MODIFIED:20260219T153326Z
UID:10008006-1774110600-1774114200@saintthomaszanesville.org
SUMMARY:Mass
DESCRIPTION:
URL:https://saintthomaszanesville.org/event/mass/2026-03-21/
LOCATION:St Thomas
CATEGORIES:Mass
END:VEVENT
BEGIN:VEVENT
DTSTART;TZID=America/Detroit:20260322T074500
DTEND;TZID=America/Detroit:20260322T084500
DTSTAMP:20260420T144939
CREATED:20240626T174505Z
LAST-MODIFIED:20250917T124608Z
UID:10008810-1774165500-1774169100@saintthomaszanesville.org
SUMMARY:Mass
DESCRIPTION:
URL:https://saintthomaszanesville.org/event/mass-2-2/2026-03-22/
LOCATION:OH
CATEGORIES:Mass
END:VEVENT
BEGIN:VEVENT
DTSTART;TZID=America/Detroit:20260322T093000
DTEND;TZID=America/Detroit:20260322T103000
DTSTAMP:20260420T144939
CREATED:20250729T124342Z
LAST-MODIFIED:20250729T124342Z
UID:10009848-1774171800-1774175400@saintthomaszanesville.org
SUMMARY:CCD
DESCRIPTION:CCD will begin September 14 and end May 10th\nAll CCD Class start at 9:30am and run until 10:30am\nParent/Adult Fellowship is in the Aquinas Room during this time\nUnless noted\, CCD class dates are business as usual
URL:https://saintthomaszanesville.org/event/ccd/2026-03-22/
LOCATION:Parish Office\, 144 N 5th St\, Zanesville\, OH\, 43701\, United States
CATEGORIES:CCD
END:VEVENT
BEGIN:VEVENT
DTSTART;TZID=America/Detroit:20260322T094500
DTEND;TZID=America/Detroit:20260322T223000
DTSTAMP:20260420T144939
CREATED:20231026T154327Z
LAST-MODIFIED:20240829T124728Z
UID:10007049-1774172700-1774218600@saintthomaszanesville.org
SUMMARY:Choir Rehearsal
DESCRIPTION:
URL:https://saintthomaszanesville.org/event/choir-rehersal-2/2026-03-22/
LOCATION:Activity Center
CATEGORIES:Choir
END:VEVENT
BEGIN:VEVENT
DTSTART;TZID=America/Detroit:20260322T110000
DTEND;TZID=America/Detroit:20260322T120000
DTSTAMP:20260420T144939
CREATED:20240626T174409Z
LAST-MODIFIED:20241205T172135Z
UID:10009075-1774177200-1774180800@saintthomaszanesville.org
SUMMARY:Mass
DESCRIPTION:
URL:https://saintthomaszanesville.org/event/mass-2/2026-03-22/
LOCATION:OH
CATEGORIES:Mass
END:VEVENT
BEGIN:VEVENT
DTSTART;TZID=America/Detroit:20260324T090000
DTEND;TZID=America/Detroit:20260324T094500
DTSTAMP:20260420T144939
CREATED:20230717T191610Z
LAST-MODIFIED:20260219T151222Z
UID:10005675-1774342800-1774345500@saintthomaszanesville.org
SUMMARY:Mass
DESCRIPTION:
URL:https://saintthomaszanesville.org/event/mass-4/2026-03-24/
LOCATION:St Thomas
CATEGORIES:Mass
END:VEVENT
BEGIN:VEVENT
DTSTART;TZID=America/Detroit:20260324T183000
DTEND;TZID=America/Detroit:20260324T200000
DTSTAMP:20260420T144939
CREATED:20251217T172626Z
LAST-MODIFIED:20251217T172626Z
UID:10010117-1774377000-1774382400@saintthomaszanesville.org
SUMMARY:Baptism Prep Class
DESCRIPTION:Families seeking to get their children baptized will need to attend a baptism prep class. The class will only be held if someone is pre-registered. Please do not show up without pre-registering for the class.  The meetings typically last 1.5 hours and will be held at St. Nicholas Parish Office. To register please contact the St. Nicholas Parish Office at 740-453-0597.
URL:https://saintthomaszanesville.org/event/baptism-prep-class/2026-03-24/
LOCATION:St Nicholas\, 925 E Main St\, zanesville\, OH\, 43701\, United States
END:VEVENT
BEGIN:VEVENT
DTSTART;TZID=America/Detroit:20260325T090000
DTEND;TZID=America/Detroit:20260325T094500
DTSTAMP:20260420T144939
CREATED:20230717T191330Z
LAST-MODIFIED:20251121T143234Z
UID:10005416-1774429200-1774431900@saintthomaszanesville.org
SUMMARY:Mass
DESCRIPTION:
URL:https://saintthomaszanesville.org/event/mass-3/2026-03-25/
LOCATION:St Thomas
CATEGORIES:Mass
END:VEVENT
BEGIN:VEVENT
DTSTART;TZID=America/Detroit:20260325T100000
DTEND;TZID=America/Detroit:20260325T210000
DTSTAMP:20260420T144939
CREATED:20231025T130420Z
LAST-MODIFIED:20260219T151646Z
UID:10006451-1774432800-1774472400@saintthomaszanesville.org
SUMMARY:Eucharistic Exposition of the Blessed Sacrement
DESCRIPTION:
URL:https://saintthomaszanesville.org/event/eucharistic-exposition-of-the-blessed-sacrement-2-2/2026-03-25/
LOCATION:St Thomas
CATEGORIES:Eucharist
END:VEVENT
BEGIN:VEVENT
DTSTART;TZID=America/Detroit:20260325T183000
DTEND;TZID=America/Detroit:20260325T200000
DTSTAMP:20260420T144939
CREATED:20250828T134504Z
LAST-MODIFIED:20250828T134534Z
UID:10009947-1774463400-1774468800@saintthomaszanesville.org
SUMMARY:OCIA
DESCRIPTION:Order of Christian Initiation of Adults \nAll Meetings begin at 6:30 p.m. and end roughly at 8 p.m.\nThey are held at the Saint Nicholas Parish Office\, 925 E. Main St.\nYour Contacts for more information:\nPatty Boggs – pboggs@stnickparish.org – 453-0597\nRobert Rodgers – rrodgers@saintthomaszanesville.org – 453- 3301 ext 125
URL:https://saintthomaszanesville.org/event/ocia/2026-03-25/
LOCATION:St Nicholas\, 925 E Main St\, zanesville\, OH\, 43701\, United States
END:VEVENT
BEGIN:VEVENT
DTSTART;TZID=America/Detroit:20260326T090000
DTEND;TZID=America/Detroit:20260326T094500
DTSTAMP:20260420T144939
CREATED:20231025T130315Z
LAST-MODIFIED:20260219T151402Z
UID:10005934-1774515600-1774518300@saintthomaszanesville.org
SUMMARY:Mass
DESCRIPTION:
URL:https://saintthomaszanesville.org/event/mass-5-3/2026-03-26/
LOCATION:St Thomas
CATEGORIES:Mass
END:VEVENT
END:VCALENDAR