BEGIN:VCALENDAR
VERSION:2.0
PRODID:-//Saint Thomas Acquinas Zanesville - ECPv6.15.20//NONSGML v1.0//EN
CALSCALE:GREGORIAN
METHOD:PUBLISH
X-ORIGINAL-URL:https://saintthomaszanesville.org
X-WR-CALDESC:Events for Saint Thomas Acquinas Zanesville
REFRESH-INTERVAL;VALUE=DURATION:PT1H
X-Robots-Tag:noindex
X-PUBLISHED-TTL:PT1H
BEGIN:VTIMEZONE
TZID:America/Detroit
BEGIN:DAYLIGHT
TZOFFSETFROM:-0500
TZOFFSETTO:-0400
TZNAME:EDT
DTSTART:20230312T070000
END:DAYLIGHT
BEGIN:STANDARD
TZOFFSETFROM:-0400
TZOFFSETTO:-0500
TZNAME:EST
DTSTART:20231105T060000
END:STANDARD
BEGIN:DAYLIGHT
TZOFFSETFROM:-0500
TZOFFSETTO:-0400
TZNAME:EDT
DTSTART:20240310T070000
END:DAYLIGHT
BEGIN:STANDARD
TZOFFSETFROM:-0400
TZOFFSETTO:-0500
TZNAME:EST
DTSTART:20241103T060000
END:STANDARD
BEGIN:DAYLIGHT
TZOFFSETFROM:-0500
TZOFFSETTO:-0400
TZNAME:EDT
DTSTART:20250309T070000
END:DAYLIGHT
BEGIN:STANDARD
TZOFFSETFROM:-0400
TZOFFSETTO:-0500
TZNAME:EST
DTSTART:20251102T060000
END:STANDARD
END:VTIMEZONE
BEGIN:VEVENT
DTSTART;TZID=America/Detroit:20241204T090000
DTEND;TZID=America/Detroit:20241204T094500
DTSTAMP:20260422T182815
CREATED:20230717T191330Z
LAST-MODIFIED:20251121T143234Z
UID:10005348-1733302800-1733305500@saintthomaszanesville.org
SUMMARY:Mass
DESCRIPTION:
URL:https://saintthomaszanesville.org/event/mass-3/2024-12-04/
LOCATION:St Thomas
CATEGORIES:Mass
END:VEVENT
BEGIN:VEVENT
DTSTART;TZID=America/Detroit:20241204T100000
DTEND;TZID=America/Detroit:20241204T210000
DTSTAMP:20260422T182815
CREATED:20231025T130420Z
LAST-MODIFIED:20260219T151646Z
UID:10006383-1733306400-1733346000@saintthomaszanesville.org
SUMMARY:Eucharistic Exposition of the Blessed Sacrement
DESCRIPTION:
URL:https://saintthomaszanesville.org/event/eucharistic-exposition-of-the-blessed-sacrement-2-2/2024-12-04/
LOCATION:St Thomas
CATEGORIES:Eucharist
END:VEVENT
BEGIN:VEVENT
DTSTART;TZID=America/Detroit:20241205T090000
DTEND;TZID=America/Detroit:20241205T094500
DTSTAMP:20260422T182815
CREATED:20231025T130315Z
LAST-MODIFIED:20260219T151402Z
UID:10005866-1733389200-1733391900@saintthomaszanesville.org
SUMMARY:Mass
DESCRIPTION:
URL:https://saintthomaszanesville.org/event/mass-5-3/2024-12-05/
LOCATION:St Thomas
CATEGORIES:Mass
END:VEVENT
BEGIN:VEVENT
DTSTART;TZID=America/Detroit:20241206T090000
DTEND;TZID=America/Detroit:20241206T094500
DTSTAMP:20260422T182815
CREATED:20231026T143024Z
LAST-MODIFIED:20260219T151539Z
UID:10006125-1733475600-1733478300@saintthomaszanesville.org
SUMMARY:Mass
DESCRIPTION:
URL:https://saintthomaszanesville.org/event/mass-6-2/2024-12-06/
LOCATION:St Thomas
CATEGORIES:Mass
END:VEVENT
BEGIN:VEVENT
DTSTART;TZID=America/Detroit:20241207T153000
DTEND;TZID=America/Detroit:20241207T161500
DTSTAMP:20260422T182815
CREATED:20230123T173105Z
LAST-MODIFIED:20260219T153419Z
UID:10003276-1733585400-1733588100@saintthomaszanesville.org
SUMMARY:Confessions
DESCRIPTION:
URL:https://saintthomaszanesville.org/event/confessions/2024-12-07/
LOCATION:St Thomas
CATEGORIES:Confessions
END:VEVENT
BEGIN:VEVENT
DTSTART;TZID=America/Detroit:20241207T163000
DTEND;TZID=America/Detroit:20241207T173000
DTSTAMP:20260422T182815
CREATED:20240626T171342Z
LAST-MODIFIED:20260219T153326Z
UID:10007939-1733589000-1733592600@saintthomaszanesville.org
SUMMARY:Mass
DESCRIPTION:
URL:https://saintthomaszanesville.org/event/mass/2024-12-07/
LOCATION:St Thomas
CATEGORIES:Mass
END:VEVENT
BEGIN:VEVENT
DTSTART;TZID=America/Detroit:20241208T074500
DTEND;TZID=America/Detroit:20241208T084500
DTSTAMP:20260422T182815
CREATED:20240626T174505Z
LAST-MODIFIED:20250917T124608Z
UID:10008743-1733643900-1733647500@saintthomaszanesville.org
SUMMARY:Mass
DESCRIPTION:
URL:https://saintthomaszanesville.org/event/mass-2-2/2024-12-08/
LOCATION:OH
CATEGORIES:Mass
END:VEVENT
BEGIN:VEVENT
DTSTART;TZID=America/Detroit:20241208T094500
DTEND;TZID=America/Detroit:20241208T223000
DTSTAMP:20260422T182815
CREATED:20231026T154327Z
LAST-MODIFIED:20240829T124728Z
UID:10006982-1733651100-1733697000@saintthomaszanesville.org
SUMMARY:Choir Rehearsal
DESCRIPTION:
URL:https://saintthomaszanesville.org/event/choir-rehersal-2/2024-12-08/
LOCATION:Activity Center
CATEGORIES:Choir
END:VEVENT
BEGIN:VEVENT
DTSTART;TZID=America/Detroit:20241208T110000
DTEND;TZID=America/Detroit:20241208T120000
DTSTAMP:20260422T182815
CREATED:20240626T174409Z
LAST-MODIFIED:20241205T172135Z
UID:10009008-1733655600-1733659200@saintthomaszanesville.org
SUMMARY:Mass
DESCRIPTION:
URL:https://saintthomaszanesville.org/event/mass-2/2024-12-08/
LOCATION:OH
CATEGORIES:Mass
END:VEVENT
BEGIN:VEVENT
DTSTART;TZID=America/Detroit:20241208T180000
DTEND;TZID=America/Detroit:20241208T203000
DTSTAMP:20260422T182815
CREATED:20240724T171039Z
LAST-MODIFIED:20240724T171039Z
UID:10009250-1733680800-1733689800@saintthomaszanesville.org
SUMMARY:Catalyst Nights
DESCRIPTION:
URL:https://saintthomaszanesville.org/event/catalyst-nights/2024-12-08/
LOCATION:Activity Center
CATEGORIES:CCD
END:VEVENT
BEGIN:VEVENT
DTSTART;TZID=America/Detroit:20241209T100000
DTEND;TZID=America/Detroit:20241209T110000
DTSTAMP:20260422T182815
CREATED:20231026T143541Z
LAST-MODIFIED:20241205T173639Z
UID:10007508-1733738400-1733742000@saintthomaszanesville.org
SUMMARY:Immaculate Conception Mass
DESCRIPTION:
URL:https://saintthomaszanesville.org/event/immaculate-conception-mass/
LOCATION:St Thomas
CATEGORIES:Mass
END:VEVENT
BEGIN:VEVENT
DTSTART;TZID=America/Detroit:20241209T180000
DTEND;TZID=America/Detroit:20241209T190000
DTSTAMP:20260422T182815
CREATED:20241121T162211Z
LAST-MODIFIED:20241121T162234Z
UID:10009629-1733767200-1733770800@saintthomaszanesville.org
SUMMARY:Immaculate Conception Evening Mass
DESCRIPTION:
URL:https://saintthomaszanesville.org/event/immaculate-conception-evening-mass/
LOCATION:St Thomas
CATEGORIES:Mass
END:VEVENT
BEGIN:VEVENT
DTSTART;TZID=America/Detroit:20241210T090000
DTEND;TZID=America/Detroit:20241210T094500
DTSTAMP:20260422T182815
CREATED:20230717T191610Z
LAST-MODIFIED:20260219T151222Z
UID:10005608-1733821200-1733823900@saintthomaszanesville.org
SUMMARY:Mass
DESCRIPTION:
URL:https://saintthomaszanesville.org/event/mass-4/2024-12-10/
LOCATION:St Thomas
CATEGORIES:Mass
END:VEVENT
BEGIN:VEVENT
DTSTART;TZID=America/Detroit:20241211T090000
DTEND;TZID=America/Detroit:20241211T094500
DTSTAMP:20260422T182815
CREATED:20230717T191330Z
LAST-MODIFIED:20251121T143234Z
UID:10005349-1733907600-1733910300@saintthomaszanesville.org
SUMMARY:Mass
DESCRIPTION:
URL:https://saintthomaszanesville.org/event/mass-3/2024-12-11/
LOCATION:St Thomas
CATEGORIES:Mass
END:VEVENT
BEGIN:VEVENT
DTSTART;TZID=America/Detroit:20241211T100000
DTEND;TZID=America/Detroit:20241211T210000
DTSTAMP:20260422T182815
CREATED:20231025T130420Z
LAST-MODIFIED:20260219T151646Z
UID:10006384-1733911200-1733950800@saintthomaszanesville.org
SUMMARY:Eucharistic Exposition of the Blessed Sacrement
DESCRIPTION:
URL:https://saintthomaszanesville.org/event/eucharistic-exposition-of-the-blessed-sacrement-2-2/2024-12-11/
LOCATION:St Thomas
CATEGORIES:Eucharist
END:VEVENT
BEGIN:VEVENT
DTSTART;TZID=America/Detroit:20241212T090000
DTEND;TZID=America/Detroit:20241212T094500
DTSTAMP:20260422T182815
CREATED:20231025T130315Z
LAST-MODIFIED:20260219T151402Z
UID:10005867-1733994000-1733996700@saintthomaszanesville.org
SUMMARY:Mass
DESCRIPTION:
URL:https://saintthomaszanesville.org/event/mass-5-3/2024-12-12/
LOCATION:St Thomas
CATEGORIES:Mass
END:VEVENT
BEGIN:VEVENT
DTSTART;TZID=America/Detroit:20241213T090000
DTEND;TZID=America/Detroit:20241213T094500
DTSTAMP:20260422T182815
CREATED:20231026T143024Z
LAST-MODIFIED:20260219T151539Z
UID:10006126-1734080400-1734083100@saintthomaszanesville.org
SUMMARY:Mass
DESCRIPTION:
URL:https://saintthomaszanesville.org/event/mass-6-2/2024-12-13/
LOCATION:St Thomas
CATEGORIES:Mass
END:VEVENT
BEGIN:VEVENT
DTSTART;TZID=America/Detroit:20241214T153000
DTEND;TZID=America/Detroit:20241214T161500
DTSTAMP:20260422T182815
CREATED:20230123T173105Z
LAST-MODIFIED:20260219T153419Z
UID:10003277-1734190200-1734192900@saintthomaszanesville.org
SUMMARY:Confessions
DESCRIPTION:
URL:https://saintthomaszanesville.org/event/confessions/2024-12-14/
LOCATION:St Thomas
CATEGORIES:Confessions
END:VEVENT
BEGIN:VEVENT
DTSTART;TZID=America/Detroit:20241214T163000
DTEND;TZID=America/Detroit:20241214T173000
DTSTAMP:20260422T182815
CREATED:20240626T171342Z
LAST-MODIFIED:20260219T153326Z
UID:10007940-1734193800-1734197400@saintthomaszanesville.org
SUMMARY:Mass
DESCRIPTION:
URL:https://saintthomaszanesville.org/event/mass/2024-12-14/
LOCATION:St Thomas
CATEGORIES:Mass
END:VEVENT
BEGIN:VEVENT
DTSTART;TZID=America/Detroit:20241215T074500
DTEND;TZID=America/Detroit:20241215T084500
DTSTAMP:20260422T182815
CREATED:20240626T174505Z
LAST-MODIFIED:20250917T124608Z
UID:10008744-1734248700-1734252300@saintthomaszanesville.org
SUMMARY:Mass
DESCRIPTION:
URL:https://saintthomaszanesville.org/event/mass-2-2/2024-12-15/
LOCATION:OH
CATEGORIES:Mass
END:VEVENT
BEGIN:VEVENT
DTSTART;TZID=America/Detroit:20241215T094500
DTEND;TZID=America/Detroit:20241215T223000
DTSTAMP:20260422T182815
CREATED:20231026T154327Z
LAST-MODIFIED:20240829T124728Z
UID:10006983-1734255900-1734301800@saintthomaszanesville.org
SUMMARY:Choir Rehearsal
DESCRIPTION:
URL:https://saintthomaszanesville.org/event/choir-rehersal-2/2024-12-15/
LOCATION:Activity Center
CATEGORIES:Choir
END:VEVENT
BEGIN:VEVENT
DTSTART;TZID=America/Detroit:20241215T110000
DTEND;TZID=America/Detroit:20241215T120000
DTSTAMP:20260422T182815
CREATED:20240626T174409Z
LAST-MODIFIED:20241205T172135Z
UID:10009009-1734260400-1734264000@saintthomaszanesville.org
SUMMARY:Mass
DESCRIPTION:
URL:https://saintthomaszanesville.org/event/mass-2/2024-12-15/
LOCATION:OH
CATEGORIES:Mass
END:VEVENT
BEGIN:VEVENT
DTSTART;TZID=America/Detroit:20241217T090000
DTEND;TZID=America/Detroit:20241217T094500
DTSTAMP:20260422T182815
CREATED:20230717T191610Z
LAST-MODIFIED:20260219T151222Z
UID:10005609-1734426000-1734428700@saintthomaszanesville.org
SUMMARY:Mass
DESCRIPTION:
URL:https://saintthomaszanesville.org/event/mass-4/2024-12-17/
LOCATION:St Thomas
CATEGORIES:Mass
END:VEVENT
BEGIN:VEVENT
DTSTART;TZID=America/Detroit:20241218T090000
DTEND;TZID=America/Detroit:20241218T094500
DTSTAMP:20260422T182815
CREATED:20230717T191330Z
LAST-MODIFIED:20251121T143234Z
UID:10005350-1734512400-1734515100@saintthomaszanesville.org
SUMMARY:Mass
DESCRIPTION:
URL:https://saintthomaszanesville.org/event/mass-3/2024-12-18/
LOCATION:St Thomas
CATEGORIES:Mass
END:VEVENT
BEGIN:VEVENT
DTSTART;TZID=America/Detroit:20241218T100000
DTEND;TZID=America/Detroit:20241218T210000
DTSTAMP:20260422T182815
CREATED:20231025T130420Z
LAST-MODIFIED:20260219T151646Z
UID:10006385-1734516000-1734555600@saintthomaszanesville.org
SUMMARY:Eucharistic Exposition of the Blessed Sacrement
DESCRIPTION:
URL:https://saintthomaszanesville.org/event/eucharistic-exposition-of-the-blessed-sacrement-2-2/2024-12-18/
LOCATION:St Thomas
CATEGORIES:Eucharist
END:VEVENT
BEGIN:VEVENT
DTSTART;TZID=America/Detroit:20241219T090000
DTEND;TZID=America/Detroit:20241219T094500
DTSTAMP:20260422T182815
CREATED:20231025T130315Z
LAST-MODIFIED:20260219T151402Z
UID:10005868-1734598800-1734601500@saintthomaszanesville.org
SUMMARY:Mass
DESCRIPTION:
URL:https://saintthomaszanesville.org/event/mass-5-3/2024-12-19/
LOCATION:St Thomas
CATEGORIES:Mass
END:VEVENT
BEGIN:VEVENT
DTSTART;TZID=America/Detroit:20241220T090000
DTEND;TZID=America/Detroit:20241220T094500
DTSTAMP:20260422T182815
CREATED:20231026T143024Z
LAST-MODIFIED:20260219T151539Z
UID:10006127-1734685200-1734687900@saintthomaszanesville.org
SUMMARY:Mass
DESCRIPTION:
URL:https://saintthomaszanesville.org/event/mass-6-2/2024-12-20/
LOCATION:St Thomas
CATEGORIES:Mass
END:VEVENT
BEGIN:VEVENT
DTSTART;TZID=America/Detroit:20241221T153000
DTEND;TZID=America/Detroit:20241221T161500
DTSTAMP:20260422T182815
CREATED:20230123T173105Z
LAST-MODIFIED:20260219T153419Z
UID:10003278-1734795000-1734797700@saintthomaszanesville.org
SUMMARY:Confessions
DESCRIPTION:
URL:https://saintthomaszanesville.org/event/confessions/2024-12-21/
LOCATION:St Thomas
CATEGORIES:Confessions
END:VEVENT
BEGIN:VEVENT
DTSTART;TZID=America/Detroit:20241221T163000
DTEND;TZID=America/Detroit:20241221T173000
DTSTAMP:20260422T182815
CREATED:20240626T171342Z
LAST-MODIFIED:20260219T153326Z
UID:10007941-1734798600-1734802200@saintthomaszanesville.org
SUMMARY:Mass
DESCRIPTION:
URL:https://saintthomaszanesville.org/event/mass/2024-12-21/
LOCATION:St Thomas
CATEGORIES:Mass
END:VEVENT
BEGIN:VEVENT
DTSTART;TZID=America/Detroit:20241222T074500
DTEND;TZID=America/Detroit:20241222T084500
DTSTAMP:20260422T182815
CREATED:20240626T174505Z
LAST-MODIFIED:20250917T124608Z
UID:10008745-1734853500-1734857100@saintthomaszanesville.org
SUMMARY:Mass
DESCRIPTION:
URL:https://saintthomaszanesville.org/event/mass-2-2/2024-12-22/
LOCATION:OH
CATEGORIES:Mass
END:VEVENT
END:VCALENDAR