BEGIN:VCALENDAR
VERSION:2.0
PRODID:-//Saint Thomas Acquinas Zanesville - ECPv6.15.20//NONSGML v1.0//EN
CALSCALE:GREGORIAN
METHOD:PUBLISH
X-WR-CALNAME:Saint Thomas Acquinas Zanesville
X-ORIGINAL-URL:https://saintthomaszanesville.org
X-WR-CALDESC:Events for Saint Thomas Acquinas Zanesville
REFRESH-INTERVAL;VALUE=DURATION:PT1H
X-Robots-Tag:noindex
X-PUBLISHED-TTL:PT1H
BEGIN:VTIMEZONE
TZID:America/Detroit
BEGIN:DAYLIGHT
TZOFFSETFROM:-0500
TZOFFSETTO:-0400
TZNAME:EDT
DTSTART:20260308T070000
END:DAYLIGHT
BEGIN:STANDARD
TZOFFSETFROM:-0400
TZOFFSETTO:-0500
TZNAME:EST
DTSTART:20261101T060000
END:STANDARD
BEGIN:DAYLIGHT
TZOFFSETFROM:-0500
TZOFFSETTO:-0400
TZNAME:EDT
DTSTART:20270314T070000
END:DAYLIGHT
BEGIN:STANDARD
TZOFFSETFROM:-0400
TZOFFSETTO:-0500
TZNAME:EST
DTSTART:20271107T060000
END:STANDARD
BEGIN:DAYLIGHT
TZOFFSETFROM:-0500
TZOFFSETTO:-0400
TZNAME:EDT
DTSTART:20280312T070000
END:DAYLIGHT
BEGIN:STANDARD
TZOFFSETFROM:-0400
TZOFFSETTO:-0500
TZNAME:EST
DTSTART:20281105T060000
END:STANDARD
END:VTIMEZONE
BEGIN:VEVENT
DTSTART;TZID=America/Detroit:20271212T074500
DTEND;TZID=America/Detroit:20271212T084500
DTSTAMP:20260422T180411
CREATED:20240626T174505Z
LAST-MODIFIED:20250917T124608Z
UID:10008900-1828597500-1828601100@saintthomaszanesville.org
SUMMARY:Mass
DESCRIPTION:
URL:https://saintthomaszanesville.org/event/mass-2-2/2027-12-12/
LOCATION:OH
CATEGORIES:Mass
END:VEVENT
BEGIN:VEVENT
DTSTART;TZID=America/Detroit:20271211T163000
DTEND;TZID=America/Detroit:20271211T173000
DTSTAMP:20260422T180411
CREATED:20240626T171342Z
LAST-MODIFIED:20260219T153326Z
UID:10008096-1828542600-1828546200@saintthomaszanesville.org
SUMMARY:Mass
DESCRIPTION:
URL:https://saintthomaszanesville.org/event/mass/2027-12-11/
LOCATION:St Thomas
CATEGORIES:Mass
END:VEVENT
BEGIN:VEVENT
DTSTART;TZID=America/Detroit:20271211T153000
DTEND;TZID=America/Detroit:20271211T161500
DTSTAMP:20260422T180411
CREATED:20230123T173105Z
LAST-MODIFIED:20260219T153419Z
UID:10003433-1828539000-1828541700@saintthomaszanesville.org
SUMMARY:Confessions
DESCRIPTION:
URL:https://saintthomaszanesville.org/event/confessions/2027-12-11/
LOCATION:St Thomas
CATEGORIES:Confessions
END:VEVENT
BEGIN:VEVENT
DTSTART;TZID=America/Detroit:20271210T090000
DTEND;TZID=America/Detroit:20271210T094500
DTSTAMP:20260422T180411
CREATED:20231026T143024Z
LAST-MODIFIED:20260219T151539Z
UID:10006282-1828429200-1828431900@saintthomaszanesville.org
SUMMARY:Mass
DESCRIPTION:
URL:https://saintthomaszanesville.org/event/mass-6-2/2027-12-10/
LOCATION:St Thomas
CATEGORIES:Mass
END:VEVENT
BEGIN:VEVENT
DTSTART;TZID=America/Detroit:20271209T090000
DTEND;TZID=America/Detroit:20271209T094500
DTSTAMP:20260422T180411
CREATED:20231025T130315Z
LAST-MODIFIED:20260219T151402Z
UID:10006023-1828342800-1828345500@saintthomaszanesville.org
SUMMARY:Mass
DESCRIPTION:
URL:https://saintthomaszanesville.org/event/mass-5-3/2027-12-09/
LOCATION:St Thomas
CATEGORIES:Mass
END:VEVENT
BEGIN:VEVENT
DTSTART;TZID=America/Detroit:20271208T100000
DTEND;TZID=America/Detroit:20271208T210000
DTSTAMP:20260422T180411
CREATED:20231025T130420Z
LAST-MODIFIED:20260219T151646Z
UID:10006540-1828260000-1828299600@saintthomaszanesville.org
SUMMARY:Eucharistic Exposition of the Blessed Sacrement
DESCRIPTION:
URL:https://saintthomaszanesville.org/event/eucharistic-exposition-of-the-blessed-sacrement-2-2/2027-12-08/
LOCATION:St Thomas
CATEGORIES:Eucharist
END:VEVENT
BEGIN:VEVENT
DTSTART;TZID=America/Detroit:20271208T090000
DTEND;TZID=America/Detroit:20271208T094500
DTSTAMP:20260422T180411
CREATED:20230717T191330Z
LAST-MODIFIED:20251121T143234Z
UID:10005505-1828256400-1828259100@saintthomaszanesville.org
SUMMARY:Mass
DESCRIPTION:
URL:https://saintthomaszanesville.org/event/mass-3/2027-12-08/
LOCATION:St Thomas
CATEGORIES:Mass
END:VEVENT
BEGIN:VEVENT
DTSTART;TZID=America/Detroit:20271207T090000
DTEND;TZID=America/Detroit:20271207T094500
DTSTAMP:20260422T180411
CREATED:20230717T191610Z
LAST-MODIFIED:20260219T151222Z
UID:10005764-1828170000-1828172700@saintthomaszanesville.org
SUMMARY:Mass
DESCRIPTION:
URL:https://saintthomaszanesville.org/event/mass-4/2027-12-07/
LOCATION:St Thomas
CATEGORIES:Mass
END:VEVENT
BEGIN:VEVENT
DTSTART;TZID=America/Detroit:20271205T110000
DTEND;TZID=America/Detroit:20271205T120000
DTSTAMP:20260422T180411
CREATED:20240626T174409Z
LAST-MODIFIED:20241205T172135Z
UID:10009164-1828004400-1828008000@saintthomaszanesville.org
SUMMARY:Mass
DESCRIPTION:
URL:https://saintthomaszanesville.org/event/mass-2/2027-12-05/
LOCATION:OH
CATEGORIES:Mass
END:VEVENT
BEGIN:VEVENT
DTSTART;TZID=America/Detroit:20271205T094500
DTEND;TZID=America/Detroit:20271205T223000
DTSTAMP:20260422T180411
CREATED:20231026T154327Z
LAST-MODIFIED:20240829T124728Z
UID:10007138-1827999900-1828045800@saintthomaszanesville.org
SUMMARY:Choir Rehearsal
DESCRIPTION:
URL:https://saintthomaszanesville.org/event/choir-rehersal-2/2027-12-05/
LOCATION:Activity Center
CATEGORIES:Choir
END:VEVENT
BEGIN:VEVENT
DTSTART;TZID=America/Detroit:20271205T074500
DTEND;TZID=America/Detroit:20271205T084500
DTSTAMP:20260422T180411
CREATED:20240626T174505Z
LAST-MODIFIED:20250917T124608Z
UID:10008899-1827992700-1827996300@saintthomaszanesville.org
SUMMARY:Mass
DESCRIPTION:
URL:https://saintthomaszanesville.org/event/mass-2-2/2027-12-05/
LOCATION:OH
CATEGORIES:Mass
END:VEVENT
BEGIN:VEVENT
DTSTART;TZID=America/Detroit:20271204T163000
DTEND;TZID=America/Detroit:20271204T173000
DTSTAMP:20260422T180411
CREATED:20240626T171342Z
LAST-MODIFIED:20260219T153326Z
UID:10008095-1827937800-1827941400@saintthomaszanesville.org
SUMMARY:Mass
DESCRIPTION:
URL:https://saintthomaszanesville.org/event/mass/2027-12-04/
LOCATION:St Thomas
CATEGORIES:Mass
END:VEVENT
BEGIN:VEVENT
DTSTART;TZID=America/Detroit:20271204T153000
DTEND;TZID=America/Detroit:20271204T161500
DTSTAMP:20260422T180411
CREATED:20230123T173105Z
LAST-MODIFIED:20260219T153419Z
UID:10003432-1827934200-1827936900@saintthomaszanesville.org
SUMMARY:Confessions
DESCRIPTION:
URL:https://saintthomaszanesville.org/event/confessions/2027-12-04/
LOCATION:St Thomas
CATEGORIES:Confessions
END:VEVENT
BEGIN:VEVENT
DTSTART;TZID=America/Detroit:20271203T090000
DTEND;TZID=America/Detroit:20271203T094500
DTSTAMP:20260422T180411
CREATED:20231026T143024Z
LAST-MODIFIED:20260219T151539Z
UID:10006281-1827824400-1827827100@saintthomaszanesville.org
SUMMARY:Mass
DESCRIPTION:
URL:https://saintthomaszanesville.org/event/mass-6-2/2027-12-03/
LOCATION:St Thomas
CATEGORIES:Mass
END:VEVENT
BEGIN:VEVENT
DTSTART;TZID=America/Detroit:20271202T090000
DTEND;TZID=America/Detroit:20271202T094500
DTSTAMP:20260422T180411
CREATED:20231025T130315Z
LAST-MODIFIED:20260219T151402Z
UID:10006022-1827738000-1827740700@saintthomaszanesville.org
SUMMARY:Mass
DESCRIPTION:
URL:https://saintthomaszanesville.org/event/mass-5-3/2027-12-02/
LOCATION:St Thomas
CATEGORIES:Mass
END:VEVENT
BEGIN:VEVENT
DTSTART;TZID=America/Detroit:20271201T100000
DTEND;TZID=America/Detroit:20271201T210000
DTSTAMP:20260422T180411
CREATED:20231025T130420Z
LAST-MODIFIED:20260219T151646Z
UID:10006539-1827655200-1827694800@saintthomaszanesville.org
SUMMARY:Eucharistic Exposition of the Blessed Sacrement
DESCRIPTION:
URL:https://saintthomaszanesville.org/event/eucharistic-exposition-of-the-blessed-sacrement-2-2/2027-12-01/
LOCATION:St Thomas
CATEGORIES:Eucharist
END:VEVENT
BEGIN:VEVENT
DTSTART;TZID=America/Detroit:20271201T090000
DTEND;TZID=America/Detroit:20271201T094500
DTSTAMP:20260422T180411
CREATED:20230717T191330Z
LAST-MODIFIED:20251121T143234Z
UID:10005504-1827651600-1827654300@saintthomaszanesville.org
SUMMARY:Mass
DESCRIPTION:
URL:https://saintthomaszanesville.org/event/mass-3/2027-12-01/
LOCATION:St Thomas
CATEGORIES:Mass
END:VEVENT
BEGIN:VEVENT
DTSTART;TZID=America/Detroit:20271130T090000
DTEND;TZID=America/Detroit:20271130T094500
DTSTAMP:20260422T180411
CREATED:20230717T191610Z
LAST-MODIFIED:20260219T151222Z
UID:10005763-1827565200-1827567900@saintthomaszanesville.org
SUMMARY:Mass
DESCRIPTION:
URL:https://saintthomaszanesville.org/event/mass-4/2027-11-30/
LOCATION:St Thomas
CATEGORIES:Mass
END:VEVENT
BEGIN:VEVENT
DTSTART;TZID=America/Detroit:20271128T110000
DTEND;TZID=America/Detroit:20271128T120000
DTSTAMP:20260422T180411
CREATED:20240626T174409Z
LAST-MODIFIED:20241205T172135Z
UID:10009163-1827399600-1827403200@saintthomaszanesville.org
SUMMARY:Mass
DESCRIPTION:
URL:https://saintthomaszanesville.org/event/mass-2/2027-11-28/
LOCATION:OH
CATEGORIES:Mass
END:VEVENT
BEGIN:VEVENT
DTSTART;TZID=America/Detroit:20271128T094500
DTEND;TZID=America/Detroit:20271128T223000
DTSTAMP:20260422T180411
CREATED:20231026T154327Z
LAST-MODIFIED:20240829T124728Z
UID:10007137-1827395100-1827441000@saintthomaszanesville.org
SUMMARY:Choir Rehearsal
DESCRIPTION:
URL:https://saintthomaszanesville.org/event/choir-rehersal-2/2027-11-28/
LOCATION:Activity Center
CATEGORIES:Choir
END:VEVENT
BEGIN:VEVENT
DTSTART;TZID=America/Detroit:20271128T074500
DTEND;TZID=America/Detroit:20271128T084500
DTSTAMP:20260422T180411
CREATED:20240626T174505Z
LAST-MODIFIED:20250917T124608Z
UID:10008898-1827387900-1827391500@saintthomaszanesville.org
SUMMARY:Mass
DESCRIPTION:
URL:https://saintthomaszanesville.org/event/mass-2-2/2027-11-28/
LOCATION:OH
CATEGORIES:Mass
END:VEVENT
BEGIN:VEVENT
DTSTART;TZID=America/Detroit:20271127T163000
DTEND;TZID=America/Detroit:20271127T173000
DTSTAMP:20260422T180411
CREATED:20240626T171342Z
LAST-MODIFIED:20260219T153326Z
UID:10008094-1827333000-1827336600@saintthomaszanesville.org
SUMMARY:Mass
DESCRIPTION:
URL:https://saintthomaszanesville.org/event/mass/2027-11-27/
LOCATION:St Thomas
CATEGORIES:Mass
END:VEVENT
BEGIN:VEVENT
DTSTART;TZID=America/Detroit:20271127T153000
DTEND;TZID=America/Detroit:20271127T161500
DTSTAMP:20260422T180411
CREATED:20230123T173105Z
LAST-MODIFIED:20260219T153419Z
UID:10003431-1827329400-1827332100@saintthomaszanesville.org
SUMMARY:Confessions
DESCRIPTION:
URL:https://saintthomaszanesville.org/event/confessions/2027-11-27/
LOCATION:St Thomas
CATEGORIES:Confessions
END:VEVENT
BEGIN:VEVENT
DTSTART;TZID=America/Detroit:20271126T090000
DTEND;TZID=America/Detroit:20271126T094500
DTSTAMP:20260422T180411
CREATED:20231026T143024Z
LAST-MODIFIED:20260219T151539Z
UID:10006280-1827219600-1827222300@saintthomaszanesville.org
SUMMARY:Mass
DESCRIPTION:
URL:https://saintthomaszanesville.org/event/mass-6-2/2027-11-26/
LOCATION:St Thomas
CATEGORIES:Mass
END:VEVENT
BEGIN:VEVENT
DTSTART;TZID=America/Detroit:20271125T090000
DTEND;TZID=America/Detroit:20271125T094500
DTSTAMP:20260422T180411
CREATED:20231025T130315Z
LAST-MODIFIED:20260219T151402Z
UID:10006021-1827133200-1827135900@saintthomaszanesville.org
SUMMARY:Mass
DESCRIPTION:
URL:https://saintthomaszanesville.org/event/mass-5-3/2027-11-25/
LOCATION:St Thomas
CATEGORIES:Mass
END:VEVENT
BEGIN:VEVENT
DTSTART;TZID=America/Detroit:20271124T100000
DTEND;TZID=America/Detroit:20271124T210000
DTSTAMP:20260422T180411
CREATED:20231025T130420Z
LAST-MODIFIED:20260219T151646Z
UID:10006538-1827050400-1827090000@saintthomaszanesville.org
SUMMARY:Eucharistic Exposition of the Blessed Sacrement
DESCRIPTION:
URL:https://saintthomaszanesville.org/event/eucharistic-exposition-of-the-blessed-sacrement-2-2/2027-11-24/
LOCATION:St Thomas
CATEGORIES:Eucharist
END:VEVENT
BEGIN:VEVENT
DTSTART;TZID=America/Detroit:20271124T090000
DTEND;TZID=America/Detroit:20271124T094500
DTSTAMP:20260422T180411
CREATED:20230717T191330Z
LAST-MODIFIED:20251121T143234Z
UID:10005503-1827046800-1827049500@saintthomaszanesville.org
SUMMARY:Mass
DESCRIPTION:
URL:https://saintthomaszanesville.org/event/mass-3/2027-11-24/
LOCATION:St Thomas
CATEGORIES:Mass
END:VEVENT
BEGIN:VEVENT
DTSTART;TZID=America/Detroit:20271123T090000
DTEND;TZID=America/Detroit:20271123T094500
DTSTAMP:20260422T180411
CREATED:20230717T191610Z
LAST-MODIFIED:20260219T151222Z
UID:10005762-1826960400-1826963100@saintthomaszanesville.org
SUMMARY:Mass
DESCRIPTION:
URL:https://saintthomaszanesville.org/event/mass-4/2027-11-23/
LOCATION:St Thomas
CATEGORIES:Mass
END:VEVENT
BEGIN:VEVENT
DTSTART;TZID=America/Detroit:20271121T110000
DTEND;TZID=America/Detroit:20271121T120000
DTSTAMP:20260422T180411
CREATED:20240626T174409Z
LAST-MODIFIED:20241205T172135Z
UID:10009162-1826794800-1826798400@saintthomaszanesville.org
SUMMARY:Mass
DESCRIPTION:
URL:https://saintthomaszanesville.org/event/mass-2/2027-11-21/
LOCATION:OH
CATEGORIES:Mass
END:VEVENT
BEGIN:VEVENT
DTSTART;TZID=America/Detroit:20271121T094500
DTEND;TZID=America/Detroit:20271121T223000
DTSTAMP:20260422T180411
CREATED:20231026T154327Z
LAST-MODIFIED:20240829T124728Z
UID:10007136-1826790300-1826836200@saintthomaszanesville.org
SUMMARY:Choir Rehearsal
DESCRIPTION:
URL:https://saintthomaszanesville.org/event/choir-rehersal-2/2027-11-21/
LOCATION:Activity Center
CATEGORIES:Choir
END:VEVENT
END:VCALENDAR