BEGIN:VCALENDAR
VERSION:2.0
PRODID:-//Saint Thomas Acquinas Zanesville - ECPv6.15.20//NONSGML v1.0//EN
CALSCALE:GREGORIAN
METHOD:PUBLISH
X-WR-CALNAME:Saint Thomas Acquinas Zanesville
X-ORIGINAL-URL:https://saintthomaszanesville.org
X-WR-CALDESC:Events for Saint Thomas Acquinas Zanesville
REFRESH-INTERVAL;VALUE=DURATION:PT1H
X-Robots-Tag:noindex
X-PUBLISHED-TTL:PT1H
BEGIN:VTIMEZONE
TZID:America/Detroit
BEGIN:DAYLIGHT
TZOFFSETFROM:-0500
TZOFFSETTO:-0400
TZNAME:EDT
DTSTART:20260308T070000
END:DAYLIGHT
BEGIN:STANDARD
TZOFFSETFROM:-0400
TZOFFSETTO:-0500
TZNAME:EST
DTSTART:20261101T060000
END:STANDARD
BEGIN:DAYLIGHT
TZOFFSETFROM:-0500
TZOFFSETTO:-0400
TZNAME:EDT
DTSTART:20270314T070000
END:DAYLIGHT
BEGIN:STANDARD
TZOFFSETFROM:-0400
TZOFFSETTO:-0500
TZNAME:EST
DTSTART:20271107T060000
END:STANDARD
BEGIN:DAYLIGHT
TZOFFSETFROM:-0500
TZOFFSETTO:-0400
TZNAME:EDT
DTSTART:20280312T070000
END:DAYLIGHT
BEGIN:STANDARD
TZOFFSETFROM:-0400
TZOFFSETTO:-0500
TZNAME:EST
DTSTART:20281105T060000
END:STANDARD
END:VTIMEZONE
BEGIN:VEVENT
DTSTART;TZID=America/Detroit:20271003T074500
DTEND;TZID=America/Detroit:20271003T084500
DTSTAMP:20260422T180403
CREATED:20240626T174505Z
LAST-MODIFIED:20250917T124608Z
UID:10008890-1822549500-1822553100@saintthomaszanesville.org
SUMMARY:Mass
DESCRIPTION:
URL:https://saintthomaszanesville.org/event/mass-2-2/2027-10-03/
LOCATION:OH
CATEGORIES:Mass
END:VEVENT
BEGIN:VEVENT
DTSTART;TZID=America/Detroit:20271002T163000
DTEND;TZID=America/Detroit:20271002T173000
DTSTAMP:20260422T180403
CREATED:20240626T171342Z
LAST-MODIFIED:20260219T153326Z
UID:10008086-1822494600-1822498200@saintthomaszanesville.org
SUMMARY:Mass
DESCRIPTION:
URL:https://saintthomaszanesville.org/event/mass/2027-10-02/
LOCATION:St Thomas
CATEGORIES:Mass
END:VEVENT
BEGIN:VEVENT
DTSTART;TZID=America/Detroit:20271002T153000
DTEND;TZID=America/Detroit:20271002T161500
DTSTAMP:20260422T180403
CREATED:20230123T173105Z
LAST-MODIFIED:20260219T153419Z
UID:10003423-1822491000-1822493700@saintthomaszanesville.org
SUMMARY:Confessions
DESCRIPTION:
URL:https://saintthomaszanesville.org/event/confessions/2027-10-02/
LOCATION:St Thomas
CATEGORIES:Confessions
END:VEVENT
BEGIN:VEVENT
DTSTART;TZID=America/Detroit:20271001T090000
DTEND;TZID=America/Detroit:20271001T094500
DTSTAMP:20260422T180403
CREATED:20231026T143024Z
LAST-MODIFIED:20260219T151539Z
UID:10006272-1822381200-1822383900@saintthomaszanesville.org
SUMMARY:Mass
DESCRIPTION:
URL:https://saintthomaszanesville.org/event/mass-6-2/2027-10-01/
LOCATION:St Thomas
CATEGORIES:Mass
END:VEVENT
BEGIN:VEVENT
DTSTART;TZID=America/Detroit:20270930T090000
DTEND;TZID=America/Detroit:20270930T094500
DTSTAMP:20260422T180403
CREATED:20231025T130315Z
LAST-MODIFIED:20260219T151402Z
UID:10006013-1822294800-1822297500@saintthomaszanesville.org
SUMMARY:Mass
DESCRIPTION:
URL:https://saintthomaszanesville.org/event/mass-5-3/2027-09-30/
LOCATION:St Thomas
CATEGORIES:Mass
END:VEVENT
BEGIN:VEVENT
DTSTART;TZID=America/Detroit:20270929T100000
DTEND;TZID=America/Detroit:20270929T210000
DTSTAMP:20260422T180403
CREATED:20231025T130420Z
LAST-MODIFIED:20260219T151646Z
UID:10006530-1822212000-1822251600@saintthomaszanesville.org
SUMMARY:Eucharistic Exposition of the Blessed Sacrement
DESCRIPTION:
URL:https://saintthomaszanesville.org/event/eucharistic-exposition-of-the-blessed-sacrement-2-2/2027-09-29/
LOCATION:St Thomas
CATEGORIES:Eucharist
END:VEVENT
BEGIN:VEVENT
DTSTART;TZID=America/Detroit:20270929T090000
DTEND;TZID=America/Detroit:20270929T094500
DTSTAMP:20260422T180403
CREATED:20230717T191330Z
LAST-MODIFIED:20251121T143234Z
UID:10005495-1822208400-1822211100@saintthomaszanesville.org
SUMMARY:Mass
DESCRIPTION:
URL:https://saintthomaszanesville.org/event/mass-3/2027-09-29/
LOCATION:St Thomas
CATEGORIES:Mass
END:VEVENT
BEGIN:VEVENT
DTSTART;TZID=America/Detroit:20270928T090000
DTEND;TZID=America/Detroit:20270928T094500
DTSTAMP:20260422T180403
CREATED:20230717T191610Z
LAST-MODIFIED:20260219T151222Z
UID:10005754-1822122000-1822124700@saintthomaszanesville.org
SUMMARY:Mass
DESCRIPTION:
URL:https://saintthomaszanesville.org/event/mass-4/2027-09-28/
LOCATION:St Thomas
CATEGORIES:Mass
END:VEVENT
BEGIN:VEVENT
DTSTART;TZID=America/Detroit:20270926T110000
DTEND;TZID=America/Detroit:20270926T120000
DTSTAMP:20260422T180403
CREATED:20240626T174409Z
LAST-MODIFIED:20241205T172135Z
UID:10009154-1821956400-1821960000@saintthomaszanesville.org
SUMMARY:Mass
DESCRIPTION:
URL:https://saintthomaszanesville.org/event/mass-2/2027-09-26/
LOCATION:OH
CATEGORIES:Mass
END:VEVENT
BEGIN:VEVENT
DTSTART;TZID=America/Detroit:20270926T094500
DTEND;TZID=America/Detroit:20270926T223000
DTSTAMP:20260422T180403
CREATED:20231026T154327Z
LAST-MODIFIED:20240829T124728Z
UID:10007128-1821951900-1821997800@saintthomaszanesville.org
SUMMARY:Choir Rehearsal
DESCRIPTION:
URL:https://saintthomaszanesville.org/event/choir-rehersal-2/2027-09-26/
LOCATION:Activity Center
CATEGORIES:Choir
END:VEVENT
BEGIN:VEVENT
DTSTART;TZID=America/Detroit:20270926T074500
DTEND;TZID=America/Detroit:20270926T084500
DTSTAMP:20260422T180403
CREATED:20240626T174505Z
LAST-MODIFIED:20250917T124608Z
UID:10008889-1821944700-1821948300@saintthomaszanesville.org
SUMMARY:Mass
DESCRIPTION:
URL:https://saintthomaszanesville.org/event/mass-2-2/2027-09-26/
LOCATION:OH
CATEGORIES:Mass
END:VEVENT
BEGIN:VEVENT
DTSTART;TZID=America/Detroit:20270925T163000
DTEND;TZID=America/Detroit:20270925T173000
DTSTAMP:20260422T180403
CREATED:20240626T171342Z
LAST-MODIFIED:20260219T153326Z
UID:10008085-1821889800-1821893400@saintthomaszanesville.org
SUMMARY:Mass
DESCRIPTION:
URL:https://saintthomaszanesville.org/event/mass/2027-09-25/
LOCATION:St Thomas
CATEGORIES:Mass
END:VEVENT
BEGIN:VEVENT
DTSTART;TZID=America/Detroit:20270925T153000
DTEND;TZID=America/Detroit:20270925T161500
DTSTAMP:20260422T180403
CREATED:20230123T173105Z
LAST-MODIFIED:20260219T153419Z
UID:10003422-1821886200-1821888900@saintthomaszanesville.org
SUMMARY:Confessions
DESCRIPTION:
URL:https://saintthomaszanesville.org/event/confessions/2027-09-25/
LOCATION:St Thomas
CATEGORIES:Confessions
END:VEVENT
BEGIN:VEVENT
DTSTART;TZID=America/Detroit:20270924T090000
DTEND;TZID=America/Detroit:20270924T094500
DTSTAMP:20260422T180403
CREATED:20231026T143024Z
LAST-MODIFIED:20260219T151539Z
UID:10006271-1821776400-1821779100@saintthomaszanesville.org
SUMMARY:Mass
DESCRIPTION:
URL:https://saintthomaszanesville.org/event/mass-6-2/2027-09-24/
LOCATION:St Thomas
CATEGORIES:Mass
END:VEVENT
BEGIN:VEVENT
DTSTART;TZID=America/Detroit:20270923T090000
DTEND;TZID=America/Detroit:20270923T094500
DTSTAMP:20260422T180403
CREATED:20231025T130315Z
LAST-MODIFIED:20260219T151402Z
UID:10006012-1821690000-1821692700@saintthomaszanesville.org
SUMMARY:Mass
DESCRIPTION:
URL:https://saintthomaszanesville.org/event/mass-5-3/2027-09-23/
LOCATION:St Thomas
CATEGORIES:Mass
END:VEVENT
BEGIN:VEVENT
DTSTART;TZID=America/Detroit:20270922T100000
DTEND;TZID=America/Detroit:20270922T210000
DTSTAMP:20260422T180403
CREATED:20231025T130420Z
LAST-MODIFIED:20260219T151646Z
UID:10006529-1821607200-1821646800@saintthomaszanesville.org
SUMMARY:Eucharistic Exposition of the Blessed Sacrement
DESCRIPTION:
URL:https://saintthomaszanesville.org/event/eucharistic-exposition-of-the-blessed-sacrement-2-2/2027-09-22/
LOCATION:St Thomas
CATEGORIES:Eucharist
END:VEVENT
BEGIN:VEVENT
DTSTART;TZID=America/Detroit:20270922T090000
DTEND;TZID=America/Detroit:20270922T094500
DTSTAMP:20260422T180403
CREATED:20230717T191330Z
LAST-MODIFIED:20251121T143234Z
UID:10005494-1821603600-1821606300@saintthomaszanesville.org
SUMMARY:Mass
DESCRIPTION:
URL:https://saintthomaszanesville.org/event/mass-3/2027-09-22/
LOCATION:St Thomas
CATEGORIES:Mass
END:VEVENT
BEGIN:VEVENT
DTSTART;TZID=America/Detroit:20270921T090000
DTEND;TZID=America/Detroit:20270921T094500
DTSTAMP:20260422T180403
CREATED:20230717T191610Z
LAST-MODIFIED:20260219T151222Z
UID:10005753-1821517200-1821519900@saintthomaszanesville.org
SUMMARY:Mass
DESCRIPTION:
URL:https://saintthomaszanesville.org/event/mass-4/2027-09-21/
LOCATION:St Thomas
CATEGORIES:Mass
END:VEVENT
BEGIN:VEVENT
DTSTART;TZID=America/Detroit:20270919T110000
DTEND;TZID=America/Detroit:20270919T120000
DTSTAMP:20260422T180403
CREATED:20240626T174409Z
LAST-MODIFIED:20241205T172135Z
UID:10009153-1821351600-1821355200@saintthomaszanesville.org
SUMMARY:Mass
DESCRIPTION:
URL:https://saintthomaszanesville.org/event/mass-2/2027-09-19/
LOCATION:OH
CATEGORIES:Mass
END:VEVENT
BEGIN:VEVENT
DTSTART;TZID=America/Detroit:20270919T094500
DTEND;TZID=America/Detroit:20270919T223000
DTSTAMP:20260422T180403
CREATED:20231026T154327Z
LAST-MODIFIED:20240829T124728Z
UID:10007127-1821347100-1821393000@saintthomaszanesville.org
SUMMARY:Choir Rehearsal
DESCRIPTION:
URL:https://saintthomaszanesville.org/event/choir-rehersal-2/2027-09-19/
LOCATION:Activity Center
CATEGORIES:Choir
END:VEVENT
BEGIN:VEVENT
DTSTART;TZID=America/Detroit:20270919T074500
DTEND;TZID=America/Detroit:20270919T084500
DTSTAMP:20260422T180403
CREATED:20240626T174505Z
LAST-MODIFIED:20250917T124608Z
UID:10008888-1821339900-1821343500@saintthomaszanesville.org
SUMMARY:Mass
DESCRIPTION:
URL:https://saintthomaszanesville.org/event/mass-2-2/2027-09-19/
LOCATION:OH
CATEGORIES:Mass
END:VEVENT
BEGIN:VEVENT
DTSTART;TZID=America/Detroit:20270918T163000
DTEND;TZID=America/Detroit:20270918T173000
DTSTAMP:20260422T180403
CREATED:20240626T171342Z
LAST-MODIFIED:20260219T153326Z
UID:10008084-1821285000-1821288600@saintthomaszanesville.org
SUMMARY:Mass
DESCRIPTION:
URL:https://saintthomaszanesville.org/event/mass/2027-09-18/
LOCATION:St Thomas
CATEGORIES:Mass
END:VEVENT
BEGIN:VEVENT
DTSTART;TZID=America/Detroit:20270918T153000
DTEND;TZID=America/Detroit:20270918T161500
DTSTAMP:20260422T180403
CREATED:20230123T173105Z
LAST-MODIFIED:20260219T153419Z
UID:10003421-1821281400-1821284100@saintthomaszanesville.org
SUMMARY:Confessions
DESCRIPTION:
URL:https://saintthomaszanesville.org/event/confessions/2027-09-18/
LOCATION:St Thomas
CATEGORIES:Confessions
END:VEVENT
BEGIN:VEVENT
DTSTART;TZID=America/Detroit:20270917T090000
DTEND;TZID=America/Detroit:20270917T094500
DTSTAMP:20260422T180403
CREATED:20231026T143024Z
LAST-MODIFIED:20260219T151539Z
UID:10006270-1821171600-1821174300@saintthomaszanesville.org
SUMMARY:Mass
DESCRIPTION:
URL:https://saintthomaszanesville.org/event/mass-6-2/2027-09-17/
LOCATION:St Thomas
CATEGORIES:Mass
END:VEVENT
BEGIN:VEVENT
DTSTART;TZID=America/Detroit:20270916T090000
DTEND;TZID=America/Detroit:20270916T094500
DTSTAMP:20260422T180403
CREATED:20231025T130315Z
LAST-MODIFIED:20260219T151402Z
UID:10006011-1821085200-1821087900@saintthomaszanesville.org
SUMMARY:Mass
DESCRIPTION:
URL:https://saintthomaszanesville.org/event/mass-5-3/2027-09-16/
LOCATION:St Thomas
CATEGORIES:Mass
END:VEVENT
BEGIN:VEVENT
DTSTART;TZID=America/Detroit:20270915T100000
DTEND;TZID=America/Detroit:20270915T210000
DTSTAMP:20260422T180403
CREATED:20231025T130420Z
LAST-MODIFIED:20260219T151646Z
UID:10006528-1821002400-1821042000@saintthomaszanesville.org
SUMMARY:Eucharistic Exposition of the Blessed Sacrement
DESCRIPTION:
URL:https://saintthomaszanesville.org/event/eucharistic-exposition-of-the-blessed-sacrement-2-2/2027-09-15/
LOCATION:St Thomas
CATEGORIES:Eucharist
END:VEVENT
BEGIN:VEVENT
DTSTART;TZID=America/Detroit:20270915T090000
DTEND;TZID=America/Detroit:20270915T094500
DTSTAMP:20260422T180403
CREATED:20230717T191330Z
LAST-MODIFIED:20251121T143234Z
UID:10005493-1820998800-1821001500@saintthomaszanesville.org
SUMMARY:Mass
DESCRIPTION:
URL:https://saintthomaszanesville.org/event/mass-3/2027-09-15/
LOCATION:St Thomas
CATEGORIES:Mass
END:VEVENT
BEGIN:VEVENT
DTSTART;TZID=America/Detroit:20270914T090000
DTEND;TZID=America/Detroit:20270914T094500
DTSTAMP:20260422T180403
CREATED:20230717T191610Z
LAST-MODIFIED:20260219T151222Z
UID:10005752-1820912400-1820915100@saintthomaszanesville.org
SUMMARY:Mass
DESCRIPTION:
URL:https://saintthomaszanesville.org/event/mass-4/2027-09-14/
LOCATION:St Thomas
CATEGORIES:Mass
END:VEVENT
BEGIN:VEVENT
DTSTART;TZID=America/Detroit:20270912T110000
DTEND;TZID=America/Detroit:20270912T120000
DTSTAMP:20260422T180403
CREATED:20240626T174409Z
LAST-MODIFIED:20241205T172135Z
UID:10009152-1820746800-1820750400@saintthomaszanesville.org
SUMMARY:Mass
DESCRIPTION:
URL:https://saintthomaszanesville.org/event/mass-2/2027-09-12/
LOCATION:OH
CATEGORIES:Mass
END:VEVENT
BEGIN:VEVENT
DTSTART;TZID=America/Detroit:20270912T094500
DTEND;TZID=America/Detroit:20270912T223000
DTSTAMP:20260422T180403
CREATED:20231026T154327Z
LAST-MODIFIED:20240829T124728Z
UID:10007126-1820742300-1820788200@saintthomaszanesville.org
SUMMARY:Choir Rehearsal
DESCRIPTION:
URL:https://saintthomaszanesville.org/event/choir-rehersal-2/2027-09-12/
LOCATION:Activity Center
CATEGORIES:Choir
END:VEVENT
END:VCALENDAR