BEGIN:VCALENDAR
VERSION:2.0
PRODID:-//Saint Thomas Acquinas Zanesville - ECPv6.15.20//NONSGML v1.0//EN
CALSCALE:GREGORIAN
METHOD:PUBLISH
X-ORIGINAL-URL:https://saintthomaszanesville.org
X-WR-CALDESC:Events for Saint Thomas Acquinas Zanesville
REFRESH-INTERVAL;VALUE=DURATION:PT1H
X-Robots-Tag:noindex
X-PUBLISHED-TTL:PT1H
BEGIN:VTIMEZONE
TZID:America/Detroit
BEGIN:DAYLIGHT
TZOFFSETFROM:-0500
TZOFFSETTO:-0400
TZNAME:EDT
DTSTART:20240310T070000
END:DAYLIGHT
BEGIN:STANDARD
TZOFFSETFROM:-0400
TZOFFSETTO:-0500
TZNAME:EST
DTSTART:20241103T060000
END:STANDARD
BEGIN:DAYLIGHT
TZOFFSETFROM:-0500
TZOFFSETTO:-0400
TZNAME:EDT
DTSTART:20250309T070000
END:DAYLIGHT
BEGIN:STANDARD
TZOFFSETFROM:-0400
TZOFFSETTO:-0500
TZNAME:EST
DTSTART:20251102T060000
END:STANDARD
BEGIN:DAYLIGHT
TZOFFSETFROM:-0500
TZOFFSETTO:-0400
TZNAME:EDT
DTSTART:20260308T070000
END:DAYLIGHT
BEGIN:STANDARD
TZOFFSETFROM:-0400
TZOFFSETTO:-0500
TZNAME:EST
DTSTART:20261101T060000
END:STANDARD
END:VTIMEZONE
BEGIN:VEVENT
DTSTART;TZID=America/Detroit:20250717T090000
DTEND;TZID=America/Detroit:20250717T094500
DTSTAMP:20260421T114411
CREATED:20231025T130315Z
LAST-MODIFIED:20260219T151402Z
UID:10005898-1752742800-1752745500@saintthomaszanesville.org
SUMMARY:Mass
DESCRIPTION:
URL:https://saintthomaszanesville.org/event/mass-5-3/2025-07-17/
LOCATION:St Thomas
CATEGORIES:Mass
END:VEVENT
BEGIN:VEVENT
DTSTART;TZID=America/Detroit:20250718T090000
DTEND;TZID=America/Detroit:20250718T094500
DTSTAMP:20260421T114411
CREATED:20231026T143024Z
LAST-MODIFIED:20260219T151539Z
UID:10006157-1752829200-1752831900@saintthomaszanesville.org
SUMMARY:Mass
DESCRIPTION:
URL:https://saintthomaszanesville.org/event/mass-6-2/2025-07-18/
LOCATION:St Thomas
CATEGORIES:Mass
END:VEVENT
BEGIN:VEVENT
DTSTART;TZID=America/Detroit:20250719T153000
DTEND;TZID=America/Detroit:20250719T161500
DTSTAMP:20260421T114411
CREATED:20230123T173105Z
LAST-MODIFIED:20260219T153419Z
UID:10003308-1752939000-1752941700@saintthomaszanesville.org
SUMMARY:Confessions
DESCRIPTION:
URL:https://saintthomaszanesville.org/event/confessions/2025-07-19/
LOCATION:St Thomas
CATEGORIES:Confessions
END:VEVENT
BEGIN:VEVENT
DTSTART;TZID=America/Detroit:20250719T163000
DTEND;TZID=America/Detroit:20250719T173000
DTSTAMP:20260421T114411
CREATED:20240626T171342Z
LAST-MODIFIED:20260219T153326Z
UID:10007971-1752942600-1752946200@saintthomaszanesville.org
SUMMARY:Mass
DESCRIPTION:
URL:https://saintthomaszanesville.org/event/mass/2025-07-19/
LOCATION:St Thomas
CATEGORIES:Mass
END:VEVENT
BEGIN:VEVENT
DTSTART;TZID=America/Detroit:20250720T074500
DTEND;TZID=America/Detroit:20250720T084500
DTSTAMP:20260421T114411
CREATED:20240626T174505Z
LAST-MODIFIED:20250917T124608Z
UID:10008775-1752997500-1753001100@saintthomaszanesville.org
SUMMARY:Mass
DESCRIPTION:
URL:https://saintthomaszanesville.org/event/mass-2-2/2025-07-20/
LOCATION:OH
CATEGORIES:Mass
END:VEVENT
BEGIN:VEVENT
DTSTART;TZID=America/Detroit:20250720T094500
DTEND;TZID=America/Detroit:20250720T223000
DTSTAMP:20260421T114411
CREATED:20231026T154327Z
LAST-MODIFIED:20240829T124728Z
UID:10007014-1753004700-1753050600@saintthomaszanesville.org
SUMMARY:Choir Rehearsal
DESCRIPTION:
URL:https://saintthomaszanesville.org/event/choir-rehersal-2/2025-07-20/
LOCATION:Activity Center
CATEGORIES:Choir
END:VEVENT
BEGIN:VEVENT
DTSTART;TZID=America/Detroit:20250720T110000
DTEND;TZID=America/Detroit:20250720T120000
DTSTAMP:20260421T114411
CREATED:20240626T174409Z
LAST-MODIFIED:20241205T172135Z
UID:10009040-1753009200-1753012800@saintthomaszanesville.org
SUMMARY:Mass
DESCRIPTION:
URL:https://saintthomaszanesville.org/event/mass-2/2025-07-20/
LOCATION:OH
CATEGORIES:Mass
END:VEVENT
BEGIN:VEVENT
DTSTART;TZID=America/Detroit:20250722T090000
DTEND;TZID=America/Detroit:20250722T094500
DTSTAMP:20260421T114411
CREATED:20230717T191610Z
LAST-MODIFIED:20260219T151222Z
UID:10005640-1753174800-1753177500@saintthomaszanesville.org
SUMMARY:Mass
DESCRIPTION:
URL:https://saintthomaszanesville.org/event/mass-4/2025-07-22/
LOCATION:St Thomas
CATEGORIES:Mass
END:VEVENT
BEGIN:VEVENT
DTSTART;TZID=America/Detroit:20250723T090000
DTEND;TZID=America/Detroit:20250723T094500
DTSTAMP:20260421T114411
CREATED:20230717T191330Z
LAST-MODIFIED:20251121T143234Z
UID:10005381-1753261200-1753263900@saintthomaszanesville.org
SUMMARY:Mass
DESCRIPTION:
URL:https://saintthomaszanesville.org/event/mass-3/2025-07-23/
LOCATION:St Thomas
CATEGORIES:Mass
END:VEVENT
BEGIN:VEVENT
DTSTART;TZID=America/Detroit:20250723T100000
DTEND;TZID=America/Detroit:20250723T210000
DTSTAMP:20260421T114411
CREATED:20231025T130420Z
LAST-MODIFIED:20260219T151646Z
UID:10006416-1753264800-1753304400@saintthomaszanesville.org
SUMMARY:Eucharistic Exposition of the Blessed Sacrement
DESCRIPTION:
URL:https://saintthomaszanesville.org/event/eucharistic-exposition-of-the-blessed-sacrement-2-2/2025-07-23/
LOCATION:St Thomas
CATEGORIES:Eucharist
END:VEVENT
BEGIN:VEVENT
DTSTART;TZID=America/Detroit:20250724T090000
DTEND;TZID=America/Detroit:20250724T094500
DTSTAMP:20260421T114411
CREATED:20231025T130315Z
LAST-MODIFIED:20260219T151402Z
UID:10005899-1753347600-1753350300@saintthomaszanesville.org
SUMMARY:Mass
DESCRIPTION:
URL:https://saintthomaszanesville.org/event/mass-5-3/2025-07-24/
LOCATION:St Thomas
CATEGORIES:Mass
END:VEVENT
BEGIN:VEVENT
DTSTART;TZID=America/Detroit:20250725T090000
DTEND;TZID=America/Detroit:20250725T094500
DTSTAMP:20260421T114411
CREATED:20231026T143024Z
LAST-MODIFIED:20260219T151539Z
UID:10006158-1753434000-1753436700@saintthomaszanesville.org
SUMMARY:Mass
DESCRIPTION:
URL:https://saintthomaszanesville.org/event/mass-6-2/2025-07-25/
LOCATION:St Thomas
CATEGORIES:Mass
END:VEVENT
BEGIN:VEVENT
DTSTART;TZID=America/Detroit:20250726T153000
DTEND;TZID=America/Detroit:20250726T161500
DTSTAMP:20260421T114411
CREATED:20230123T173105Z
LAST-MODIFIED:20260219T153419Z
UID:10003309-1753543800-1753546500@saintthomaszanesville.org
SUMMARY:Confessions
DESCRIPTION:
URL:https://saintthomaszanesville.org/event/confessions/2025-07-26/
LOCATION:St Thomas
CATEGORIES:Confessions
END:VEVENT
BEGIN:VEVENT
DTSTART;TZID=America/Detroit:20250726T163000
DTEND;TZID=America/Detroit:20250726T173000
DTSTAMP:20260421T114411
CREATED:20240626T171342Z
LAST-MODIFIED:20260219T153326Z
UID:10007972-1753547400-1753551000@saintthomaszanesville.org
SUMMARY:Mass
DESCRIPTION:
URL:https://saintthomaszanesville.org/event/mass/2025-07-26/
LOCATION:St Thomas
CATEGORIES:Mass
END:VEVENT
BEGIN:VEVENT
DTSTART;TZID=America/Detroit:20250727T074500
DTEND;TZID=America/Detroit:20250727T084500
DTSTAMP:20260421T114411
CREATED:20240626T174505Z
LAST-MODIFIED:20250917T124608Z
UID:10008776-1753602300-1753605900@saintthomaszanesville.org
SUMMARY:Mass
DESCRIPTION:
URL:https://saintthomaszanesville.org/event/mass-2-2/2025-07-27/
LOCATION:OH
CATEGORIES:Mass
END:VEVENT
BEGIN:VEVENT
DTSTART;TZID=America/Detroit:20250727T094500
DTEND;TZID=America/Detroit:20250727T223000
DTSTAMP:20260421T114411
CREATED:20231026T154327Z
LAST-MODIFIED:20240829T124728Z
UID:10007015-1753609500-1753655400@saintthomaszanesville.org
SUMMARY:Choir Rehearsal
DESCRIPTION:
URL:https://saintthomaszanesville.org/event/choir-rehersal-2/2025-07-27/
LOCATION:Activity Center
CATEGORIES:Choir
END:VEVENT
BEGIN:VEVENT
DTSTART;TZID=America/Detroit:20250727T110000
DTEND;TZID=America/Detroit:20250727T120000
DTSTAMP:20260421T114411
CREATED:20240626T174409Z
LAST-MODIFIED:20241205T172135Z
UID:10009041-1753614000-1753617600@saintthomaszanesville.org
SUMMARY:Mass
DESCRIPTION:
URL:https://saintthomaszanesville.org/event/mass-2/2025-07-27/
LOCATION:OH
CATEGORIES:Mass
END:VEVENT
BEGIN:VEVENT
DTSTART;TZID=America/Detroit:20250729T090000
DTEND;TZID=America/Detroit:20250729T094500
DTSTAMP:20260421T114411
CREATED:20230717T191610Z
LAST-MODIFIED:20260219T151222Z
UID:10005641-1753779600-1753782300@saintthomaszanesville.org
SUMMARY:Mass
DESCRIPTION:
URL:https://saintthomaszanesville.org/event/mass-4/2025-07-29/
LOCATION:St Thomas
CATEGORIES:Mass
END:VEVENT
BEGIN:VEVENT
DTSTART;TZID=America/Detroit:20250729T190000
DTEND;TZID=America/Detroit:20250729T203000
DTSTAMP:20260421T114411
CREATED:20241205T191700Z
LAST-MODIFIED:20241205T191700Z
UID:10009722-1753815600-1753821000@saintthomaszanesville.org
SUMMARY:Baptism Prep Class
DESCRIPTION:Families seeking to get their children baptized will need to attend a baptism prep class. The class will only be held if someone is pre-registered. Please do not show up without pre-registering for the class.  The meetings typically last 1.5 hours and will be held at St. Nicholas Parish Office. To register please contact the St. Nicholas Parish Office at 740-453-0597.
URL:https://saintthomaszanesville.org/event/baptism-prep-class-3/2025-07-29/
LOCATION:St Nicholas\, 925 E Main St\, zanesville\, OH\, 43701\, United States
END:VEVENT
BEGIN:VEVENT
DTSTART;TZID=America/Detroit:20250730T090000
DTEND;TZID=America/Detroit:20250730T094500
DTSTAMP:20260421T114411
CREATED:20230717T191330Z
LAST-MODIFIED:20251121T143234Z
UID:10005382-1753866000-1753868700@saintthomaszanesville.org
SUMMARY:Mass
DESCRIPTION:
URL:https://saintthomaszanesville.org/event/mass-3/2025-07-30/
LOCATION:St Thomas
CATEGORIES:Mass
END:VEVENT
BEGIN:VEVENT
DTSTART;TZID=America/Detroit:20250730T100000
DTEND;TZID=America/Detroit:20250730T210000
DTSTAMP:20260421T114411
CREATED:20231025T130420Z
LAST-MODIFIED:20260219T151646Z
UID:10006417-1753869600-1753909200@saintthomaszanesville.org
SUMMARY:Eucharistic Exposition of the Blessed Sacrement
DESCRIPTION:
URL:https://saintthomaszanesville.org/event/eucharistic-exposition-of-the-blessed-sacrement-2-2/2025-07-30/
LOCATION:St Thomas
CATEGORIES:Eucharist
END:VEVENT
BEGIN:VEVENT
DTSTART;TZID=America/Detroit:20250731T090000
DTEND;TZID=America/Detroit:20250731T094500
DTSTAMP:20260421T114411
CREATED:20231025T130315Z
LAST-MODIFIED:20260219T151402Z
UID:10005900-1753952400-1753955100@saintthomaszanesville.org
SUMMARY:Mass
DESCRIPTION:
URL:https://saintthomaszanesville.org/event/mass-5-3/2025-07-31/
LOCATION:St Thomas
CATEGORIES:Mass
END:VEVENT
BEGIN:VEVENT
DTSTART;TZID=America/Detroit:20250801T090000
DTEND;TZID=America/Detroit:20250801T094500
DTSTAMP:20260421T114411
CREATED:20231026T143024Z
LAST-MODIFIED:20260219T151539Z
UID:10006159-1754038800-1754041500@saintthomaszanesville.org
SUMMARY:Mass
DESCRIPTION:
URL:https://saintthomaszanesville.org/event/mass-6-2/2025-08-01/
LOCATION:St Thomas
CATEGORIES:Mass
END:VEVENT
BEGIN:VEVENT
DTSTART;TZID=America/Detroit:20250802T153000
DTEND;TZID=America/Detroit:20250802T161500
DTSTAMP:20260421T114411
CREATED:20230123T173105Z
LAST-MODIFIED:20260219T153419Z
UID:10003310-1754148600-1754151300@saintthomaszanesville.org
SUMMARY:Confessions
DESCRIPTION:
URL:https://saintthomaszanesville.org/event/confessions/2025-08-02/
LOCATION:St Thomas
CATEGORIES:Confessions
END:VEVENT
BEGIN:VEVENT
DTSTART;TZID=America/Detroit:20250802T163000
DTEND;TZID=America/Detroit:20250802T173000
DTSTAMP:20260421T114411
CREATED:20240626T171342Z
LAST-MODIFIED:20260219T153326Z
UID:10007973-1754152200-1754155800@saintthomaszanesville.org
SUMMARY:Mass
DESCRIPTION:
URL:https://saintthomaszanesville.org/event/mass/2025-08-02/
LOCATION:St Thomas
CATEGORIES:Mass
END:VEVENT
BEGIN:VEVENT
DTSTART;TZID=America/Detroit:20250803T074500
DTEND;TZID=America/Detroit:20250803T084500
DTSTAMP:20260421T114411
CREATED:20240626T174505Z
LAST-MODIFIED:20250917T124608Z
UID:10008777-1754207100-1754210700@saintthomaszanesville.org
SUMMARY:Mass
DESCRIPTION:
URL:https://saintthomaszanesville.org/event/mass-2-2/2025-08-03/
LOCATION:OH
CATEGORIES:Mass
END:VEVENT
BEGIN:VEVENT
DTSTART;TZID=America/Detroit:20250803T094500
DTEND;TZID=America/Detroit:20250803T223000
DTSTAMP:20260421T114411
CREATED:20231026T154327Z
LAST-MODIFIED:20240829T124728Z
UID:10007016-1754214300-1754260200@saintthomaszanesville.org
SUMMARY:Choir Rehearsal
DESCRIPTION:
URL:https://saintthomaszanesville.org/event/choir-rehersal-2/2025-08-03/
LOCATION:Activity Center
CATEGORIES:Choir
END:VEVENT
BEGIN:VEVENT
DTSTART;TZID=America/Detroit:20250803T110000
DTEND;TZID=America/Detroit:20250803T120000
DTSTAMP:20260421T114411
CREATED:20240626T174409Z
LAST-MODIFIED:20241205T172135Z
UID:10009042-1754218800-1754222400@saintthomaszanesville.org
SUMMARY:Mass
DESCRIPTION:
URL:https://saintthomaszanesville.org/event/mass-2/2025-08-03/
LOCATION:OH
CATEGORIES:Mass
END:VEVENT
BEGIN:VEVENT
DTSTART;TZID=America/Detroit:20250805T090000
DTEND;TZID=America/Detroit:20250805T094500
DTSTAMP:20260421T114411
CREATED:20230717T191610Z
LAST-MODIFIED:20260219T151222Z
UID:10005642-1754384400-1754387100@saintthomaszanesville.org
SUMMARY:Mass
DESCRIPTION:
URL:https://saintthomaszanesville.org/event/mass-4/2025-08-05/
LOCATION:St Thomas
CATEGORIES:Mass
END:VEVENT
BEGIN:VEVENT
DTSTART;TZID=America/Detroit:20250806T090000
DTEND;TZID=America/Detroit:20250806T094500
DTSTAMP:20260421T114411
CREATED:20230717T191330Z
LAST-MODIFIED:20251121T143234Z
UID:10005383-1754470800-1754473500@saintthomaszanesville.org
SUMMARY:Mass
DESCRIPTION:
URL:https://saintthomaszanesville.org/event/mass-3/2025-08-06/
LOCATION:St Thomas
CATEGORIES:Mass
END:VEVENT
END:VCALENDAR