BEGIN:VCALENDAR
VERSION:2.0
PRODID:-//Saint Thomas Acquinas Zanesville - ECPv6.15.20//NONSGML v1.0//EN
CALSCALE:GREGORIAN
METHOD:PUBLISH
X-ORIGINAL-URL:https://saintthomaszanesville.org
X-WR-CALDESC:Events for Saint Thomas Acquinas Zanesville
REFRESH-INTERVAL;VALUE=DURATION:PT1H
X-Robots-Tag:noindex
X-PUBLISHED-TTL:PT1H
BEGIN:VTIMEZONE
TZID:America/Detroit
BEGIN:DAYLIGHT
TZOFFSETFROM:-0500
TZOFFSETTO:-0400
TZNAME:EDT
DTSTART:20240310T070000
END:DAYLIGHT
BEGIN:STANDARD
TZOFFSETFROM:-0400
TZOFFSETTO:-0500
TZNAME:EST
DTSTART:20241103T060000
END:STANDARD
BEGIN:DAYLIGHT
TZOFFSETFROM:-0500
TZOFFSETTO:-0400
TZNAME:EDT
DTSTART:20250309T070000
END:DAYLIGHT
BEGIN:STANDARD
TZOFFSETFROM:-0400
TZOFFSETTO:-0500
TZNAME:EST
DTSTART:20251102T060000
END:STANDARD
BEGIN:DAYLIGHT
TZOFFSETFROM:-0500
TZOFFSETTO:-0400
TZNAME:EDT
DTSTART:20260308T070000
END:DAYLIGHT
BEGIN:STANDARD
TZOFFSETFROM:-0400
TZOFFSETTO:-0500
TZNAME:EST
DTSTART:20261101T060000
END:STANDARD
END:VTIMEZONE
BEGIN:VEVENT
DTSTART;TZID=America/Detroit:20250508T090000
DTEND;TZID=America/Detroit:20250508T094500
DTSTAMP:20260421T193029
CREATED:20231025T130315Z
LAST-MODIFIED:20260219T151402Z
UID:10005888-1746694800-1746697500@saintthomaszanesville.org
SUMMARY:Mass
DESCRIPTION:
URL:https://saintthomaszanesville.org/event/mass-5-3/2025-05-08/
LOCATION:St Thomas
CATEGORIES:Mass
END:VEVENT
BEGIN:VEVENT
DTSTART;TZID=America/Detroit:20250509T090000
DTEND;TZID=America/Detroit:20250509T094500
DTSTAMP:20260421T193029
CREATED:20231026T143024Z
LAST-MODIFIED:20260219T151539Z
UID:10006147-1746781200-1746783900@saintthomaszanesville.org
SUMMARY:Mass
DESCRIPTION:
URL:https://saintthomaszanesville.org/event/mass-6-2/2025-05-09/
LOCATION:St Thomas
CATEGORIES:Mass
END:VEVENT
BEGIN:VEVENT
DTSTART;TZID=America/Detroit:20250510T103000
DTEND;TZID=America/Detroit:20250510T120000
DTSTAMP:20260421T193029
CREATED:20230207T140551Z
LAST-MODIFIED:20250219T163553Z
UID:10004008-1746873000-1746878400@saintthomaszanesville.org
SUMMARY:First Communion
DESCRIPTION:Celebrated at St Thomas
URL:https://saintthomaszanesville.org/event/first-communion/
LOCATION:St Thomas
END:VEVENT
BEGIN:VEVENT
DTSTART;TZID=America/Detroit:20250510T153000
DTEND;TZID=America/Detroit:20250510T161500
DTSTAMP:20260421T193029
CREATED:20230123T173105Z
LAST-MODIFIED:20260219T153419Z
UID:10003298-1746891000-1746893700@saintthomaszanesville.org
SUMMARY:Confessions
DESCRIPTION:
URL:https://saintthomaszanesville.org/event/confessions/2025-05-10/
LOCATION:St Thomas
CATEGORIES:Confessions
END:VEVENT
BEGIN:VEVENT
DTSTART;TZID=America/Detroit:20250510T163000
DTEND;TZID=America/Detroit:20250510T173000
DTSTAMP:20260421T193029
CREATED:20240626T171342Z
LAST-MODIFIED:20260219T153326Z
UID:10007961-1746894600-1746898200@saintthomaszanesville.org
SUMMARY:Mass
DESCRIPTION:
URL:https://saintthomaszanesville.org/event/mass/2025-05-10/
LOCATION:St Thomas
CATEGORIES:Mass
END:VEVENT
BEGIN:VEVENT
DTSTART;TZID=America/Detroit:20250511T074500
DTEND;TZID=America/Detroit:20250511T084500
DTSTAMP:20260421T193029
CREATED:20240626T174505Z
LAST-MODIFIED:20250917T124608Z
UID:10008765-1746949500-1746953100@saintthomaszanesville.org
SUMMARY:Mass
DESCRIPTION:
URL:https://saintthomaszanesville.org/event/mass-2-2/2025-05-11/
LOCATION:OH
CATEGORIES:Mass
END:VEVENT
BEGIN:VEVENT
DTSTART;TZID=America/Detroit:20250511T094500
DTEND;TZID=America/Detroit:20250511T223000
DTSTAMP:20260421T193029
CREATED:20231026T154327Z
LAST-MODIFIED:20240829T124728Z
UID:10007004-1746956700-1747002600@saintthomaszanesville.org
SUMMARY:Choir Rehearsal
DESCRIPTION:
URL:https://saintthomaszanesville.org/event/choir-rehersal-2/2025-05-11/
LOCATION:Activity Center
CATEGORIES:Choir
END:VEVENT
BEGIN:VEVENT
DTSTART;TZID=America/Detroit:20250511T110000
DTEND;TZID=America/Detroit:20250511T120000
DTSTAMP:20260421T193029
CREATED:20240626T174409Z
LAST-MODIFIED:20241205T172135Z
UID:10009030-1746961200-1746964800@saintthomaszanesville.org
SUMMARY:Mass
DESCRIPTION:
URL:https://saintthomaszanesville.org/event/mass-2/2025-05-11/
LOCATION:OH
CATEGORIES:Mass
END:VEVENT
BEGIN:VEVENT
DTSTART;TZID=America/Detroit:20250513T090000
DTEND;TZID=America/Detroit:20250513T094500
DTSTAMP:20260421T193029
CREATED:20230717T191610Z
LAST-MODIFIED:20260219T151222Z
UID:10005630-1747126800-1747129500@saintthomaszanesville.org
SUMMARY:Mass
DESCRIPTION:
URL:https://saintthomaszanesville.org/event/mass-4/2025-05-13/
LOCATION:St Thomas
CATEGORIES:Mass
END:VEVENT
BEGIN:VEVENT
DTSTART;TZID=America/Detroit:20250514T090000
DTEND;TZID=America/Detroit:20250514T094500
DTSTAMP:20260421T193029
CREATED:20230717T191330Z
LAST-MODIFIED:20251121T143234Z
UID:10005371-1747213200-1747215900@saintthomaszanesville.org
SUMMARY:Mass
DESCRIPTION:
URL:https://saintthomaszanesville.org/event/mass-3/2025-05-14/
LOCATION:St Thomas
CATEGORIES:Mass
END:VEVENT
BEGIN:VEVENT
DTSTART;TZID=America/Detroit:20250514T100000
DTEND;TZID=America/Detroit:20250514T210000
DTSTAMP:20260421T193029
CREATED:20231025T130420Z
LAST-MODIFIED:20260219T151646Z
UID:10006406-1747216800-1747256400@saintthomaszanesville.org
SUMMARY:Eucharistic Exposition of the Blessed Sacrement
DESCRIPTION:
URL:https://saintthomaszanesville.org/event/eucharistic-exposition-of-the-blessed-sacrement-2-2/2025-05-14/
LOCATION:St Thomas
CATEGORIES:Eucharist
END:VEVENT
BEGIN:VEVENT
DTSTART;TZID=America/Detroit:20250515T090000
DTEND;TZID=America/Detroit:20250515T094500
DTSTAMP:20260421T193029
CREATED:20231025T130315Z
LAST-MODIFIED:20260219T151402Z
UID:10005889-1747299600-1747302300@saintthomaszanesville.org
SUMMARY:Mass
DESCRIPTION:
URL:https://saintthomaszanesville.org/event/mass-5-3/2025-05-15/
LOCATION:St Thomas
CATEGORIES:Mass
END:VEVENT
BEGIN:VEVENT
DTSTART;TZID=America/Detroit:20250516T090000
DTEND;TZID=America/Detroit:20250516T094500
DTSTAMP:20260421T193029
CREATED:20231026T143024Z
LAST-MODIFIED:20260219T151539Z
UID:10006148-1747386000-1747388700@saintthomaszanesville.org
SUMMARY:Mass
DESCRIPTION:
URL:https://saintthomaszanesville.org/event/mass-6-2/2025-05-16/
LOCATION:St Thomas
CATEGORIES:Mass
END:VEVENT
BEGIN:VEVENT
DTSTART;TZID=America/Detroit:20250517T153000
DTEND;TZID=America/Detroit:20250517T161500
DTSTAMP:20260421T193029
CREATED:20230123T173105Z
LAST-MODIFIED:20260219T153419Z
UID:10003299-1747495800-1747498500@saintthomaszanesville.org
SUMMARY:Confessions
DESCRIPTION:
URL:https://saintthomaszanesville.org/event/confessions/2025-05-17/
LOCATION:St Thomas
CATEGORIES:Confessions
END:VEVENT
BEGIN:VEVENT
DTSTART;TZID=America/Detroit:20250517T163000
DTEND;TZID=America/Detroit:20250517T173000
DTSTAMP:20260421T193029
CREATED:20240626T171342Z
LAST-MODIFIED:20260219T153326Z
UID:10007962-1747499400-1747503000@saintthomaszanesville.org
SUMMARY:Mass
DESCRIPTION:
URL:https://saintthomaszanesville.org/event/mass/2025-05-17/
LOCATION:St Thomas
CATEGORIES:Mass
END:VEVENT
BEGIN:VEVENT
DTSTART;TZID=America/Detroit:20250518T074500
DTEND;TZID=America/Detroit:20250518T084500
DTSTAMP:20260421T193029
CREATED:20240626T174505Z
LAST-MODIFIED:20250917T124608Z
UID:10008766-1747554300-1747557900@saintthomaszanesville.org
SUMMARY:Mass
DESCRIPTION:
URL:https://saintthomaszanesville.org/event/mass-2-2/2025-05-18/
LOCATION:OH
CATEGORIES:Mass
END:VEVENT
BEGIN:VEVENT
DTSTART;TZID=America/Detroit:20250518T094500
DTEND;TZID=America/Detroit:20250518T223000
DTSTAMP:20260421T193029
CREATED:20231026T154327Z
LAST-MODIFIED:20240829T124728Z
UID:10007005-1747561500-1747607400@saintthomaszanesville.org
SUMMARY:Choir Rehearsal
DESCRIPTION:
URL:https://saintthomaszanesville.org/event/choir-rehersal-2/2025-05-18/
LOCATION:Activity Center
CATEGORIES:Choir
END:VEVENT
BEGIN:VEVENT
DTSTART;TZID=America/Detroit:20250518T110000
DTEND;TZID=America/Detroit:20250518T120000
DTSTAMP:20260421T193029
CREATED:20240626T174409Z
LAST-MODIFIED:20241205T172135Z
UID:10009031-1747566000-1747569600@saintthomaszanesville.org
SUMMARY:Mass
DESCRIPTION:
URL:https://saintthomaszanesville.org/event/mass-2/2025-05-18/
LOCATION:OH
CATEGORIES:Mass
END:VEVENT
BEGIN:VEVENT
DTSTART;TZID=America/Detroit:20250520T090000
DTEND;TZID=America/Detroit:20250520T094500
DTSTAMP:20260421T193029
CREATED:20230717T191610Z
LAST-MODIFIED:20260219T151222Z
UID:10005631-1747731600-1747734300@saintthomaszanesville.org
SUMMARY:Mass
DESCRIPTION:
URL:https://saintthomaszanesville.org/event/mass-4/2025-05-20/
LOCATION:St Thomas
CATEGORIES:Mass
END:VEVENT
BEGIN:VEVENT
DTSTART;TZID=America/Detroit:20250521T090000
DTEND;TZID=America/Detroit:20250521T094500
DTSTAMP:20260421T193029
CREATED:20230717T191330Z
LAST-MODIFIED:20251121T143234Z
UID:10005372-1747818000-1747820700@saintthomaszanesville.org
SUMMARY:Mass
DESCRIPTION:
URL:https://saintthomaszanesville.org/event/mass-3/2025-05-21/
LOCATION:St Thomas
CATEGORIES:Mass
END:VEVENT
BEGIN:VEVENT
DTSTART;TZID=America/Detroit:20250521T100000
DTEND;TZID=America/Detroit:20250521T210000
DTSTAMP:20260421T193029
CREATED:20231025T130420Z
LAST-MODIFIED:20260219T151646Z
UID:10006407-1747821600-1747861200@saintthomaszanesville.org
SUMMARY:Eucharistic Exposition of the Blessed Sacrement
DESCRIPTION:
URL:https://saintthomaszanesville.org/event/eucharistic-exposition-of-the-blessed-sacrement-2-2/2025-05-21/
LOCATION:St Thomas
CATEGORIES:Eucharist
END:VEVENT
BEGIN:VEVENT
DTSTART;TZID=America/Detroit:20250522T090000
DTEND;TZID=America/Detroit:20250522T094500
DTSTAMP:20260421T193029
CREATED:20231025T130315Z
LAST-MODIFIED:20260219T151402Z
UID:10005890-1747904400-1747907100@saintthomaszanesville.org
SUMMARY:Mass
DESCRIPTION:
URL:https://saintthomaszanesville.org/event/mass-5-3/2025-05-22/
LOCATION:St Thomas
CATEGORIES:Mass
END:VEVENT
BEGIN:VEVENT
DTSTART;TZID=America/Detroit:20250523T090000
DTEND;TZID=America/Detroit:20250523T094500
DTSTAMP:20260421T193029
CREATED:20231026T143024Z
LAST-MODIFIED:20260219T151539Z
UID:10006149-1747990800-1747993500@saintthomaszanesville.org
SUMMARY:Mass
DESCRIPTION:
URL:https://saintthomaszanesville.org/event/mass-6-2/2025-05-23/
LOCATION:St Thomas
CATEGORIES:Mass
END:VEVENT
BEGIN:VEVENT
DTSTART;TZID=America/Detroit:20250524T153000
DTEND;TZID=America/Detroit:20250524T161500
DTSTAMP:20260421T193029
CREATED:20230123T173105Z
LAST-MODIFIED:20260219T153419Z
UID:10003300-1748100600-1748103300@saintthomaszanesville.org
SUMMARY:Confessions
DESCRIPTION:
URL:https://saintthomaszanesville.org/event/confessions/2025-05-24/
LOCATION:St Thomas
CATEGORIES:Confessions
END:VEVENT
BEGIN:VEVENT
DTSTART;TZID=America/Detroit:20250524T163000
DTEND;TZID=America/Detroit:20250524T173000
DTSTAMP:20260421T193029
CREATED:20240626T171342Z
LAST-MODIFIED:20260219T153326Z
UID:10007963-1748104200-1748107800@saintthomaszanesville.org
SUMMARY:Mass
DESCRIPTION:
URL:https://saintthomaszanesville.org/event/mass/2025-05-24/
LOCATION:St Thomas
CATEGORIES:Mass
END:VEVENT
BEGIN:VEVENT
DTSTART;TZID=America/Detroit:20250525T074500
DTEND;TZID=America/Detroit:20250525T084500
DTSTAMP:20260421T193029
CREATED:20240626T174505Z
LAST-MODIFIED:20250917T124608Z
UID:10008767-1748159100-1748162700@saintthomaszanesville.org
SUMMARY:Mass
DESCRIPTION:
URL:https://saintthomaszanesville.org/event/mass-2-2/2025-05-25/
LOCATION:OH
CATEGORIES:Mass
END:VEVENT
BEGIN:VEVENT
DTSTART;TZID=America/Detroit:20250525T094500
DTEND;TZID=America/Detroit:20250525T223000
DTSTAMP:20260421T193029
CREATED:20231026T154327Z
LAST-MODIFIED:20240829T124728Z
UID:10007006-1748166300-1748212200@saintthomaszanesville.org
SUMMARY:Choir Rehearsal
DESCRIPTION:
URL:https://saintthomaszanesville.org/event/choir-rehersal-2/2025-05-25/
LOCATION:Activity Center
CATEGORIES:Choir
END:VEVENT
BEGIN:VEVENT
DTSTART;TZID=America/Detroit:20250525T110000
DTEND;TZID=America/Detroit:20250525T120000
DTSTAMP:20260421T193029
CREATED:20240626T174409Z
LAST-MODIFIED:20241205T172135Z
UID:10009032-1748170800-1748174400@saintthomaszanesville.org
SUMMARY:Mass
DESCRIPTION:
URL:https://saintthomaszanesville.org/event/mass-2/2025-05-25/
LOCATION:OH
CATEGORIES:Mass
END:VEVENT
BEGIN:VEVENT
DTSTART;TZID=America/Detroit:20250527T090000
DTEND;TZID=America/Detroit:20250527T094500
DTSTAMP:20260421T193029
CREATED:20230717T191610Z
LAST-MODIFIED:20260219T151222Z
UID:10005632-1748336400-1748339100@saintthomaszanesville.org
SUMMARY:Mass
DESCRIPTION:
URL:https://saintthomaszanesville.org/event/mass-4/2025-05-27/
LOCATION:St Thomas
CATEGORIES:Mass
END:VEVENT
BEGIN:VEVENT
DTSTART;TZID=America/Detroit:20250527T190000
DTEND;TZID=America/Detroit:20250527T203000
DTSTAMP:20260421T193029
CREATED:20241205T191700Z
LAST-MODIFIED:20241205T191700Z
UID:10009721-1748372400-1748377800@saintthomaszanesville.org
SUMMARY:Baptism Prep Class
DESCRIPTION:Families seeking to get their children baptized will need to attend a baptism prep class. The class will only be held if someone is pre-registered. Please do not show up without pre-registering for the class.  The meetings typically last 1.5 hours and will be held at St. Nicholas Parish Office. To register please contact the St. Nicholas Parish Office at 740-453-0597.
URL:https://saintthomaszanesville.org/event/baptism-prep-class-3/2025-05-27/
LOCATION:St Nicholas\, 925 E Main St\, zanesville\, OH\, 43701\, United States
END:VEVENT
END:VCALENDAR