BEGIN:VCALENDAR
VERSION:2.0
PRODID:-//Saint Thomas Acquinas Zanesville - ECPv6.15.20//NONSGML v1.0//EN
CALSCALE:GREGORIAN
METHOD:PUBLISH
X-ORIGINAL-URL:https://saintthomaszanesville.org
X-WR-CALDESC:Events for Saint Thomas Acquinas Zanesville
REFRESH-INTERVAL;VALUE=DURATION:PT1H
X-Robots-Tag:noindex
X-PUBLISHED-TTL:PT1H
BEGIN:VTIMEZONE
TZID:America/Detroit
BEGIN:DAYLIGHT
TZOFFSETFROM:-0500
TZOFFSETTO:-0400
TZNAME:EDT
DTSTART:20240310T070000
END:DAYLIGHT
BEGIN:STANDARD
TZOFFSETFROM:-0400
TZOFFSETTO:-0500
TZNAME:EST
DTSTART:20241103T060000
END:STANDARD
BEGIN:DAYLIGHT
TZOFFSETFROM:-0500
TZOFFSETTO:-0400
TZNAME:EDT
DTSTART:20250309T070000
END:DAYLIGHT
BEGIN:STANDARD
TZOFFSETFROM:-0400
TZOFFSETTO:-0500
TZNAME:EST
DTSTART:20251102T060000
END:STANDARD
BEGIN:DAYLIGHT
TZOFFSETFROM:-0500
TZOFFSETTO:-0400
TZNAME:EDT
DTSTART:20260308T070000
END:DAYLIGHT
BEGIN:STANDARD
TZOFFSETFROM:-0400
TZOFFSETTO:-0500
TZNAME:EST
DTSTART:20261101T060000
END:STANDARD
END:VTIMEZONE
BEGIN:VEVENT
DTSTART;TZID=America/Detroit:20250425T090000
DTEND;TZID=America/Detroit:20250425T094500
DTSTAMP:20260421T212947
CREATED:20231026T143024Z
LAST-MODIFIED:20260219T151539Z
UID:10006145-1745571600-1745574300@saintthomaszanesville.org
SUMMARY:Mass
DESCRIPTION:
URL:https://saintthomaszanesville.org/event/mass-6-2/2025-04-25/
LOCATION:St Thomas
CATEGORIES:Mass
END:VEVENT
BEGIN:VEVENT
DTSTART;TZID=America/Detroit:20250426T153000
DTEND;TZID=America/Detroit:20250426T161500
DTSTAMP:20260421T212947
CREATED:20230123T173105Z
LAST-MODIFIED:20260219T153419Z
UID:10003296-1745681400-1745684100@saintthomaszanesville.org
SUMMARY:Confessions
DESCRIPTION:
URL:https://saintthomaszanesville.org/event/confessions/2025-04-26/
LOCATION:St Thomas
CATEGORIES:Confessions
END:VEVENT
BEGIN:VEVENT
DTSTART;TZID=America/Detroit:20250426T163000
DTEND;TZID=America/Detroit:20250426T173000
DTSTAMP:20260421T212947
CREATED:20240626T171342Z
LAST-MODIFIED:20260219T153326Z
UID:10007959-1745685000-1745688600@saintthomaszanesville.org
SUMMARY:Mass
DESCRIPTION:
URL:https://saintthomaszanesville.org/event/mass/2025-04-26/
LOCATION:St Thomas
CATEGORIES:Mass
END:VEVENT
BEGIN:VEVENT
DTSTART;TZID=America/Detroit:20250427T074500
DTEND;TZID=America/Detroit:20250427T084500
DTSTAMP:20260421T212947
CREATED:20240626T174505Z
LAST-MODIFIED:20250917T124608Z
UID:10008763-1745739900-1745743500@saintthomaszanesville.org
SUMMARY:Mass
DESCRIPTION:
URL:https://saintthomaszanesville.org/event/mass-2-2/2025-04-27/
LOCATION:OH
CATEGORIES:Mass
END:VEVENT
BEGIN:VEVENT
DTSTART;TZID=America/Detroit:20250427T094500
DTEND;TZID=America/Detroit:20250427T223000
DTSTAMP:20260421T212947
CREATED:20231026T154327Z
LAST-MODIFIED:20240829T124728Z
UID:10007002-1745747100-1745793000@saintthomaszanesville.org
SUMMARY:Choir Rehearsal
DESCRIPTION:
URL:https://saintthomaszanesville.org/event/choir-rehersal-2/2025-04-27/
LOCATION:Activity Center
CATEGORIES:Choir
END:VEVENT
BEGIN:VEVENT
DTSTART;TZID=America/Detroit:20250427T110000
DTEND;TZID=America/Detroit:20250427T120000
DTSTAMP:20260421T212947
CREATED:20240626T174409Z
LAST-MODIFIED:20241205T172135Z
UID:10009028-1745751600-1745755200@saintthomaszanesville.org
SUMMARY:Mass
DESCRIPTION:
URL:https://saintthomaszanesville.org/event/mass-2/2025-04-27/
LOCATION:OH
CATEGORIES:Mass
END:VEVENT
BEGIN:VEVENT
DTSTART;TZID=America/Detroit:20250429T090000
DTEND;TZID=America/Detroit:20250429T094500
DTSTAMP:20260421T212947
CREATED:20230717T191610Z
LAST-MODIFIED:20260219T151222Z
UID:10005628-1745917200-1745919900@saintthomaszanesville.org
SUMMARY:Mass
DESCRIPTION:
URL:https://saintthomaszanesville.org/event/mass-4/2025-04-29/
LOCATION:St Thomas
CATEGORIES:Mass
END:VEVENT
BEGIN:VEVENT
DTSTART;TZID=America/Detroit:20250430T090000
DTEND;TZID=America/Detroit:20250430T094500
DTSTAMP:20260421T212947
CREATED:20230717T191330Z
LAST-MODIFIED:20251121T143234Z
UID:10005369-1746003600-1746006300@saintthomaszanesville.org
SUMMARY:Mass
DESCRIPTION:
URL:https://saintthomaszanesville.org/event/mass-3/2025-04-30/
LOCATION:St Thomas
CATEGORIES:Mass
END:VEVENT
BEGIN:VEVENT
DTSTART;TZID=America/Detroit:20250430T100000
DTEND;TZID=America/Detroit:20250430T210000
DTSTAMP:20260421T212947
CREATED:20231025T130420Z
LAST-MODIFIED:20260219T151646Z
UID:10006404-1746007200-1746046800@saintthomaszanesville.org
SUMMARY:Eucharistic Exposition of the Blessed Sacrement
DESCRIPTION:
URL:https://saintthomaszanesville.org/event/eucharistic-exposition-of-the-blessed-sacrement-2-2/2025-04-30/
LOCATION:St Thomas
CATEGORIES:Eucharist
END:VEVENT
BEGIN:VEVENT
DTSTART;TZID=America/Detroit:20250501T090000
DTEND;TZID=America/Detroit:20250501T094500
DTSTAMP:20260421T212947
CREATED:20231025T130315Z
LAST-MODIFIED:20260219T151402Z
UID:10005887-1746090000-1746092700@saintthomaszanesville.org
SUMMARY:Mass
DESCRIPTION:
URL:https://saintthomaszanesville.org/event/mass-5-3/2025-05-01/
LOCATION:St Thomas
CATEGORIES:Mass
END:VEVENT
BEGIN:VEVENT
DTSTART;TZID=America/Detroit:20250502T090000
DTEND;TZID=America/Detroit:20250502T094500
DTSTAMP:20260421T212947
CREATED:20231026T143024Z
LAST-MODIFIED:20260219T151539Z
UID:10006146-1746176400-1746179100@saintthomaszanesville.org
SUMMARY:Mass
DESCRIPTION:
URL:https://saintthomaszanesville.org/event/mass-6-2/2025-05-02/
LOCATION:St Thomas
CATEGORIES:Mass
END:VEVENT
BEGIN:VEVENT
DTSTART;TZID=America/Detroit:20250503T153000
DTEND;TZID=America/Detroit:20250503T161500
DTSTAMP:20260421T212947
CREATED:20230123T173105Z
LAST-MODIFIED:20260219T153419Z
UID:10003297-1746286200-1746288900@saintthomaszanesville.org
SUMMARY:Confessions
DESCRIPTION:
URL:https://saintthomaszanesville.org/event/confessions/2025-05-03/
LOCATION:St Thomas
CATEGORIES:Confessions
END:VEVENT
BEGIN:VEVENT
DTSTART;TZID=America/Detroit:20250503T163000
DTEND;TZID=America/Detroit:20250503T173000
DTSTAMP:20260421T212947
CREATED:20240626T171342Z
LAST-MODIFIED:20260219T153326Z
UID:10007960-1746289800-1746293400@saintthomaszanesville.org
SUMMARY:Mass
DESCRIPTION:
URL:https://saintthomaszanesville.org/event/mass/2025-05-03/
LOCATION:St Thomas
CATEGORIES:Mass
END:VEVENT
BEGIN:VEVENT
DTSTART;TZID=America/Detroit:20250504T074500
DTEND;TZID=America/Detroit:20250504T084500
DTSTAMP:20260421T212947
CREATED:20240626T174505Z
LAST-MODIFIED:20250917T124608Z
UID:10008764-1746344700-1746348300@saintthomaszanesville.org
SUMMARY:Mass
DESCRIPTION:
URL:https://saintthomaszanesville.org/event/mass-2-2/2025-05-04/
LOCATION:OH
CATEGORIES:Mass
END:VEVENT
BEGIN:VEVENT
DTSTART;TZID=America/Detroit:20250504T094500
DTEND;TZID=America/Detroit:20250504T223000
DTSTAMP:20260421T212947
CREATED:20231026T154327Z
LAST-MODIFIED:20240829T124728Z
UID:10007003-1746351900-1746397800@saintthomaszanesville.org
SUMMARY:Choir Rehearsal
DESCRIPTION:
URL:https://saintthomaszanesville.org/event/choir-rehersal-2/2025-05-04/
LOCATION:Activity Center
CATEGORIES:Choir
END:VEVENT
BEGIN:VEVENT
DTSTART;TZID=America/Detroit:20250504T110000
DTEND;TZID=America/Detroit:20250504T120000
DTSTAMP:20260421T212947
CREATED:20240626T174409Z
LAST-MODIFIED:20241205T172135Z
UID:10009029-1746356400-1746360000@saintthomaszanesville.org
SUMMARY:Mass
DESCRIPTION:
URL:https://saintthomaszanesville.org/event/mass-2/2025-05-04/
LOCATION:OH
CATEGORIES:Mass
END:VEVENT
BEGIN:VEVENT
DTSTART;TZID=America/Detroit:20250504T180000
DTEND;TZID=America/Detroit:20250504T203000
DTSTAMP:20260421T212947
CREATED:20240724T171039Z
LAST-MODIFIED:20240724T171039Z
UID:10009255-1746381600-1746390600@saintthomaszanesville.org
SUMMARY:Catalyst Nights
DESCRIPTION:
URL:https://saintthomaszanesville.org/event/catalyst-nights/2025-05-04/
LOCATION:Activity Center
CATEGORIES:CCD
END:VEVENT
BEGIN:VEVENT
DTSTART;TZID=America/Detroit:20250506T090000
DTEND;TZID=America/Detroit:20250506T094500
DTSTAMP:20260421T212947
CREATED:20230717T191610Z
LAST-MODIFIED:20260219T151222Z
UID:10005629-1746522000-1746524700@saintthomaszanesville.org
SUMMARY:Mass
DESCRIPTION:
URL:https://saintthomaszanesville.org/event/mass-4/2025-05-06/
LOCATION:St Thomas
CATEGORIES:Mass
END:VEVENT
BEGIN:VEVENT
DTSTART;TZID=America/Detroit:20250507T090000
DTEND;TZID=America/Detroit:20250507T094500
DTSTAMP:20260421T212947
CREATED:20230717T191330Z
LAST-MODIFIED:20251121T143234Z
UID:10005370-1746608400-1746611100@saintthomaszanesville.org
SUMMARY:Mass
DESCRIPTION:
URL:https://saintthomaszanesville.org/event/mass-3/2025-05-07/
LOCATION:St Thomas
CATEGORIES:Mass
END:VEVENT
BEGIN:VEVENT
DTSTART;TZID=America/Detroit:20250507T100000
DTEND;TZID=America/Detroit:20250507T210000
DTSTAMP:20260421T212947
CREATED:20231025T130420Z
LAST-MODIFIED:20260219T151646Z
UID:10006405-1746612000-1746651600@saintthomaszanesville.org
SUMMARY:Eucharistic Exposition of the Blessed Sacrement
DESCRIPTION:
URL:https://saintthomaszanesville.org/event/eucharistic-exposition-of-the-blessed-sacrement-2-2/2025-05-07/
LOCATION:St Thomas
CATEGORIES:Eucharist
END:VEVENT
BEGIN:VEVENT
DTSTART;TZID=America/Detroit:20250508T090000
DTEND;TZID=America/Detroit:20250508T094500
DTSTAMP:20260421T212947
CREATED:20231025T130315Z
LAST-MODIFIED:20260219T151402Z
UID:10005888-1746694800-1746697500@saintthomaszanesville.org
SUMMARY:Mass
DESCRIPTION:
URL:https://saintthomaszanesville.org/event/mass-5-3/2025-05-08/
LOCATION:St Thomas
CATEGORIES:Mass
END:VEVENT
BEGIN:VEVENT
DTSTART;TZID=America/Detroit:20250509T090000
DTEND;TZID=America/Detroit:20250509T094500
DTSTAMP:20260421T212947
CREATED:20231026T143024Z
LAST-MODIFIED:20260219T151539Z
UID:10006147-1746781200-1746783900@saintthomaszanesville.org
SUMMARY:Mass
DESCRIPTION:
URL:https://saintthomaszanesville.org/event/mass-6-2/2025-05-09/
LOCATION:St Thomas
CATEGORIES:Mass
END:VEVENT
BEGIN:VEVENT
DTSTART;TZID=America/Detroit:20250510T103000
DTEND;TZID=America/Detroit:20250510T120000
DTSTAMP:20260421T212947
CREATED:20230207T140551Z
LAST-MODIFIED:20250219T163553Z
UID:10004008-1746873000-1746878400@saintthomaszanesville.org
SUMMARY:First Communion
DESCRIPTION:Celebrated at St Thomas
URL:https://saintthomaszanesville.org/event/first-communion/
LOCATION:St Thomas
END:VEVENT
BEGIN:VEVENT
DTSTART;TZID=America/Detroit:20250510T153000
DTEND;TZID=America/Detroit:20250510T161500
DTSTAMP:20260421T212947
CREATED:20230123T173105Z
LAST-MODIFIED:20260219T153419Z
UID:10003298-1746891000-1746893700@saintthomaszanesville.org
SUMMARY:Confessions
DESCRIPTION:
URL:https://saintthomaszanesville.org/event/confessions/2025-05-10/
LOCATION:St Thomas
CATEGORIES:Confessions
END:VEVENT
BEGIN:VEVENT
DTSTART;TZID=America/Detroit:20250510T163000
DTEND;TZID=America/Detroit:20250510T173000
DTSTAMP:20260421T212947
CREATED:20240626T171342Z
LAST-MODIFIED:20260219T153326Z
UID:10007961-1746894600-1746898200@saintthomaszanesville.org
SUMMARY:Mass
DESCRIPTION:
URL:https://saintthomaszanesville.org/event/mass/2025-05-10/
LOCATION:St Thomas
CATEGORIES:Mass
END:VEVENT
BEGIN:VEVENT
DTSTART;TZID=America/Detroit:20250511T074500
DTEND;TZID=America/Detroit:20250511T084500
DTSTAMP:20260421T212947
CREATED:20240626T174505Z
LAST-MODIFIED:20250917T124608Z
UID:10008765-1746949500-1746953100@saintthomaszanesville.org
SUMMARY:Mass
DESCRIPTION:
URL:https://saintthomaszanesville.org/event/mass-2-2/2025-05-11/
LOCATION:OH
CATEGORIES:Mass
END:VEVENT
BEGIN:VEVENT
DTSTART;TZID=America/Detroit:20250511T094500
DTEND;TZID=America/Detroit:20250511T223000
DTSTAMP:20260421T212947
CREATED:20231026T154327Z
LAST-MODIFIED:20240829T124728Z
UID:10007004-1746956700-1747002600@saintthomaszanesville.org
SUMMARY:Choir Rehearsal
DESCRIPTION:
URL:https://saintthomaszanesville.org/event/choir-rehersal-2/2025-05-11/
LOCATION:Activity Center
CATEGORIES:Choir
END:VEVENT
BEGIN:VEVENT
DTSTART;TZID=America/Detroit:20250511T110000
DTEND;TZID=America/Detroit:20250511T120000
DTSTAMP:20260421T212947
CREATED:20240626T174409Z
LAST-MODIFIED:20241205T172135Z
UID:10009030-1746961200-1746964800@saintthomaszanesville.org
SUMMARY:Mass
DESCRIPTION:
URL:https://saintthomaszanesville.org/event/mass-2/2025-05-11/
LOCATION:OH
CATEGORIES:Mass
END:VEVENT
BEGIN:VEVENT
DTSTART;TZID=America/Detroit:20250513T090000
DTEND;TZID=America/Detroit:20250513T094500
DTSTAMP:20260421T212947
CREATED:20230717T191610Z
LAST-MODIFIED:20260219T151222Z
UID:10005630-1747126800-1747129500@saintthomaszanesville.org
SUMMARY:Mass
DESCRIPTION:
URL:https://saintthomaszanesville.org/event/mass-4/2025-05-13/
LOCATION:St Thomas
CATEGORIES:Mass
END:VEVENT
BEGIN:VEVENT
DTSTART;TZID=America/Detroit:20250514T090000
DTEND;TZID=America/Detroit:20250514T094500
DTSTAMP:20260421T212947
CREATED:20230717T191330Z
LAST-MODIFIED:20251121T143234Z
UID:10005371-1747213200-1747215900@saintthomaszanesville.org
SUMMARY:Mass
DESCRIPTION:
URL:https://saintthomaszanesville.org/event/mass-3/2025-05-14/
LOCATION:St Thomas
CATEGORIES:Mass
END:VEVENT
END:VCALENDAR