BEGIN:VCALENDAR
VERSION:2.0
PRODID:-//Saint Thomas Acquinas Zanesville - ECPv6.15.20//NONSGML v1.0//EN
CALSCALE:GREGORIAN
METHOD:PUBLISH
X-WR-CALNAME:Saint Thomas Acquinas Zanesville
X-ORIGINAL-URL:https://saintthomaszanesville.org
X-WR-CALDESC:Events for Saint Thomas Acquinas Zanesville
REFRESH-INTERVAL;VALUE=DURATION:PT1H
X-Robots-Tag:noindex
X-PUBLISHED-TTL:PT1H
BEGIN:VTIMEZONE
TZID:America/Detroit
BEGIN:DAYLIGHT
TZOFFSETFROM:-0500
TZOFFSETTO:-0400
TZNAME:EDT
DTSTART:20240310T070000
END:DAYLIGHT
BEGIN:STANDARD
TZOFFSETFROM:-0400
TZOFFSETTO:-0500
TZNAME:EST
DTSTART:20241103T060000
END:STANDARD
BEGIN:DAYLIGHT
TZOFFSETFROM:-0500
TZOFFSETTO:-0400
TZNAME:EDT
DTSTART:20250309T070000
END:DAYLIGHT
BEGIN:STANDARD
TZOFFSETFROM:-0400
TZOFFSETTO:-0500
TZNAME:EST
DTSTART:20251102T060000
END:STANDARD
BEGIN:DAYLIGHT
TZOFFSETFROM:-0500
TZOFFSETTO:-0400
TZNAME:EDT
DTSTART:20260308T070000
END:DAYLIGHT
BEGIN:STANDARD
TZOFFSETFROM:-0400
TZOFFSETTO:-0500
TZNAME:EST
DTSTART:20261101T060000
END:STANDARD
END:VTIMEZONE
BEGIN:VEVENT
DTSTART;TZID=America/Detroit:20251102T074500
DTEND;TZID=America/Detroit:20251102T084500
DTSTAMP:20260420T193513
CREATED:20240626T174505Z
LAST-MODIFIED:20250917T124608Z
UID:10008790-1762069500-1762073100@saintthomaszanesville.org
SUMMARY:Mass
DESCRIPTION:
URL:https://saintthomaszanesville.org/event/mass-2-2/2025-11-02/
LOCATION:OH
CATEGORIES:Mass
END:VEVENT
BEGIN:VEVENT
DTSTART;TZID=America/Detroit:20251102T093000
DTEND;TZID=America/Detroit:20251102T103000
DTSTAMP:20260420T193513
CREATED:20250729T124342Z
LAST-MODIFIED:20250729T124342Z
UID:10009832-1762075800-1762079400@saintthomaszanesville.org
SUMMARY:CCD
DESCRIPTION:CCD will begin September 14 and end May 10th\nAll CCD Class start at 9:30am and run until 10:30am\nParent/Adult Fellowship is in the Aquinas Room during this time\nUnless noted\, CCD class dates are business as usual
URL:https://saintthomaszanesville.org/event/ccd/2025-11-02/
LOCATION:Parish Office\, 144 N 5th St\, Zanesville\, OH\, 43701\, United States
CATEGORIES:CCD
END:VEVENT
BEGIN:VEVENT
DTSTART;TZID=America/Detroit:20251102T094500
DTEND;TZID=America/Detroit:20251102T223000
DTSTAMP:20260420T193513
CREATED:20231026T154327Z
LAST-MODIFIED:20240829T124728Z
UID:10007029-1762076700-1762122600@saintthomaszanesville.org
SUMMARY:Choir Rehearsal
DESCRIPTION:
URL:https://saintthomaszanesville.org/event/choir-rehersal-2/2025-11-02/
LOCATION:Activity Center
CATEGORIES:Choir
END:VEVENT
BEGIN:VEVENT
DTSTART;TZID=America/Detroit:20251102T110000
DTEND;TZID=America/Detroit:20251102T120000
DTSTAMP:20260420T193513
CREATED:20240626T174409Z
LAST-MODIFIED:20241205T172135Z
UID:10009055-1762081200-1762084800@saintthomaszanesville.org
SUMMARY:Mass
DESCRIPTION:
URL:https://saintthomaszanesville.org/event/mass-2/2025-11-02/
LOCATION:OH
CATEGORIES:Mass
END:VEVENT
BEGIN:VEVENT
DTSTART;TZID=America/Detroit:20251104T090000
DTEND;TZID=America/Detroit:20251104T094500
DTSTAMP:20260420T193513
CREATED:20230717T191610Z
LAST-MODIFIED:20260219T151222Z
UID:10005655-1762246800-1762249500@saintthomaszanesville.org
SUMMARY:Mass
DESCRIPTION:
URL:https://saintthomaszanesville.org/event/mass-4/2025-11-04/
LOCATION:St Thomas
CATEGORIES:Mass
END:VEVENT
BEGIN:VEVENT
DTSTART;TZID=America/Detroit:20251105T090000
DTEND;TZID=America/Detroit:20251105T094500
DTSTAMP:20260420T193513
CREATED:20230717T191330Z
LAST-MODIFIED:20251121T143234Z
UID:10005396-1762333200-1762335900@saintthomaszanesville.org
SUMMARY:Mass
DESCRIPTION:
URL:https://saintthomaszanesville.org/event/mass-3/2025-11-05/
LOCATION:St Thomas
CATEGORIES:Mass
END:VEVENT
BEGIN:VEVENT
DTSTART;TZID=America/Detroit:20251105T100000
DTEND;TZID=America/Detroit:20251105T210000
DTSTAMP:20260420T193513
CREATED:20231025T130420Z
LAST-MODIFIED:20260219T151646Z
UID:10006431-1762336800-1762376400@saintthomaszanesville.org
SUMMARY:Eucharistic Exposition of the Blessed Sacrement
DESCRIPTION:
URL:https://saintthomaszanesville.org/event/eucharistic-exposition-of-the-blessed-sacrement-2-2/2025-11-05/
LOCATION:St Thomas
CATEGORIES:Eucharist
END:VEVENT
BEGIN:VEVENT
DTSTART;TZID=America/Detroit:20251105T183000
DTEND;TZID=America/Detroit:20251105T200000
DTSTAMP:20260420T193513
CREATED:20250828T134504Z
LAST-MODIFIED:20250828T134534Z
UID:10009930-1762367400-1762372800@saintthomaszanesville.org
SUMMARY:OCIA
DESCRIPTION:Order of Christian Initiation of Adults \nAll Meetings begin at 6:30 p.m. and end roughly at 8 p.m.\nThey are held at the Saint Nicholas Parish Office\, 925 E. Main St.\nYour Contacts for more information:\nPatty Boggs – pboggs@stnickparish.org – 453-0597\nRobert Rodgers – rrodgers@saintthomaszanesville.org – 453- 3301 ext 125
URL:https://saintthomaszanesville.org/event/ocia/2025-11-05/
LOCATION:St Nicholas\, 925 E Main St\, zanesville\, OH\, 43701\, United States
END:VEVENT
BEGIN:VEVENT
DTSTART;TZID=America/Detroit:20251106T090000
DTEND;TZID=America/Detroit:20251106T094500
DTSTAMP:20260420T193513
CREATED:20231025T130315Z
LAST-MODIFIED:20260219T151402Z
UID:10005914-1762419600-1762422300@saintthomaszanesville.org
SUMMARY:Mass
DESCRIPTION:
URL:https://saintthomaszanesville.org/event/mass-5-3/2025-11-06/
LOCATION:St Thomas
CATEGORIES:Mass
END:VEVENT
BEGIN:VEVENT
DTSTART;TZID=America/Detroit:20251107T090000
DTEND;TZID=America/Detroit:20251107T094500
DTSTAMP:20260420T193513
CREATED:20231026T143024Z
LAST-MODIFIED:20260219T151539Z
UID:10006173-1762506000-1762508700@saintthomaszanesville.org
SUMMARY:Mass
DESCRIPTION:
URL:https://saintthomaszanesville.org/event/mass-6-2/2025-11-07/
LOCATION:St Thomas
CATEGORIES:Mass
END:VEVENT
BEGIN:VEVENT
DTSTART;TZID=America/Detroit:20251108T153000
DTEND;TZID=America/Detroit:20251108T161500
DTSTAMP:20260420T193513
CREATED:20230123T173105Z
LAST-MODIFIED:20260219T153419Z
UID:10003324-1762615800-1762618500@saintthomaszanesville.org
SUMMARY:Confessions
DESCRIPTION:
URL:https://saintthomaszanesville.org/event/confessions/2025-11-08/
LOCATION:St Thomas
CATEGORIES:Confessions
END:VEVENT
BEGIN:VEVENT
DTSTART;TZID=America/Detroit:20251108T163000
DTEND;TZID=America/Detroit:20251108T173000
DTSTAMP:20260420T193513
CREATED:20240626T171342Z
LAST-MODIFIED:20260219T153326Z
UID:10007987-1762619400-1762623000@saintthomaszanesville.org
SUMMARY:Mass
DESCRIPTION:
URL:https://saintthomaszanesville.org/event/mass/2025-11-08/
LOCATION:St Thomas
CATEGORIES:Mass
END:VEVENT
BEGIN:VEVENT
DTSTART;TZID=America/Detroit:20251109T074500
DTEND;TZID=America/Detroit:20251109T084500
DTSTAMP:20260420T193513
CREATED:20240626T174505Z
LAST-MODIFIED:20250917T124608Z
UID:10008791-1762674300-1762677900@saintthomaszanesville.org
SUMMARY:Mass
DESCRIPTION:
URL:https://saintthomaszanesville.org/event/mass-2-2/2025-11-09/
LOCATION:OH
CATEGORIES:Mass
END:VEVENT
BEGIN:VEVENT
DTSTART;TZID=America/Detroit:20251109T093000
DTEND;TZID=America/Detroit:20251109T103000
DTSTAMP:20260420T193513
CREATED:20250729T124342Z
LAST-MODIFIED:20250729T124342Z
UID:10009833-1762680600-1762684200@saintthomaszanesville.org
SUMMARY:CCD
DESCRIPTION:CCD will begin September 14 and end May 10th\nAll CCD Class start at 9:30am and run until 10:30am\nParent/Adult Fellowship is in the Aquinas Room during this time\nUnless noted\, CCD class dates are business as usual
URL:https://saintthomaszanesville.org/event/ccd/2025-11-09/
LOCATION:Parish Office\, 144 N 5th St\, Zanesville\, OH\, 43701\, United States
CATEGORIES:CCD
END:VEVENT
BEGIN:VEVENT
DTSTART;TZID=America/Detroit:20251109T094500
DTEND;TZID=America/Detroit:20251109T223000
DTSTAMP:20260420T193513
CREATED:20231026T154327Z
LAST-MODIFIED:20240829T124728Z
UID:10007030-1762681500-1762727400@saintthomaszanesville.org
SUMMARY:Choir Rehearsal
DESCRIPTION:
URL:https://saintthomaszanesville.org/event/choir-rehersal-2/2025-11-09/
LOCATION:Activity Center
CATEGORIES:Choir
END:VEVENT
BEGIN:VEVENT
DTSTART;TZID=America/Detroit:20251109T110000
DTEND;TZID=America/Detroit:20251109T120000
DTSTAMP:20260420T193513
CREATED:20240626T174409Z
LAST-MODIFIED:20241205T172135Z
UID:10009056-1762686000-1762689600@saintthomaszanesville.org
SUMMARY:Mass
DESCRIPTION:
URL:https://saintthomaszanesville.org/event/mass-2/2025-11-09/
LOCATION:OH
CATEGORIES:Mass
END:VEVENT
BEGIN:VEVENT
DTSTART;TZID=America/Detroit:20251109T180000
DTEND;TZID=America/Detroit:20251109T204500
DTSTAMP:20260420T193513
CREATED:20250604T135238Z
LAST-MODIFIED:20250604T135411Z
UID:10009819-1762711200-1762721100@saintthomaszanesville.org
SUMMARY:Catalyst Nights
DESCRIPTION:All events being hosted at St. Thomas Aquinas Activity Center. \nEvent Dates\n● 9/28/25 – Known\n● 10/19/25 – Crucified – Gal 2:20\n● 11/9/25 – New Creations – 2 Cor 5:17\n● 1/18/26 – Love One Another – 1 John 4:7\n● 2/15/26 – Peace – Phil 4:6-7\n● 3/8/26 – Living Stones – 1 Pet 2:5\n● 3/29/26 – Romans 1:16\n● 4/26/26 – Living for Christ
URL:https://saintthomaszanesville.org/event/catalyst-nights-2/2025-11-09/
LOCATION:Activity Center
END:VEVENT
BEGIN:VEVENT
DTSTART;TZID=America/Detroit:20251111T090000
DTEND;TZID=America/Detroit:20251111T094500
DTSTAMP:20260420T193513
CREATED:20230717T191610Z
LAST-MODIFIED:20260219T151222Z
UID:10005656-1762851600-1762854300@saintthomaszanesville.org
SUMMARY:Mass
DESCRIPTION:
URL:https://saintthomaszanesville.org/event/mass-4/2025-11-11/
LOCATION:St Thomas
CATEGORIES:Mass
END:VEVENT
BEGIN:VEVENT
DTSTART;TZID=America/Detroit:20251112T090000
DTEND;TZID=America/Detroit:20251112T094500
DTSTAMP:20260420T193513
CREATED:20230717T191330Z
LAST-MODIFIED:20251121T143234Z
UID:10005397-1762938000-1762940700@saintthomaszanesville.org
SUMMARY:Mass
DESCRIPTION:
URL:https://saintthomaszanesville.org/event/mass-3/2025-11-12/
LOCATION:St Thomas
CATEGORIES:Mass
END:VEVENT
BEGIN:VEVENT
DTSTART;TZID=America/Detroit:20251112T100000
DTEND;TZID=America/Detroit:20251112T210000
DTSTAMP:20260420T193513
CREATED:20231025T130420Z
LAST-MODIFIED:20260219T151646Z
UID:10006432-1762941600-1762981200@saintthomaszanesville.org
SUMMARY:Eucharistic Exposition of the Blessed Sacrement
DESCRIPTION:
URL:https://saintthomaszanesville.org/event/eucharistic-exposition-of-the-blessed-sacrement-2-2/2025-11-12/
LOCATION:St Thomas
CATEGORIES:Eucharist
END:VEVENT
BEGIN:VEVENT
DTSTART;TZID=America/Detroit:20251112T183000
DTEND;TZID=America/Detroit:20251112T200000
DTSTAMP:20260420T193513
CREATED:20250828T134504Z
LAST-MODIFIED:20250828T134534Z
UID:10009931-1762972200-1762977600@saintthomaszanesville.org
SUMMARY:OCIA
DESCRIPTION:Order of Christian Initiation of Adults \nAll Meetings begin at 6:30 p.m. and end roughly at 8 p.m.\nThey are held at the Saint Nicholas Parish Office\, 925 E. Main St.\nYour Contacts for more information:\nPatty Boggs – pboggs@stnickparish.org – 453-0597\nRobert Rodgers – rrodgers@saintthomaszanesville.org – 453- 3301 ext 125
URL:https://saintthomaszanesville.org/event/ocia/2025-11-12/
LOCATION:St Nicholas\, 925 E Main St\, zanesville\, OH\, 43701\, United States
END:VEVENT
BEGIN:VEVENT
DTSTART;TZID=America/Detroit:20251113T090000
DTEND;TZID=America/Detroit:20251113T094500
DTSTAMP:20260420T193513
CREATED:20231025T130315Z
LAST-MODIFIED:20260219T151402Z
UID:10005915-1763024400-1763027100@saintthomaszanesville.org
SUMMARY:Mass
DESCRIPTION:
URL:https://saintthomaszanesville.org/event/mass-5-3/2025-11-13/
LOCATION:St Thomas
CATEGORIES:Mass
END:VEVENT
BEGIN:VEVENT
DTSTART;TZID=America/Detroit:20251114T090000
DTEND;TZID=America/Detroit:20251114T094500
DTSTAMP:20260420T193513
CREATED:20231026T143024Z
LAST-MODIFIED:20260219T151539Z
UID:10006174-1763110800-1763113500@saintthomaszanesville.org
SUMMARY:Mass
DESCRIPTION:
URL:https://saintthomaszanesville.org/event/mass-6-2/2025-11-14/
LOCATION:St Thomas
CATEGORIES:Mass
END:VEVENT
BEGIN:VEVENT
DTSTART;TZID=America/Detroit:20251115T153000
DTEND;TZID=America/Detroit:20251115T161500
DTSTAMP:20260420T193513
CREATED:20230123T173105Z
LAST-MODIFIED:20260219T153419Z
UID:10003325-1763220600-1763223300@saintthomaszanesville.org
SUMMARY:Confessions
DESCRIPTION:
URL:https://saintthomaszanesville.org/event/confessions/2025-11-15/
LOCATION:St Thomas
CATEGORIES:Confessions
END:VEVENT
BEGIN:VEVENT
DTSTART;TZID=America/Detroit:20251115T163000
DTEND;TZID=America/Detroit:20251115T173000
DTSTAMP:20260420T193513
CREATED:20240626T171342Z
LAST-MODIFIED:20260219T153326Z
UID:10007988-1763224200-1763227800@saintthomaszanesville.org
SUMMARY:Mass
DESCRIPTION:
URL:https://saintthomaszanesville.org/event/mass/2025-11-15/
LOCATION:St Thomas
CATEGORIES:Mass
END:VEVENT
BEGIN:VEVENT
DTSTART;TZID=America/Detroit:20251116T074500
DTEND;TZID=America/Detroit:20251116T084500
DTSTAMP:20260420T193513
CREATED:20240626T174505Z
LAST-MODIFIED:20250917T124608Z
UID:10008792-1763279100-1763282700@saintthomaszanesville.org
SUMMARY:Mass
DESCRIPTION:
URL:https://saintthomaszanesville.org/event/mass-2-2/2025-11-16/
LOCATION:OH
CATEGORIES:Mass
END:VEVENT
BEGIN:VEVENT
DTSTART;TZID=America/Detroit:20251116T093000
DTEND;TZID=America/Detroit:20251116T103000
DTSTAMP:20260420T193513
CREATED:20250729T124342Z
LAST-MODIFIED:20250729T124342Z
UID:10009834-1763285400-1763289000@saintthomaszanesville.org
SUMMARY:CCD
DESCRIPTION:CCD will begin September 14 and end May 10th\nAll CCD Class start at 9:30am and run until 10:30am\nParent/Adult Fellowship is in the Aquinas Room during this time\nUnless noted\, CCD class dates are business as usual
URL:https://saintthomaszanesville.org/event/ccd/2025-11-16/
LOCATION:Parish Office\, 144 N 5th St\, Zanesville\, OH\, 43701\, United States
CATEGORIES:CCD
END:VEVENT
BEGIN:VEVENT
DTSTART;TZID=America/Detroit:20251116T094500
DTEND;TZID=America/Detroit:20251116T223000
DTSTAMP:20260420T193513
CREATED:20231026T154327Z
LAST-MODIFIED:20240829T124728Z
UID:10007031-1763286300-1763332200@saintthomaszanesville.org
SUMMARY:Choir Rehearsal
DESCRIPTION:
URL:https://saintthomaszanesville.org/event/choir-rehersal-2/2025-11-16/
LOCATION:Activity Center
CATEGORIES:Choir
END:VEVENT
BEGIN:VEVENT
DTSTART;TZID=America/Detroit:20251116T110000
DTEND;TZID=America/Detroit:20251116T120000
DTSTAMP:20260420T193513
CREATED:20240626T174409Z
LAST-MODIFIED:20241205T172135Z
UID:10009057-1763290800-1763294400@saintthomaszanesville.org
SUMMARY:Mass
DESCRIPTION:
URL:https://saintthomaszanesville.org/event/mass-2/2025-11-16/
LOCATION:OH
CATEGORIES:Mass
END:VEVENT
BEGIN:VEVENT
DTSTART;TZID=America/Detroit:20251118T090000
DTEND;TZID=America/Detroit:20251118T094500
DTSTAMP:20260420T193513
CREATED:20230717T191610Z
LAST-MODIFIED:20260219T151222Z
UID:10005657-1763456400-1763459100@saintthomaszanesville.org
SUMMARY:Mass
DESCRIPTION:
URL:https://saintthomaszanesville.org/event/mass-4/2025-11-18/
LOCATION:St Thomas
CATEGORIES:Mass
END:VEVENT
END:VCALENDAR