BEGIN:VCALENDAR
VERSION:2.0
PRODID:-//Saint Thomas Acquinas Zanesville - ECPv6.15.20//NONSGML v1.0//EN
CALSCALE:GREGORIAN
METHOD:PUBLISH
X-WR-CALNAME:Saint Thomas Acquinas Zanesville
X-ORIGINAL-URL:https://saintthomaszanesville.org
X-WR-CALDESC:Events for Saint Thomas Acquinas Zanesville
REFRESH-INTERVAL;VALUE=DURATION:PT1H
X-Robots-Tag:noindex
X-PUBLISHED-TTL:PT1H
BEGIN:VTIMEZONE
TZID:America/Detroit
BEGIN:DAYLIGHT
TZOFFSETFROM:-0500
TZOFFSETTO:-0400
TZNAME:EDT
DTSTART:20260308T070000
END:DAYLIGHT
BEGIN:STANDARD
TZOFFSETFROM:-0400
TZOFFSETTO:-0500
TZNAME:EST
DTSTART:20261101T060000
END:STANDARD
BEGIN:DAYLIGHT
TZOFFSETFROM:-0500
TZOFFSETTO:-0400
TZNAME:EDT
DTSTART:20270314T070000
END:DAYLIGHT
BEGIN:STANDARD
TZOFFSETFROM:-0400
TZOFFSETTO:-0500
TZNAME:EST
DTSTART:20271107T060000
END:STANDARD
BEGIN:DAYLIGHT
TZOFFSETFROM:-0500
TZOFFSETTO:-0400
TZNAME:EDT
DTSTART:20280312T070000
END:DAYLIGHT
BEGIN:STANDARD
TZOFFSETFROM:-0400
TZOFFSETTO:-0500
TZNAME:EST
DTSTART:20281105T060000
END:STANDARD
END:VTIMEZONE
BEGIN:VEVENT
DTSTART;TZID=America/Detroit:20271031T110000
DTEND;TZID=America/Detroit:20271031T120000
DTSTAMP:20260422T181201
CREATED:20240626T174409Z
LAST-MODIFIED:20241205T172135Z
UID:10009159-1824980400-1824984000@saintthomaszanesville.org
SUMMARY:Mass
DESCRIPTION:
URL:https://saintthomaszanesville.org/event/mass-2/2027-10-31/
LOCATION:OH
CATEGORIES:Mass
END:VEVENT
BEGIN:VEVENT
DTSTART;TZID=America/Detroit:20271031T094500
DTEND;TZID=America/Detroit:20271031T223000
DTSTAMP:20260422T181201
CREATED:20231026T154327Z
LAST-MODIFIED:20240829T124728Z
UID:10007133-1824975900-1825021800@saintthomaszanesville.org
SUMMARY:Choir Rehearsal
DESCRIPTION:
URL:https://saintthomaszanesville.org/event/choir-rehersal-2/2027-10-31/
LOCATION:Activity Center
CATEGORIES:Choir
END:VEVENT
BEGIN:VEVENT
DTSTART;TZID=America/Detroit:20271031T074500
DTEND;TZID=America/Detroit:20271031T084500
DTSTAMP:20260422T181201
CREATED:20240626T174505Z
LAST-MODIFIED:20250917T124608Z
UID:10008894-1824968700-1824972300@saintthomaszanesville.org
SUMMARY:Mass
DESCRIPTION:
URL:https://saintthomaszanesville.org/event/mass-2-2/2027-10-31/
LOCATION:OH
CATEGORIES:Mass
END:VEVENT
BEGIN:VEVENT
DTSTART;TZID=America/Detroit:20271030T163000
DTEND;TZID=America/Detroit:20271030T173000
DTSTAMP:20260422T181201
CREATED:20240626T171342Z
LAST-MODIFIED:20260219T153326Z
UID:10008090-1824913800-1824917400@saintthomaszanesville.org
SUMMARY:Mass
DESCRIPTION:
URL:https://saintthomaszanesville.org/event/mass/2027-10-30/
LOCATION:St Thomas
CATEGORIES:Mass
END:VEVENT
BEGIN:VEVENT
DTSTART;TZID=America/Detroit:20271030T153000
DTEND;TZID=America/Detroit:20271030T161500
DTSTAMP:20260422T181201
CREATED:20230123T173105Z
LAST-MODIFIED:20260219T153419Z
UID:10003427-1824910200-1824912900@saintthomaszanesville.org
SUMMARY:Confessions
DESCRIPTION:
URL:https://saintthomaszanesville.org/event/confessions/2027-10-30/
LOCATION:St Thomas
CATEGORIES:Confessions
END:VEVENT
BEGIN:VEVENT
DTSTART;TZID=America/Detroit:20271029T090000
DTEND;TZID=America/Detroit:20271029T094500
DTSTAMP:20260422T181201
CREATED:20231026T143024Z
LAST-MODIFIED:20260219T151539Z
UID:10006276-1824800400-1824803100@saintthomaszanesville.org
SUMMARY:Mass
DESCRIPTION:
URL:https://saintthomaszanesville.org/event/mass-6-2/2027-10-29/
LOCATION:St Thomas
CATEGORIES:Mass
END:VEVENT
BEGIN:VEVENT
DTSTART;TZID=America/Detroit:20271028T090000
DTEND;TZID=America/Detroit:20271028T094500
DTSTAMP:20260422T181201
CREATED:20231025T130315Z
LAST-MODIFIED:20260219T151402Z
UID:10006017-1824714000-1824716700@saintthomaszanesville.org
SUMMARY:Mass
DESCRIPTION:
URL:https://saintthomaszanesville.org/event/mass-5-3/2027-10-28/
LOCATION:St Thomas
CATEGORIES:Mass
END:VEVENT
BEGIN:VEVENT
DTSTART;TZID=America/Detroit:20271027T100000
DTEND;TZID=America/Detroit:20271027T210000
DTSTAMP:20260422T181201
CREATED:20231025T130420Z
LAST-MODIFIED:20260219T151646Z
UID:10006534-1824631200-1824670800@saintthomaszanesville.org
SUMMARY:Eucharistic Exposition of the Blessed Sacrement
DESCRIPTION:
URL:https://saintthomaszanesville.org/event/eucharistic-exposition-of-the-blessed-sacrement-2-2/2027-10-27/
LOCATION:St Thomas
CATEGORIES:Eucharist
END:VEVENT
BEGIN:VEVENT
DTSTART;TZID=America/Detroit:20271027T090000
DTEND;TZID=America/Detroit:20271027T094500
DTSTAMP:20260422T181201
CREATED:20230717T191330Z
LAST-MODIFIED:20251121T143234Z
UID:10005499-1824627600-1824630300@saintthomaszanesville.org
SUMMARY:Mass
DESCRIPTION:
URL:https://saintthomaszanesville.org/event/mass-3/2027-10-27/
LOCATION:St Thomas
CATEGORIES:Mass
END:VEVENT
BEGIN:VEVENT
DTSTART;TZID=America/Detroit:20271026T090000
DTEND;TZID=America/Detroit:20271026T094500
DTSTAMP:20260422T181201
CREATED:20230717T191610Z
LAST-MODIFIED:20260219T151222Z
UID:10005758-1824541200-1824543900@saintthomaszanesville.org
SUMMARY:Mass
DESCRIPTION:
URL:https://saintthomaszanesville.org/event/mass-4/2027-10-26/
LOCATION:St Thomas
CATEGORIES:Mass
END:VEVENT
BEGIN:VEVENT
DTSTART;TZID=America/Detroit:20271024T110000
DTEND;TZID=America/Detroit:20271024T120000
DTSTAMP:20260422T181201
CREATED:20240626T174409Z
LAST-MODIFIED:20241205T172135Z
UID:10009158-1824375600-1824379200@saintthomaszanesville.org
SUMMARY:Mass
DESCRIPTION:
URL:https://saintthomaszanesville.org/event/mass-2/2027-10-24/
LOCATION:OH
CATEGORIES:Mass
END:VEVENT
BEGIN:VEVENT
DTSTART;TZID=America/Detroit:20271024T094500
DTEND;TZID=America/Detroit:20271024T223000
DTSTAMP:20260422T181201
CREATED:20231026T154327Z
LAST-MODIFIED:20240829T124728Z
UID:10007132-1824371100-1824417000@saintthomaszanesville.org
SUMMARY:Choir Rehearsal
DESCRIPTION:
URL:https://saintthomaszanesville.org/event/choir-rehersal-2/2027-10-24/
LOCATION:Activity Center
CATEGORIES:Choir
END:VEVENT
BEGIN:VEVENT
DTSTART;TZID=America/Detroit:20271024T074500
DTEND;TZID=America/Detroit:20271024T084500
DTSTAMP:20260422T181201
CREATED:20240626T174505Z
LAST-MODIFIED:20250917T124608Z
UID:10008893-1824363900-1824367500@saintthomaszanesville.org
SUMMARY:Mass
DESCRIPTION:
URL:https://saintthomaszanesville.org/event/mass-2-2/2027-10-24/
LOCATION:OH
CATEGORIES:Mass
END:VEVENT
BEGIN:VEVENT
DTSTART;TZID=America/Detroit:20271023T163000
DTEND;TZID=America/Detroit:20271023T173000
DTSTAMP:20260422T181201
CREATED:20240626T171342Z
LAST-MODIFIED:20260219T153326Z
UID:10008089-1824309000-1824312600@saintthomaszanesville.org
SUMMARY:Mass
DESCRIPTION:
URL:https://saintthomaszanesville.org/event/mass/2027-10-23/
LOCATION:St Thomas
CATEGORIES:Mass
END:VEVENT
BEGIN:VEVENT
DTSTART;TZID=America/Detroit:20271023T153000
DTEND;TZID=America/Detroit:20271023T161500
DTSTAMP:20260422T181201
CREATED:20230123T173105Z
LAST-MODIFIED:20260219T153419Z
UID:10003426-1824305400-1824308100@saintthomaszanesville.org
SUMMARY:Confessions
DESCRIPTION:
URL:https://saintthomaszanesville.org/event/confessions/2027-10-23/
LOCATION:St Thomas
CATEGORIES:Confessions
END:VEVENT
BEGIN:VEVENT
DTSTART;TZID=America/Detroit:20271022T090000
DTEND;TZID=America/Detroit:20271022T094500
DTSTAMP:20260422T181201
CREATED:20231026T143024Z
LAST-MODIFIED:20260219T151539Z
UID:10006275-1824195600-1824198300@saintthomaszanesville.org
SUMMARY:Mass
DESCRIPTION:
URL:https://saintthomaszanesville.org/event/mass-6-2/2027-10-22/
LOCATION:St Thomas
CATEGORIES:Mass
END:VEVENT
BEGIN:VEVENT
DTSTART;TZID=America/Detroit:20271021T090000
DTEND;TZID=America/Detroit:20271021T094500
DTSTAMP:20260422T181201
CREATED:20231025T130315Z
LAST-MODIFIED:20260219T151402Z
UID:10006016-1824109200-1824111900@saintthomaszanesville.org
SUMMARY:Mass
DESCRIPTION:
URL:https://saintthomaszanesville.org/event/mass-5-3/2027-10-21/
LOCATION:St Thomas
CATEGORIES:Mass
END:VEVENT
BEGIN:VEVENT
DTSTART;TZID=America/Detroit:20271020T100000
DTEND;TZID=America/Detroit:20271020T210000
DTSTAMP:20260422T181201
CREATED:20231025T130420Z
LAST-MODIFIED:20260219T151646Z
UID:10006533-1824026400-1824066000@saintthomaszanesville.org
SUMMARY:Eucharistic Exposition of the Blessed Sacrement
DESCRIPTION:
URL:https://saintthomaszanesville.org/event/eucharistic-exposition-of-the-blessed-sacrement-2-2/2027-10-20/
LOCATION:St Thomas
CATEGORIES:Eucharist
END:VEVENT
BEGIN:VEVENT
DTSTART;TZID=America/Detroit:20271020T090000
DTEND;TZID=America/Detroit:20271020T094500
DTSTAMP:20260422T181201
CREATED:20230717T191330Z
LAST-MODIFIED:20251121T143234Z
UID:10005498-1824022800-1824025500@saintthomaszanesville.org
SUMMARY:Mass
DESCRIPTION:
URL:https://saintthomaszanesville.org/event/mass-3/2027-10-20/
LOCATION:St Thomas
CATEGORIES:Mass
END:VEVENT
BEGIN:VEVENT
DTSTART;TZID=America/Detroit:20271019T090000
DTEND;TZID=America/Detroit:20271019T094500
DTSTAMP:20260422T181201
CREATED:20230717T191610Z
LAST-MODIFIED:20260219T151222Z
UID:10005757-1823936400-1823939100@saintthomaszanesville.org
SUMMARY:Mass
DESCRIPTION:
URL:https://saintthomaszanesville.org/event/mass-4/2027-10-19/
LOCATION:St Thomas
CATEGORIES:Mass
END:VEVENT
BEGIN:VEVENT
DTSTART;TZID=America/Detroit:20271017T110000
DTEND;TZID=America/Detroit:20271017T120000
DTSTAMP:20260422T181201
CREATED:20240626T174409Z
LAST-MODIFIED:20241205T172135Z
UID:10009157-1823770800-1823774400@saintthomaszanesville.org
SUMMARY:Mass
DESCRIPTION:
URL:https://saintthomaszanesville.org/event/mass-2/2027-10-17/
LOCATION:OH
CATEGORIES:Mass
END:VEVENT
BEGIN:VEVENT
DTSTART;TZID=America/Detroit:20271017T094500
DTEND;TZID=America/Detroit:20271017T223000
DTSTAMP:20260422T181201
CREATED:20231026T154327Z
LAST-MODIFIED:20240829T124728Z
UID:10007131-1823766300-1823812200@saintthomaszanesville.org
SUMMARY:Choir Rehearsal
DESCRIPTION:
URL:https://saintthomaszanesville.org/event/choir-rehersal-2/2027-10-17/
LOCATION:Activity Center
CATEGORIES:Choir
END:VEVENT
BEGIN:VEVENT
DTSTART;TZID=America/Detroit:20271017T074500
DTEND;TZID=America/Detroit:20271017T084500
DTSTAMP:20260422T181201
CREATED:20240626T174505Z
LAST-MODIFIED:20250917T124608Z
UID:10008892-1823759100-1823762700@saintthomaszanesville.org
SUMMARY:Mass
DESCRIPTION:
URL:https://saintthomaszanesville.org/event/mass-2-2/2027-10-17/
LOCATION:OH
CATEGORIES:Mass
END:VEVENT
BEGIN:VEVENT
DTSTART;TZID=America/Detroit:20271016T163000
DTEND;TZID=America/Detroit:20271016T173000
DTSTAMP:20260422T181201
CREATED:20240626T171342Z
LAST-MODIFIED:20260219T153326Z
UID:10008088-1823704200-1823707800@saintthomaszanesville.org
SUMMARY:Mass
DESCRIPTION:
URL:https://saintthomaszanesville.org/event/mass/2027-10-16/
LOCATION:St Thomas
CATEGORIES:Mass
END:VEVENT
BEGIN:VEVENT
DTSTART;TZID=America/Detroit:20271016T153000
DTEND;TZID=America/Detroit:20271016T161500
DTSTAMP:20260422T181201
CREATED:20230123T173105Z
LAST-MODIFIED:20260219T153419Z
UID:10003425-1823700600-1823703300@saintthomaszanesville.org
SUMMARY:Confessions
DESCRIPTION:
URL:https://saintthomaszanesville.org/event/confessions/2027-10-16/
LOCATION:St Thomas
CATEGORIES:Confessions
END:VEVENT
BEGIN:VEVENT
DTSTART;TZID=America/Detroit:20271015T090000
DTEND;TZID=America/Detroit:20271015T094500
DTSTAMP:20260422T181201
CREATED:20231026T143024Z
LAST-MODIFIED:20260219T151539Z
UID:10006274-1823590800-1823593500@saintthomaszanesville.org
SUMMARY:Mass
DESCRIPTION:
URL:https://saintthomaszanesville.org/event/mass-6-2/2027-10-15/
LOCATION:St Thomas
CATEGORIES:Mass
END:VEVENT
BEGIN:VEVENT
DTSTART;TZID=America/Detroit:20271014T090000
DTEND;TZID=America/Detroit:20271014T094500
DTSTAMP:20260422T181201
CREATED:20231025T130315Z
LAST-MODIFIED:20260219T151402Z
UID:10006015-1823504400-1823507100@saintthomaszanesville.org
SUMMARY:Mass
DESCRIPTION:
URL:https://saintthomaszanesville.org/event/mass-5-3/2027-10-14/
LOCATION:St Thomas
CATEGORIES:Mass
END:VEVENT
BEGIN:VEVENT
DTSTART;TZID=America/Detroit:20271013T100000
DTEND;TZID=America/Detroit:20271013T210000
DTSTAMP:20260422T181201
CREATED:20231025T130420Z
LAST-MODIFIED:20260219T151646Z
UID:10006532-1823421600-1823461200@saintthomaszanesville.org
SUMMARY:Eucharistic Exposition of the Blessed Sacrement
DESCRIPTION:
URL:https://saintthomaszanesville.org/event/eucharistic-exposition-of-the-blessed-sacrement-2-2/2027-10-13/
LOCATION:St Thomas
CATEGORIES:Eucharist
END:VEVENT
BEGIN:VEVENT
DTSTART;TZID=America/Detroit:20271013T090000
DTEND;TZID=America/Detroit:20271013T094500
DTSTAMP:20260422T181201
CREATED:20230717T191330Z
LAST-MODIFIED:20251121T143234Z
UID:10005497-1823418000-1823420700@saintthomaszanesville.org
SUMMARY:Mass
DESCRIPTION:
URL:https://saintthomaszanesville.org/event/mass-3/2027-10-13/
LOCATION:St Thomas
CATEGORIES:Mass
END:VEVENT
BEGIN:VEVENT
DTSTART;TZID=America/Detroit:20271012T090000
DTEND;TZID=America/Detroit:20271012T094500
DTSTAMP:20260422T181201
CREATED:20230717T191610Z
LAST-MODIFIED:20260219T151222Z
UID:10005756-1823331600-1823334300@saintthomaszanesville.org
SUMMARY:Mass
DESCRIPTION:
URL:https://saintthomaszanesville.org/event/mass-4/2027-10-12/
LOCATION:St Thomas
CATEGORIES:Mass
END:VEVENT
END:VCALENDAR