BEGIN:VCALENDAR
VERSION:2.0
PRODID:-//Saint Thomas Acquinas Zanesville - ECPv6.15.20//NONSGML v1.0//EN
CALSCALE:GREGORIAN
METHOD:PUBLISH
X-WR-CALNAME:Saint Thomas Acquinas Zanesville
X-ORIGINAL-URL:https://saintthomaszanesville.org
X-WR-CALDESC:Events for Saint Thomas Acquinas Zanesville
REFRESH-INTERVAL;VALUE=DURATION:PT1H
X-Robots-Tag:noindex
X-PUBLISHED-TTL:PT1H
BEGIN:VTIMEZONE
TZID:America/Detroit
BEGIN:DAYLIGHT
TZOFFSETFROM:-0500
TZOFFSETTO:-0400
TZNAME:EDT
DTSTART:20250309T070000
END:DAYLIGHT
BEGIN:STANDARD
TZOFFSETFROM:-0400
TZOFFSETTO:-0500
TZNAME:EST
DTSTART:20251102T060000
END:STANDARD
BEGIN:DAYLIGHT
TZOFFSETFROM:-0500
TZOFFSETTO:-0400
TZNAME:EDT
DTSTART:20260308T070000
END:DAYLIGHT
BEGIN:STANDARD
TZOFFSETFROM:-0400
TZOFFSETTO:-0500
TZNAME:EST
DTSTART:20261101T060000
END:STANDARD
BEGIN:DAYLIGHT
TZOFFSETFROM:-0500
TZOFFSETTO:-0400
TZNAME:EDT
DTSTART:20270314T070000
END:DAYLIGHT
BEGIN:STANDARD
TZOFFSETFROM:-0400
TZOFFSETTO:-0500
TZNAME:EST
DTSTART:20271107T060000
END:STANDARD
END:VTIMEZONE
BEGIN:VEVENT
DTSTART;TZID=America/Detroit:20260310T090000
DTEND;TZID=America/Detroit:20260310T094500
DTSTAMP:20260420T082625
CREATED:20230717T191610Z
LAST-MODIFIED:20260219T151222Z
UID:10005673-1773133200-1773135900@saintthomaszanesville.org
SUMMARY:Mass
DESCRIPTION:
URL:https://saintthomaszanesville.org/event/mass-4/2026-03-10/
LOCATION:St Thomas
CATEGORIES:Mass
END:VEVENT
BEGIN:VEVENT
DTSTART;TZID=America/Detroit:20260308T180000
DTEND;TZID=America/Detroit:20260308T204500
DTSTAMP:20260420T082625
CREATED:20250604T135238Z
LAST-MODIFIED:20250604T135411Z
UID:10009822-1772992800-1773002700@saintthomaszanesville.org
SUMMARY:Catalyst Nights
DESCRIPTION:All events being hosted at St. Thomas Aquinas Activity Center. \nEvent Dates\n● 9/28/25 – Known\n● 10/19/25 – Crucified – Gal 2:20\n● 11/9/25 – New Creations – 2 Cor 5:17\n● 1/18/26 – Love One Another – 1 John 4:7\n● 2/15/26 – Peace – Phil 4:6-7\n● 3/8/26 – Living Stones – 1 Pet 2:5\n● 3/29/26 – Romans 1:16\n● 4/26/26 – Living for Christ
URL:https://saintthomaszanesville.org/event/catalyst-nights-2/2026-03-08/
LOCATION:Activity Center
END:VEVENT
BEGIN:VEVENT
DTSTART;TZID=America/Detroit:20260308T110000
DTEND;TZID=America/Detroit:20260308T120000
DTSTAMP:20260420T082625
CREATED:20240626T174409Z
LAST-MODIFIED:20241205T172135Z
UID:10009073-1772967600-1772971200@saintthomaszanesville.org
SUMMARY:Mass
DESCRIPTION:
URL:https://saintthomaszanesville.org/event/mass-2/2026-03-08/
LOCATION:OH
CATEGORIES:Mass
END:VEVENT
BEGIN:VEVENT
DTSTART;TZID=America/Detroit:20260308T094500
DTEND;TZID=America/Detroit:20260308T223000
DTSTAMP:20260420T082625
CREATED:20231026T154327Z
LAST-MODIFIED:20240829T124728Z
UID:10007047-1772963100-1773009000@saintthomaszanesville.org
SUMMARY:Choir Rehearsal
DESCRIPTION:
URL:https://saintthomaszanesville.org/event/choir-rehersal-2/2026-03-08/
LOCATION:Activity Center
CATEGORIES:Choir
END:VEVENT
BEGIN:VEVENT
DTSTART;TZID=America/Detroit:20260308T093000
DTEND;TZID=America/Detroit:20260308T103000
DTSTAMP:20260420T082625
CREATED:20250729T124342Z
LAST-MODIFIED:20250729T124342Z
UID:10009846-1772962200-1772965800@saintthomaszanesville.org
SUMMARY:CCD
DESCRIPTION:CCD will begin September 14 and end May 10th\nAll CCD Class start at 9:30am and run until 10:30am\nParent/Adult Fellowship is in the Aquinas Room during this time\nUnless noted\, CCD class dates are business as usual
URL:https://saintthomaszanesville.org/event/ccd/2026-03-08/
LOCATION:Parish Office\, 144 N 5th St\, Zanesville\, OH\, 43701\, United States
CATEGORIES:CCD
END:VEVENT
BEGIN:VEVENT
DTSTART;TZID=America/Detroit:20260308T074500
DTEND;TZID=America/Detroit:20260308T084500
DTSTAMP:20260420T082625
CREATED:20240626T174505Z
LAST-MODIFIED:20250917T124608Z
UID:10008808-1772955900-1772959500@saintthomaszanesville.org
SUMMARY:Mass
DESCRIPTION:
URL:https://saintthomaszanesville.org/event/mass-2-2/2026-03-08/
LOCATION:OH
CATEGORIES:Mass
END:VEVENT
BEGIN:VEVENT
DTSTART;TZID=America/Detroit:20260307T163000
DTEND;TZID=America/Detroit:20260307T173000
DTSTAMP:20260420T082625
CREATED:20240626T171342Z
LAST-MODIFIED:20260219T153326Z
UID:10008004-1772901000-1772904600@saintthomaszanesville.org
SUMMARY:Mass
DESCRIPTION:
URL:https://saintthomaszanesville.org/event/mass/2026-03-07/
LOCATION:St Thomas
CATEGORIES:Mass
END:VEVENT
BEGIN:VEVENT
DTSTART;TZID=America/Detroit:20260307T153000
DTEND;TZID=America/Detroit:20260307T161500
DTSTAMP:20260420T082625
CREATED:20230123T173105Z
LAST-MODIFIED:20260219T153419Z
UID:10003341-1772897400-1772900100@saintthomaszanesville.org
SUMMARY:Confessions
DESCRIPTION:
URL:https://saintthomaszanesville.org/event/confessions/2026-03-07/
LOCATION:St Thomas
CATEGORIES:Confessions
END:VEVENT
BEGIN:VEVENT
DTSTART;TZID=America/Detroit:20260306T090000
DTEND;TZID=America/Detroit:20260306T094500
DTSTAMP:20260420T082625
CREATED:20231026T143024Z
LAST-MODIFIED:20260219T151539Z
UID:10006190-1772787600-1772790300@saintthomaszanesville.org
SUMMARY:Mass
DESCRIPTION:
URL:https://saintthomaszanesville.org/event/mass-6-2/2026-03-06/
LOCATION:St Thomas
CATEGORIES:Mass
END:VEVENT
BEGIN:VEVENT
DTSTART;TZID=America/Detroit:20260305T090000
DTEND;TZID=America/Detroit:20260305T094500
DTSTAMP:20260420T082625
CREATED:20231025T130315Z
LAST-MODIFIED:20260219T151402Z
UID:10005931-1772701200-1772703900@saintthomaszanesville.org
SUMMARY:Mass
DESCRIPTION:
URL:https://saintthomaszanesville.org/event/mass-5-3/2026-03-05/
LOCATION:St Thomas
CATEGORIES:Mass
END:VEVENT
BEGIN:VEVENT
DTSTART;TZID=America/Detroit:20260304T183000
DTEND;TZID=America/Detroit:20260304T200000
DTSTAMP:20260420T082625
CREATED:20250828T134504Z
LAST-MODIFIED:20250828T134534Z
UID:10009944-1772649000-1772654400@saintthomaszanesville.org
SUMMARY:OCIA
DESCRIPTION:Order of Christian Initiation of Adults \nAll Meetings begin at 6:30 p.m. and end roughly at 8 p.m.\nThey are held at the Saint Nicholas Parish Office\, 925 E. Main St.\nYour Contacts for more information:\nPatty Boggs – pboggs@stnickparish.org – 453-0597\nRobert Rodgers – rrodgers@saintthomaszanesville.org – 453- 3301 ext 125
URL:https://saintthomaszanesville.org/event/ocia/2026-03-04/
LOCATION:St Nicholas\, 925 E Main St\, zanesville\, OH\, 43701\, United States
END:VEVENT
BEGIN:VEVENT
DTSTART;TZID=America/Detroit:20260304T100000
DTEND;TZID=America/Detroit:20260304T210000
DTSTAMP:20260420T082625
CREATED:20231025T130420Z
LAST-MODIFIED:20260219T151646Z
UID:10006448-1772618400-1772658000@saintthomaszanesville.org
SUMMARY:Eucharistic Exposition of the Blessed Sacrement
DESCRIPTION:
URL:https://saintthomaszanesville.org/event/eucharistic-exposition-of-the-blessed-sacrement-2-2/2026-03-04/
LOCATION:St Thomas
CATEGORIES:Eucharist
END:VEVENT
BEGIN:VEVENT
DTSTART;TZID=America/Detroit:20260304T090000
DTEND;TZID=America/Detroit:20260304T094500
DTSTAMP:20260420T082625
CREATED:20230717T191330Z
LAST-MODIFIED:20251121T143234Z
UID:10005413-1772614800-1772617500@saintthomaszanesville.org
SUMMARY:Mass
DESCRIPTION:
URL:https://saintthomaszanesville.org/event/mass-3/2026-03-04/
LOCATION:St Thomas
CATEGORIES:Mass
END:VEVENT
BEGIN:VEVENT
DTSTART;TZID=America/Detroit:20260303T090000
DTEND;TZID=America/Detroit:20260303T094500
DTSTAMP:20260420T082625
CREATED:20230717T191610Z
LAST-MODIFIED:20260219T151222Z
UID:10005672-1772528400-1772531100@saintthomaszanesville.org
SUMMARY:Mass
DESCRIPTION:
URL:https://saintthomaszanesville.org/event/mass-4/2026-03-03/
LOCATION:St Thomas
CATEGORIES:Mass
END:VEVENT
BEGIN:VEVENT
DTSTART;TZID=America/Detroit:20260301T110000
DTEND;TZID=America/Detroit:20260301T120000
DTSTAMP:20260420T082625
CREATED:20240626T174409Z
LAST-MODIFIED:20241205T172135Z
UID:10009072-1772362800-1772366400@saintthomaszanesville.org
SUMMARY:Mass
DESCRIPTION:
URL:https://saintthomaszanesville.org/event/mass-2/2026-03-01/
LOCATION:OH
CATEGORIES:Mass
END:VEVENT
BEGIN:VEVENT
DTSTART;TZID=America/Detroit:20260301T094500
DTEND;TZID=America/Detroit:20260301T223000
DTSTAMP:20260420T082625
CREATED:20231026T154327Z
LAST-MODIFIED:20240829T124728Z
UID:10007046-1772358300-1772404200@saintthomaszanesville.org
SUMMARY:Choir Rehearsal
DESCRIPTION:
URL:https://saintthomaszanesville.org/event/choir-rehersal-2/2026-03-01/
LOCATION:Activity Center
CATEGORIES:Choir
END:VEVENT
BEGIN:VEVENT
DTSTART;TZID=America/Detroit:20260301T093000
DTEND;TZID=America/Detroit:20260301T103000
DTSTAMP:20260420T082625
CREATED:20250729T124342Z
LAST-MODIFIED:20250729T124342Z
UID:10009845-1772357400-1772361000@saintthomaszanesville.org
SUMMARY:CCD
DESCRIPTION:CCD will begin September 14 and end May 10th\nAll CCD Class start at 9:30am and run until 10:30am\nParent/Adult Fellowship is in the Aquinas Room during this time\nUnless noted\, CCD class dates are business as usual
URL:https://saintthomaszanesville.org/event/ccd/2026-03-01/
LOCATION:Parish Office\, 144 N 5th St\, Zanesville\, OH\, 43701\, United States
CATEGORIES:CCD
END:VEVENT
BEGIN:VEVENT
DTSTART;TZID=America/Detroit:20260301T074500
DTEND;TZID=America/Detroit:20260301T084500
DTSTAMP:20260420T082625
CREATED:20240626T174505Z
LAST-MODIFIED:20250917T124608Z
UID:10008807-1772351100-1772354700@saintthomaszanesville.org
SUMMARY:Mass
DESCRIPTION:
URL:https://saintthomaszanesville.org/event/mass-2-2/2026-03-01/
LOCATION:OH
CATEGORIES:Mass
END:VEVENT
BEGIN:VEVENT
DTSTART;TZID=America/Detroit:20260228T163000
DTEND;TZID=America/Detroit:20260228T173000
DTSTAMP:20260420T082625
CREATED:20240626T171342Z
LAST-MODIFIED:20260219T153326Z
UID:10008003-1772296200-1772299800@saintthomaszanesville.org
SUMMARY:Mass
DESCRIPTION:
URL:https://saintthomaszanesville.org/event/mass/2026-02-28/
LOCATION:St Thomas
CATEGORIES:Mass
END:VEVENT
BEGIN:VEVENT
DTSTART;TZID=America/Detroit:20260228T153000
DTEND;TZID=America/Detroit:20260228T161500
DTSTAMP:20260420T082625
CREATED:20230123T173105Z
LAST-MODIFIED:20260219T153419Z
UID:10003340-1772292600-1772295300@saintthomaszanesville.org
SUMMARY:Confessions
DESCRIPTION:
URL:https://saintthomaszanesville.org/event/confessions/2026-02-28/
LOCATION:St Thomas
CATEGORIES:Confessions
END:VEVENT
BEGIN:VEVENT
DTSTART;TZID=America/Detroit:20260227T090000
DTEND;TZID=America/Detroit:20260227T094500
DTSTAMP:20260420T082625
CREATED:20231026T143024Z
LAST-MODIFIED:20260219T151539Z
UID:10006189-1772182800-1772185500@saintthomaszanesville.org
SUMMARY:Mass
DESCRIPTION:
URL:https://saintthomaszanesville.org/event/mass-6-2/2026-02-27/
LOCATION:St Thomas
CATEGORIES:Mass
END:VEVENT
BEGIN:VEVENT
DTSTART;TZID=America/Detroit:20260226T090000
DTEND;TZID=America/Detroit:20260226T094500
DTSTAMP:20260420T082625
CREATED:20231025T130315Z
LAST-MODIFIED:20260219T151402Z
UID:10005930-1772096400-1772099100@saintthomaszanesville.org
SUMMARY:Mass
DESCRIPTION:
URL:https://saintthomaszanesville.org/event/mass-5-3/2026-02-26/
LOCATION:St Thomas
CATEGORIES:Mass
END:VEVENT
BEGIN:VEVENT
DTSTART;TZID=America/Detroit:20260225T183000
DTEND;TZID=America/Detroit:20260225T200000
DTSTAMP:20260420T082625
CREATED:20250828T134504Z
LAST-MODIFIED:20250828T134534Z
UID:10009943-1772044200-1772049600@saintthomaszanesville.org
SUMMARY:OCIA
DESCRIPTION:Order of Christian Initiation of Adults \nAll Meetings begin at 6:30 p.m. and end roughly at 8 p.m.\nThey are held at the Saint Nicholas Parish Office\, 925 E. Main St.\nYour Contacts for more information:\nPatty Boggs – pboggs@stnickparish.org – 453-0597\nRobert Rodgers – rrodgers@saintthomaszanesville.org – 453- 3301 ext 125
URL:https://saintthomaszanesville.org/event/ocia/2026-02-25/
LOCATION:St Nicholas\, 925 E Main St\, zanesville\, OH\, 43701\, United States
END:VEVENT
BEGIN:VEVENT
DTSTART;TZID=America/Detroit:20260225T100000
DTEND;TZID=America/Detroit:20260225T210000
DTSTAMP:20260420T082625
CREATED:20231025T130420Z
LAST-MODIFIED:20260219T151646Z
UID:10006447-1772013600-1772053200@saintthomaszanesville.org
SUMMARY:Eucharistic Exposition of the Blessed Sacrement
DESCRIPTION:
URL:https://saintthomaszanesville.org/event/eucharistic-exposition-of-the-blessed-sacrement-2-2/2026-02-25/
LOCATION:St Thomas
CATEGORIES:Eucharist
END:VEVENT
BEGIN:VEVENT
DTSTART;TZID=America/Detroit:20260225T090000
DTEND;TZID=America/Detroit:20260225T094500
DTSTAMP:20260420T082625
CREATED:20230717T191330Z
LAST-MODIFIED:20251121T143234Z
UID:10005412-1772010000-1772012700@saintthomaszanesville.org
SUMMARY:Mass
DESCRIPTION:
URL:https://saintthomaszanesville.org/event/mass-3/2026-02-25/
LOCATION:St Thomas
CATEGORIES:Mass
END:VEVENT
BEGIN:VEVENT
DTSTART;TZID=America/Detroit:20260224T090000
DTEND;TZID=America/Detroit:20260224T094500
DTSTAMP:20260420T082625
CREATED:20230717T191610Z
LAST-MODIFIED:20260219T151222Z
UID:10005671-1771923600-1771926300@saintthomaszanesville.org
SUMMARY:Mass
DESCRIPTION:
URL:https://saintthomaszanesville.org/event/mass-4/2026-02-24/
LOCATION:St Thomas
CATEGORIES:Mass
END:VEVENT
BEGIN:VEVENT
DTSTART;TZID=America/Detroit:20260222T110000
DTEND;TZID=America/Detroit:20260222T120000
DTSTAMP:20260420T082625
CREATED:20240626T174409Z
LAST-MODIFIED:20241205T172135Z
UID:10009071-1771758000-1771761600@saintthomaszanesville.org
SUMMARY:Mass
DESCRIPTION:
URL:https://saintthomaszanesville.org/event/mass-2/2026-02-22/
LOCATION:OH
CATEGORIES:Mass
END:VEVENT
BEGIN:VEVENT
DTSTART;TZID=America/Detroit:20260222T094500
DTEND;TZID=America/Detroit:20260222T223000
DTSTAMP:20260420T082625
CREATED:20231026T154327Z
LAST-MODIFIED:20240829T124728Z
UID:10007045-1771753500-1771799400@saintthomaszanesville.org
SUMMARY:Choir Rehearsal
DESCRIPTION:
URL:https://saintthomaszanesville.org/event/choir-rehersal-2/2026-02-22/
LOCATION:Activity Center
CATEGORIES:Choir
END:VEVENT
BEGIN:VEVENT
DTSTART;TZID=America/Detroit:20260222T093000
DTEND;TZID=America/Detroit:20260222T103000
DTSTAMP:20260420T082625
CREATED:20250729T124342Z
LAST-MODIFIED:20250729T124342Z
UID:10009844-1771752600-1771756200@saintthomaszanesville.org
SUMMARY:CCD
DESCRIPTION:CCD will begin September 14 and end May 10th\nAll CCD Class start at 9:30am and run until 10:30am\nParent/Adult Fellowship is in the Aquinas Room during this time\nUnless noted\, CCD class dates are business as usual
URL:https://saintthomaszanesville.org/event/ccd/2026-02-22/
LOCATION:Parish Office\, 144 N 5th St\, Zanesville\, OH\, 43701\, United States
CATEGORIES:CCD
END:VEVENT
BEGIN:VEVENT
DTSTART;TZID=America/Detroit:20260222T074500
DTEND;TZID=America/Detroit:20260222T084500
DTSTAMP:20260420T082625
CREATED:20240626T174505Z
LAST-MODIFIED:20250917T124608Z
UID:10008806-1771746300-1771749900@saintthomaszanesville.org
SUMMARY:Mass
DESCRIPTION:
URL:https://saintthomaszanesville.org/event/mass-2-2/2026-02-22/
LOCATION:OH
CATEGORIES:Mass
END:VEVENT
END:VCALENDAR