BEGIN:VCALENDAR
VERSION:2.0
PRODID:-//Saint Thomas Acquinas Zanesville - ECPv6.15.20//NONSGML v1.0//EN
CALSCALE:GREGORIAN
METHOD:PUBLISH
X-WR-CALNAME:Saint Thomas Acquinas Zanesville
X-ORIGINAL-URL:https://saintthomaszanesville.org
X-WR-CALDESC:Events for Saint Thomas Acquinas Zanesville
REFRESH-INTERVAL;VALUE=DURATION:PT1H
X-Robots-Tag:noindex
X-PUBLISHED-TTL:PT1H
BEGIN:VTIMEZONE
TZID:America/Detroit
BEGIN:DAYLIGHT
TZOFFSETFROM:-0500
TZOFFSETTO:-0400
TZNAME:EDT
DTSTART:20240310T070000
END:DAYLIGHT
BEGIN:STANDARD
TZOFFSETFROM:-0400
TZOFFSETTO:-0500
TZNAME:EST
DTSTART:20241103T060000
END:STANDARD
BEGIN:DAYLIGHT
TZOFFSETFROM:-0500
TZOFFSETTO:-0400
TZNAME:EDT
DTSTART:20250309T070000
END:DAYLIGHT
BEGIN:STANDARD
TZOFFSETFROM:-0400
TZOFFSETTO:-0500
TZNAME:EST
DTSTART:20251102T060000
END:STANDARD
BEGIN:DAYLIGHT
TZOFFSETFROM:-0500
TZOFFSETTO:-0400
TZNAME:EDT
DTSTART:20260308T070000
END:DAYLIGHT
BEGIN:STANDARD
TZOFFSETFROM:-0400
TZOFFSETTO:-0500
TZNAME:EST
DTSTART:20261101T060000
END:STANDARD
END:VTIMEZONE
BEGIN:VEVENT
DTSTART;TZID=America/Detroit:20251204T090000
DTEND;TZID=America/Detroit:20251204T094500
DTSTAMP:20260420T231817
CREATED:20231025T130315Z
LAST-MODIFIED:20260219T151402Z
UID:10005918-1764838800-1764841500@saintthomaszanesville.org
SUMMARY:Mass
DESCRIPTION:
URL:https://saintthomaszanesville.org/event/mass-5-3/2025-12-04/
LOCATION:St Thomas
CATEGORIES:Mass
END:VEVENT
BEGIN:VEVENT
DTSTART;TZID=America/Detroit:20251203T183000
DTEND;TZID=America/Detroit:20251203T200000
DTSTAMP:20260420T231817
CREATED:20250828T134504Z
LAST-MODIFIED:20250828T134534Z
UID:10009933-1764786600-1764792000@saintthomaszanesville.org
SUMMARY:OCIA
DESCRIPTION:Order of Christian Initiation of Adults \nAll Meetings begin at 6:30 p.m. and end roughly at 8 p.m.\nThey are held at the Saint Nicholas Parish Office\, 925 E. Main St.\nYour Contacts for more information:\nPatty Boggs – pboggs@stnickparish.org – 453-0597\nRobert Rodgers – rrodgers@saintthomaszanesville.org – 453- 3301 ext 125
URL:https://saintthomaszanesville.org/event/ocia/2025-12-03/
LOCATION:St Nicholas\, 925 E Main St\, zanesville\, OH\, 43701\, United States
END:VEVENT
BEGIN:VEVENT
DTSTART;TZID=America/Detroit:20251203T100000
DTEND;TZID=America/Detroit:20251203T210000
DTSTAMP:20260420T231817
CREATED:20231025T130420Z
LAST-MODIFIED:20260219T151646Z
UID:10006435-1764756000-1764795600@saintthomaszanesville.org
SUMMARY:Eucharistic Exposition of the Blessed Sacrement
DESCRIPTION:
URL:https://saintthomaszanesville.org/event/eucharistic-exposition-of-the-blessed-sacrement-2-2/2025-12-03/
LOCATION:St Thomas
CATEGORIES:Eucharist
END:VEVENT
BEGIN:VEVENT
DTSTART;TZID=America/Detroit:20251203T090000
DTEND;TZID=America/Detroit:20251203T094500
DTSTAMP:20260420T231817
CREATED:20230717T191330Z
LAST-MODIFIED:20251121T143234Z
UID:10005400-1764752400-1764755100@saintthomaszanesville.org
SUMMARY:Mass
DESCRIPTION:
URL:https://saintthomaszanesville.org/event/mass-3/2025-12-03/
LOCATION:St Thomas
CATEGORIES:Mass
END:VEVENT
BEGIN:VEVENT
DTSTART;TZID=America/Detroit:20251202T090000
DTEND;TZID=America/Detroit:20251202T094500
DTSTAMP:20260420T231817
CREATED:20230717T191610Z
LAST-MODIFIED:20260219T151222Z
UID:10005659-1764666000-1764668700@saintthomaszanesville.org
SUMMARY:Mass
DESCRIPTION:
URL:https://saintthomaszanesville.org/event/mass-4/2025-12-02/
LOCATION:St Thomas
CATEGORIES:Mass
END:VEVENT
BEGIN:VEVENT
DTSTART;TZID=America/Detroit:20251130T180000
DTEND;TZID=America/Detroit:20251130T200000
DTSTAMP:20260420T231817
CREATED:20231025T130810Z
LAST-MODIFIED:20251121T142326Z
UID:10007493-1764525600-1764532800@saintthomaszanesville.org
SUMMARY:Advent Penance Service
DESCRIPTION:Celebrate the Sacrament of Reconciliation as we prepare our hearts and minds for Christmas; several priests will join us to celebrate the Sacrament individually.
URL:https://saintthomaszanesville.org/event/advent-penance-service/
LOCATION:St Nicholas\, 925 E Main St\, zanesville\, OH\, 43701\, United States
CATEGORIES:Confessions
END:VEVENT
BEGIN:VEVENT
DTSTART;TZID=America/Detroit:20251130T110000
DTEND;TZID=America/Detroit:20251130T120000
DTSTAMP:20260420T231817
CREATED:20240626T174409Z
LAST-MODIFIED:20241205T172135Z
UID:10009059-1764500400-1764504000@saintthomaszanesville.org
SUMMARY:Mass
DESCRIPTION:
URL:https://saintthomaszanesville.org/event/mass-2/2025-11-30/
LOCATION:OH
CATEGORIES:Mass
END:VEVENT
BEGIN:VEVENT
DTSTART;TZID=America/Detroit:20251130T094500
DTEND;TZID=America/Detroit:20251130T223000
DTSTAMP:20260420T231817
CREATED:20231026T154327Z
LAST-MODIFIED:20240829T124728Z
UID:10007033-1764495900-1764541800@saintthomaszanesville.org
SUMMARY:Choir Rehearsal
DESCRIPTION:
URL:https://saintthomaszanesville.org/event/choir-rehersal-2/2025-11-30/
LOCATION:Activity Center
CATEGORIES:Choir
END:VEVENT
BEGIN:VEVENT
DTSTART;TZID=America/Detroit:20251130T074500
DTEND;TZID=America/Detroit:20251130T084500
DTSTAMP:20260420T231817
CREATED:20240626T174505Z
LAST-MODIFIED:20250917T124608Z
UID:10008794-1764488700-1764492300@saintthomaszanesville.org
SUMMARY:Mass
DESCRIPTION:
URL:https://saintthomaszanesville.org/event/mass-2-2/2025-11-30/
LOCATION:OH
CATEGORIES:Mass
END:VEVENT
BEGIN:VEVENT
DTSTART;TZID=America/Detroit:20251129T163000
DTEND;TZID=America/Detroit:20251129T173000
DTSTAMP:20260420T231817
CREATED:20240626T171342Z
LAST-MODIFIED:20260219T153326Z
UID:10007990-1764433800-1764437400@saintthomaszanesville.org
SUMMARY:Mass
DESCRIPTION:
URL:https://saintthomaszanesville.org/event/mass/2025-11-29/
LOCATION:St Thomas
CATEGORIES:Mass
END:VEVENT
BEGIN:VEVENT
DTSTART;TZID=America/Detroit:20251129T153000
DTEND;TZID=America/Detroit:20251129T161500
DTSTAMP:20260420T231817
CREATED:20230123T173105Z
LAST-MODIFIED:20260219T153419Z
UID:10003327-1764430200-1764432900@saintthomaszanesville.org
SUMMARY:Confessions
DESCRIPTION:
URL:https://saintthomaszanesville.org/event/confessions/2025-11-29/
LOCATION:St Thomas
CATEGORIES:Confessions
END:VEVENT
BEGIN:VEVENT
DTSTART;TZID=America/Detroit:20251128T090000
DTEND;TZID=America/Detroit:20251128T094500
DTSTAMP:20260420T231817
CREATED:20231026T143024Z
LAST-MODIFIED:20260219T151539Z
UID:10006176-1764320400-1764323100@saintthomaszanesville.org
SUMMARY:Mass
DESCRIPTION:
URL:https://saintthomaszanesville.org/event/mass-6-2/2025-11-28/
LOCATION:St Thomas
CATEGORIES:Mass
END:VEVENT
BEGIN:VEVENT
DTSTART;TZID=America/Detroit:20251127T083000
DTEND;TZID=America/Detroit:20251127T093000
DTSTAMP:20260420T231817
CREATED:20251121T142713Z
LAST-MODIFIED:20251121T142713Z
UID:10010101-1764232200-1764235800@saintthomaszanesville.org
SUMMARY:Thanksgiving Day Mass
DESCRIPTION:
URL:https://saintthomaszanesville.org/event/thanksgiving-day-mass-2/
LOCATION:St Nicholas\, 925 E Main St\, zanesville\, OH\, 43701\, United States
CATEGORIES:Mass
END:VEVENT
BEGIN:VEVENT
DTSTART;TZID=America/Detroit:20251126T090000
DTEND;TZID=America/Detroit:20251126T094500
DTSTAMP:20260420T231817
CREATED:20230717T191330Z
LAST-MODIFIED:20251121T143234Z
UID:10005399-1764147600-1764150300@saintthomaszanesville.org
SUMMARY:Mass
DESCRIPTION:
URL:https://saintthomaszanesville.org/event/mass-3/2025-11-26/
LOCATION:St Thomas
CATEGORIES:Mass
END:VEVENT
BEGIN:VEVENT
DTSTART;TZID=America/Detroit:20251125T090000
DTEND;TZID=America/Detroit:20251125T094500
DTSTAMP:20260420T231817
CREATED:20230717T191610Z
LAST-MODIFIED:20260219T151222Z
UID:10005658-1764061200-1764063900@saintthomaszanesville.org
SUMMARY:Mass
DESCRIPTION:
URL:https://saintthomaszanesville.org/event/mass-4/2025-11-25/
LOCATION:St Thomas
CATEGORIES:Mass
END:VEVENT
BEGIN:VEVENT
DTSTART;TZID=America/Detroit:20251123T110000
DTEND;TZID=America/Detroit:20251123T120000
DTSTAMP:20260420T231817
CREATED:20240626T174409Z
LAST-MODIFIED:20241205T172135Z
UID:10009058-1763895600-1763899200@saintthomaszanesville.org
SUMMARY:Mass
DESCRIPTION:
URL:https://saintthomaszanesville.org/event/mass-2/2025-11-23/
LOCATION:OH
CATEGORIES:Mass
END:VEVENT
BEGIN:VEVENT
DTSTART;TZID=America/Detroit:20251123T094500
DTEND;TZID=America/Detroit:20251123T223000
DTSTAMP:20260420T231817
CREATED:20231026T154327Z
LAST-MODIFIED:20240829T124728Z
UID:10007032-1763891100-1763937000@saintthomaszanesville.org
SUMMARY:Choir Rehearsal
DESCRIPTION:
URL:https://saintthomaszanesville.org/event/choir-rehersal-2/2025-11-23/
LOCATION:Activity Center
CATEGORIES:Choir
END:VEVENT
BEGIN:VEVENT
DTSTART;TZID=America/Detroit:20251123T093000
DTEND;TZID=America/Detroit:20251123T103000
DTSTAMP:20260420T231817
CREATED:20250729T124342Z
LAST-MODIFIED:20250729T124342Z
UID:10009835-1763890200-1763893800@saintthomaszanesville.org
SUMMARY:CCD
DESCRIPTION:CCD will begin September 14 and end May 10th\nAll CCD Class start at 9:30am and run until 10:30am\nParent/Adult Fellowship is in the Aquinas Room during this time\nUnless noted\, CCD class dates are business as usual
URL:https://saintthomaszanesville.org/event/ccd/2025-11-23/
LOCATION:Parish Office\, 144 N 5th St\, Zanesville\, OH\, 43701\, United States
CATEGORIES:CCD
END:VEVENT
BEGIN:VEVENT
DTSTART;TZID=America/Detroit:20251123T074500
DTEND;TZID=America/Detroit:20251123T084500
DTSTAMP:20260420T231817
CREATED:20240626T174505Z
LAST-MODIFIED:20250917T124608Z
UID:10008793-1763883900-1763887500@saintthomaszanesville.org
SUMMARY:Mass
DESCRIPTION:
URL:https://saintthomaszanesville.org/event/mass-2-2/2025-11-23/
LOCATION:OH
CATEGORIES:Mass
END:VEVENT
BEGIN:VEVENT
DTSTART;TZID=America/Detroit:20251122T163000
DTEND;TZID=America/Detroit:20251122T173000
DTSTAMP:20260420T231817
CREATED:20240626T171342Z
LAST-MODIFIED:20260219T153326Z
UID:10007989-1763829000-1763832600@saintthomaszanesville.org
SUMMARY:Mass
DESCRIPTION:
URL:https://saintthomaszanesville.org/event/mass/2025-11-22/
LOCATION:St Thomas
CATEGORIES:Mass
END:VEVENT
BEGIN:VEVENT
DTSTART;TZID=America/Detroit:20251122T153000
DTEND;TZID=America/Detroit:20251122T161500
DTSTAMP:20260420T231817
CREATED:20230123T173105Z
LAST-MODIFIED:20260219T153419Z
UID:10003326-1763825400-1763828100@saintthomaszanesville.org
SUMMARY:Confessions
DESCRIPTION:
URL:https://saintthomaszanesville.org/event/confessions/2025-11-22/
LOCATION:St Thomas
CATEGORIES:Confessions
END:VEVENT
BEGIN:VEVENT
DTSTART;TZID=America/Detroit:20251121T090000
DTEND;TZID=America/Detroit:20251121T094500
DTSTAMP:20260420T231817
CREATED:20231026T143024Z
LAST-MODIFIED:20260219T151539Z
UID:10006175-1763715600-1763718300@saintthomaszanesville.org
SUMMARY:Mass
DESCRIPTION:
URL:https://saintthomaszanesville.org/event/mass-6-2/2025-11-21/
LOCATION:St Thomas
CATEGORIES:Mass
END:VEVENT
BEGIN:VEVENT
DTSTART;TZID=America/Detroit:20251120T090000
DTEND;TZID=America/Detroit:20251120T094500
DTSTAMP:20260420T231817
CREATED:20231025T130315Z
LAST-MODIFIED:20260219T151402Z
UID:10005916-1763629200-1763631900@saintthomaszanesville.org
SUMMARY:Mass
DESCRIPTION:
URL:https://saintthomaszanesville.org/event/mass-5-3/2025-11-20/
LOCATION:St Thomas
CATEGORIES:Mass
END:VEVENT
BEGIN:VEVENT
DTSTART;TZID=America/Detroit:20251119T183000
DTEND;TZID=America/Detroit:20251119T200000
DTSTAMP:20260420T231817
CREATED:20250828T134504Z
LAST-MODIFIED:20250828T134534Z
UID:10009932-1763577000-1763582400@saintthomaszanesville.org
SUMMARY:OCIA
DESCRIPTION:Order of Christian Initiation of Adults \nAll Meetings begin at 6:30 p.m. and end roughly at 8 p.m.\nThey are held at the Saint Nicholas Parish Office\, 925 E. Main St.\nYour Contacts for more information:\nPatty Boggs – pboggs@stnickparish.org – 453-0597\nRobert Rodgers – rrodgers@saintthomaszanesville.org – 453- 3301 ext 125
URL:https://saintthomaszanesville.org/event/ocia/2025-11-19/
LOCATION:St Nicholas\, 925 E Main St\, zanesville\, OH\, 43701\, United States
END:VEVENT
BEGIN:VEVENT
DTSTART;TZID=America/Detroit:20251119T100000
DTEND;TZID=America/Detroit:20251119T210000
DTSTAMP:20260420T231817
CREATED:20231025T130420Z
LAST-MODIFIED:20260219T151646Z
UID:10006433-1763546400-1763586000@saintthomaszanesville.org
SUMMARY:Eucharistic Exposition of the Blessed Sacrement
DESCRIPTION:
URL:https://saintthomaszanesville.org/event/eucharistic-exposition-of-the-blessed-sacrement-2-2/2025-11-19/
LOCATION:St Thomas
CATEGORIES:Eucharist
END:VEVENT
BEGIN:VEVENT
DTSTART;TZID=America/Detroit:20251119T090000
DTEND;TZID=America/Detroit:20251119T094500
DTSTAMP:20260420T231817
CREATED:20230717T191330Z
LAST-MODIFIED:20251121T143234Z
UID:10005398-1763542800-1763545500@saintthomaszanesville.org
SUMMARY:Mass
DESCRIPTION:
URL:https://saintthomaszanesville.org/event/mass-3/2025-11-19/
LOCATION:St Thomas
CATEGORIES:Mass
END:VEVENT
BEGIN:VEVENT
DTSTART;TZID=America/Detroit:20251118T190000
DTEND;TZID=America/Detroit:20251118T203000
DTSTAMP:20260420T231817
CREATED:20241205T191700Z
LAST-MODIFIED:20241205T191700Z
UID:10009724-1763492400-1763497800@saintthomaszanesville.org
SUMMARY:Baptism Prep Class
DESCRIPTION:Families seeking to get their children baptized will need to attend a baptism prep class. The class will only be held if someone is pre-registered. Please do not show up without pre-registering for the class.  The meetings typically last 1.5 hours and will be held at St. Nicholas Parish Office. To register please contact the St. Nicholas Parish Office at 740-453-0597.
URL:https://saintthomaszanesville.org/event/baptism-prep-class-3/2025-11-18/
LOCATION:St Nicholas\, 925 E Main St\, zanesville\, OH\, 43701\, United States
END:VEVENT
BEGIN:VEVENT
DTSTART;TZID=America/Detroit:20251118T090000
DTEND;TZID=America/Detroit:20251118T094500
DTSTAMP:20260420T231817
CREATED:20230717T191610Z
LAST-MODIFIED:20260219T151222Z
UID:10005657-1763456400-1763459100@saintthomaszanesville.org
SUMMARY:Mass
DESCRIPTION:
URL:https://saintthomaszanesville.org/event/mass-4/2025-11-18/
LOCATION:St Thomas
CATEGORIES:Mass
END:VEVENT
BEGIN:VEVENT
DTSTART;TZID=America/Detroit:20251116T110000
DTEND;TZID=America/Detroit:20251116T120000
DTSTAMP:20260420T231817
CREATED:20240626T174409Z
LAST-MODIFIED:20241205T172135Z
UID:10009057-1763290800-1763294400@saintthomaszanesville.org
SUMMARY:Mass
DESCRIPTION:
URL:https://saintthomaszanesville.org/event/mass-2/2025-11-16/
LOCATION:OH
CATEGORIES:Mass
END:VEVENT
BEGIN:VEVENT
DTSTART;TZID=America/Detroit:20251116T094500
DTEND;TZID=America/Detroit:20251116T223000
DTSTAMP:20260420T231817
CREATED:20231026T154327Z
LAST-MODIFIED:20240829T124728Z
UID:10007031-1763286300-1763332200@saintthomaszanesville.org
SUMMARY:Choir Rehearsal
DESCRIPTION:
URL:https://saintthomaszanesville.org/event/choir-rehersal-2/2025-11-16/
LOCATION:Activity Center
CATEGORIES:Choir
END:VEVENT
END:VCALENDAR