BEGIN:VCALENDAR
VERSION:2.0
PRODID:-//Saint Thomas Acquinas Zanesville - ECPv6.15.20//NONSGML v1.0//EN
CALSCALE:GREGORIAN
METHOD:PUBLISH
X-WR-CALNAME:Saint Thomas Acquinas Zanesville
X-ORIGINAL-URL:https://saintthomaszanesville.org
X-WR-CALDESC:Events for Saint Thomas Acquinas Zanesville
REFRESH-INTERVAL;VALUE=DURATION:PT1H
X-Robots-Tag:noindex
X-PUBLISHED-TTL:PT1H
BEGIN:VTIMEZONE
TZID:America/Detroit
BEGIN:DAYLIGHT
TZOFFSETFROM:-0500
TZOFFSETTO:-0400
TZNAME:EDT
DTSTART:20240310T070000
END:DAYLIGHT
BEGIN:STANDARD
TZOFFSETFROM:-0400
TZOFFSETTO:-0500
TZNAME:EST
DTSTART:20241103T060000
END:STANDARD
BEGIN:DAYLIGHT
TZOFFSETFROM:-0500
TZOFFSETTO:-0400
TZNAME:EDT
DTSTART:20250309T070000
END:DAYLIGHT
BEGIN:STANDARD
TZOFFSETFROM:-0400
TZOFFSETTO:-0500
TZNAME:EST
DTSTART:20251102T060000
END:STANDARD
BEGIN:DAYLIGHT
TZOFFSETFROM:-0500
TZOFFSETTO:-0400
TZNAME:EDT
DTSTART:20260308T070000
END:DAYLIGHT
BEGIN:STANDARD
TZOFFSETFROM:-0400
TZOFFSETTO:-0500
TZNAME:EST
DTSTART:20261101T060000
END:STANDARD
END:VTIMEZONE
BEGIN:VEVENT
DTSTART;TZID=America/Detroit:20250209T110000
DTEND;TZID=America/Detroit:20250209T120000
DTSTAMP:20260422T175915
CREATED:20240626T174409Z
LAST-MODIFIED:20241205T172135Z
UID:10009017-1739098800-1739102400@saintthomaszanesville.org
SUMMARY:Mass
DESCRIPTION:
URL:https://saintthomaszanesville.org/event/mass-2/2025-02-09/
LOCATION:OH
CATEGORIES:Mass
END:VEVENT
BEGIN:VEVENT
DTSTART;TZID=America/Detroit:20250209T094500
DTEND;TZID=America/Detroit:20250209T223000
DTSTAMP:20260422T175915
CREATED:20231026T154327Z
LAST-MODIFIED:20240829T124728Z
UID:10006991-1739094300-1739140200@saintthomaszanesville.org
SUMMARY:Choir Rehearsal
DESCRIPTION:
URL:https://saintthomaszanesville.org/event/choir-rehersal-2/2025-02-09/
LOCATION:Activity Center
CATEGORIES:Choir
END:VEVENT
BEGIN:VEVENT
DTSTART;TZID=America/Detroit:20250209T074500
DTEND;TZID=America/Detroit:20250209T084500
DTSTAMP:20260422T175915
CREATED:20240626T174505Z
LAST-MODIFIED:20250917T124608Z
UID:10008752-1739087100-1739090700@saintthomaszanesville.org
SUMMARY:Mass
DESCRIPTION:
URL:https://saintthomaszanesville.org/event/mass-2-2/2025-02-09/
LOCATION:OH
CATEGORIES:Mass
END:VEVENT
BEGIN:VEVENT
DTSTART;TZID=America/Detroit:20250208T163000
DTEND;TZID=America/Detroit:20250208T173000
DTSTAMP:20260422T175915
CREATED:20240626T171342Z
LAST-MODIFIED:20260219T153326Z
UID:10007948-1739032200-1739035800@saintthomaszanesville.org
SUMMARY:Mass
DESCRIPTION:
URL:https://saintthomaszanesville.org/event/mass/2025-02-08/
LOCATION:St Thomas
CATEGORIES:Mass
END:VEVENT
BEGIN:VEVENT
DTSTART;TZID=America/Detroit:20250208T153000
DTEND;TZID=America/Detroit:20250208T161500
DTSTAMP:20260422T175915
CREATED:20230123T173105Z
LAST-MODIFIED:20260219T153419Z
UID:10003285-1739028600-1739031300@saintthomaszanesville.org
SUMMARY:Confessions
DESCRIPTION:
URL:https://saintthomaszanesville.org/event/confessions/2025-02-08/
LOCATION:St Thomas
CATEGORIES:Confessions
END:VEVENT
BEGIN:VEVENT
DTSTART;TZID=America/Detroit:20250207T090000
DTEND;TZID=America/Detroit:20250207T094500
DTSTAMP:20260422T175915
CREATED:20231026T143024Z
LAST-MODIFIED:20260219T151539Z
UID:10006134-1738918800-1738921500@saintthomaszanesville.org
SUMMARY:Mass
DESCRIPTION:
URL:https://saintthomaszanesville.org/event/mass-6-2/2025-02-07/
LOCATION:St Thomas
CATEGORIES:Mass
END:VEVENT
BEGIN:VEVENT
DTSTART;TZID=America/Detroit:20250206T090000
DTEND;TZID=America/Detroit:20250206T094500
DTSTAMP:20260422T175915
CREATED:20231025T130315Z
LAST-MODIFIED:20260219T151402Z
UID:10005875-1738832400-1738835100@saintthomaszanesville.org
SUMMARY:Mass
DESCRIPTION:
URL:https://saintthomaszanesville.org/event/mass-5-3/2025-02-06/
LOCATION:St Thomas
CATEGORIES:Mass
END:VEVENT
BEGIN:VEVENT
DTSTART;TZID=America/Detroit:20250205T100000
DTEND;TZID=America/Detroit:20250205T210000
DTSTAMP:20260422T175915
CREATED:20231025T130420Z
LAST-MODIFIED:20260219T151646Z
UID:10006392-1738749600-1738789200@saintthomaszanesville.org
SUMMARY:Eucharistic Exposition of the Blessed Sacrement
DESCRIPTION:
URL:https://saintthomaszanesville.org/event/eucharistic-exposition-of-the-blessed-sacrement-2-2/2025-02-05/
LOCATION:St Thomas
CATEGORIES:Eucharist
END:VEVENT
BEGIN:VEVENT
DTSTART;TZID=America/Detroit:20250205T090000
DTEND;TZID=America/Detroit:20250205T094500
DTSTAMP:20260422T175915
CREATED:20230717T191330Z
LAST-MODIFIED:20251121T143234Z
UID:10005357-1738746000-1738748700@saintthomaszanesville.org
SUMMARY:Mass
DESCRIPTION:
URL:https://saintthomaszanesville.org/event/mass-3/2025-02-05/
LOCATION:St Thomas
CATEGORIES:Mass
END:VEVENT
BEGIN:VEVENT
DTSTART;TZID=America/Detroit:20250204T090000
DTEND;TZID=America/Detroit:20250204T094500
DTSTAMP:20260422T175915
CREATED:20230717T191610Z
LAST-MODIFIED:20260219T151222Z
UID:10005616-1738659600-1738662300@saintthomaszanesville.org
SUMMARY:Mass
DESCRIPTION:
URL:https://saintthomaszanesville.org/event/mass-4/2025-02-04/
LOCATION:St Thomas
CATEGORIES:Mass
END:VEVENT
BEGIN:VEVENT
DTSTART;TZID=America/Detroit:20250202T180000
DTEND;TZID=America/Detroit:20250202T203000
DTSTAMP:20260422T175915
CREATED:20240724T171039Z
LAST-MODIFIED:20240724T171039Z
UID:10009252-1738519200-1738528200@saintthomaszanesville.org
SUMMARY:Catalyst Nights
DESCRIPTION:
URL:https://saintthomaszanesville.org/event/catalyst-nights/2025-02-02/
LOCATION:Activity Center
CATEGORIES:CCD
END:VEVENT
BEGIN:VEVENT
DTSTART;TZID=America/Detroit:20250202T110000
DTEND;TZID=America/Detroit:20250202T120000
DTSTAMP:20260422T175915
CREATED:20240626T174409Z
LAST-MODIFIED:20241205T172135Z
UID:10009016-1738494000-1738497600@saintthomaszanesville.org
SUMMARY:Mass
DESCRIPTION:
URL:https://saintthomaszanesville.org/event/mass-2/2025-02-02/
LOCATION:OH
CATEGORIES:Mass
END:VEVENT
BEGIN:VEVENT
DTSTART;TZID=America/Detroit:20250202T094500
DTEND;TZID=America/Detroit:20250202T223000
DTSTAMP:20260422T175915
CREATED:20231026T154327Z
LAST-MODIFIED:20240829T124728Z
UID:10006990-1738489500-1738535400@saintthomaszanesville.org
SUMMARY:Choir Rehearsal
DESCRIPTION:
URL:https://saintthomaszanesville.org/event/choir-rehersal-2/2025-02-02/
LOCATION:Activity Center
CATEGORIES:Choir
END:VEVENT
BEGIN:VEVENT
DTSTART;TZID=America/Detroit:20250202T074500
DTEND;TZID=America/Detroit:20250202T084500
DTSTAMP:20260422T175915
CREATED:20240626T174505Z
LAST-MODIFIED:20250917T124608Z
UID:10008751-1738482300-1738485900@saintthomaszanesville.org
SUMMARY:Mass
DESCRIPTION:
URL:https://saintthomaszanesville.org/event/mass-2-2/2025-02-02/
LOCATION:OH
CATEGORIES:Mass
END:VEVENT
BEGIN:VEVENT
DTSTART;TZID=America/Detroit:20250201T163000
DTEND;TZID=America/Detroit:20250201T173000
DTSTAMP:20260422T175915
CREATED:20240626T171342Z
LAST-MODIFIED:20260219T153326Z
UID:10007947-1738427400-1738431000@saintthomaszanesville.org
SUMMARY:Mass
DESCRIPTION:
URL:https://saintthomaszanesville.org/event/mass/2025-02-01/
LOCATION:St Thomas
CATEGORIES:Mass
END:VEVENT
BEGIN:VEVENT
DTSTART;TZID=America/Detroit:20250201T153000
DTEND;TZID=America/Detroit:20250201T161500
DTSTAMP:20260422T175915
CREATED:20230123T173105Z
LAST-MODIFIED:20260219T153419Z
UID:10003284-1738423800-1738426500@saintthomaszanesville.org
SUMMARY:Confessions
DESCRIPTION:
URL:https://saintthomaszanesville.org/event/confessions/2025-02-01/
LOCATION:St Thomas
CATEGORIES:Confessions
END:VEVENT
BEGIN:VEVENT
DTSTART;TZID=America/Detroit:20250131T090000
DTEND;TZID=America/Detroit:20250131T094500
DTSTAMP:20260422T175915
CREATED:20231026T143024Z
LAST-MODIFIED:20260219T151539Z
UID:10006133-1738314000-1738316700@saintthomaszanesville.org
SUMMARY:Mass
DESCRIPTION:
URL:https://saintthomaszanesville.org/event/mass-6-2/2025-01-31/
LOCATION:St Thomas
CATEGORIES:Mass
END:VEVENT
BEGIN:VEVENT
DTSTART;TZID=America/Detroit:20250130T090000
DTEND;TZID=America/Detroit:20250130T094500
DTSTAMP:20260422T175915
CREATED:20231025T130315Z
LAST-MODIFIED:20260219T151402Z
UID:10005874-1738227600-1738230300@saintthomaszanesville.org
SUMMARY:Mass
DESCRIPTION:
URL:https://saintthomaszanesville.org/event/mass-5-3/2025-01-30/
LOCATION:St Thomas
CATEGORIES:Mass
END:VEVENT
BEGIN:VEVENT
DTSTART;TZID=America/Detroit:20250129T100000
DTEND;TZID=America/Detroit:20250129T210000
DTSTAMP:20260422T175915
CREATED:20231025T130420Z
LAST-MODIFIED:20260219T151646Z
UID:10006391-1738144800-1738184400@saintthomaszanesville.org
SUMMARY:Eucharistic Exposition of the Blessed Sacrement
DESCRIPTION:
URL:https://saintthomaszanesville.org/event/eucharistic-exposition-of-the-blessed-sacrement-2-2/2025-01-29/
LOCATION:St Thomas
CATEGORIES:Eucharist
END:VEVENT
BEGIN:VEVENT
DTSTART;TZID=America/Detroit:20250129T090000
DTEND;TZID=America/Detroit:20250129T094500
DTSTAMP:20260422T175915
CREATED:20230717T191330Z
LAST-MODIFIED:20251121T143234Z
UID:10005356-1738141200-1738143900@saintthomaszanesville.org
SUMMARY:Mass
DESCRIPTION:
URL:https://saintthomaszanesville.org/event/mass-3/2025-01-29/
LOCATION:St Thomas
CATEGORIES:Mass
END:VEVENT
BEGIN:VEVENT
DTSTART;TZID=America/Detroit:20250128T183000
DTEND;TZID=America/Detroit:20250128T200000
DTSTAMP:20260422T175915
CREATED:20241205T191700Z
LAST-MODIFIED:20241205T191700Z
UID:10009719-1738089000-1738094400@saintthomaszanesville.org
SUMMARY:Baptism Prep Class
DESCRIPTION:Families seeking to get their children baptized will need to attend a baptism prep class. The class will only be held if someone is pre-registered. Please do not show up without pre-registering for the class.  The meetings typically last 1.5 hours and will be held at St. Nicholas Parish Office. To register please contact the St. Nicholas Parish Office at 740-453-0597.
URL:https://saintthomaszanesville.org/event/baptism-prep-class-3/2025-01-28/
LOCATION:St Nicholas\, 925 E Main St\, zanesville\, OH\, 43701\, United States
END:VEVENT
BEGIN:VEVENT
DTSTART;TZID=America/Detroit:20250128T090000
DTEND;TZID=America/Detroit:20250128T094500
DTSTAMP:20260422T175915
CREATED:20230717T191610Z
LAST-MODIFIED:20260219T151222Z
UID:10005615-1738054800-1738057500@saintthomaszanesville.org
SUMMARY:Mass
DESCRIPTION:
URL:https://saintthomaszanesville.org/event/mass-4/2025-01-28/
LOCATION:St Thomas
CATEGORIES:Mass
END:VEVENT
BEGIN:VEVENT
DTSTART;TZID=America/Detroit:20250126T110000
DTEND;TZID=America/Detroit:20250126T120000
DTSTAMP:20260422T175915
CREATED:20240626T174409Z
LAST-MODIFIED:20241205T172135Z
UID:10009015-1737889200-1737892800@saintthomaszanesville.org
SUMMARY:Mass
DESCRIPTION:
URL:https://saintthomaszanesville.org/event/mass-2/2025-01-26/
LOCATION:OH
CATEGORIES:Mass
END:VEVENT
BEGIN:VEVENT
DTSTART;TZID=America/Detroit:20250126T094500
DTEND;TZID=America/Detroit:20250126T223000
DTSTAMP:20260422T175915
CREATED:20231026T154327Z
LAST-MODIFIED:20240829T124728Z
UID:10006989-1737884700-1737930600@saintthomaszanesville.org
SUMMARY:Choir Rehearsal
DESCRIPTION:
URL:https://saintthomaszanesville.org/event/choir-rehersal-2/2025-01-26/
LOCATION:Activity Center
CATEGORIES:Choir
END:VEVENT
BEGIN:VEVENT
DTSTART;TZID=America/Detroit:20250126T074500
DTEND;TZID=America/Detroit:20250126T084500
DTSTAMP:20260422T175915
CREATED:20240626T174505Z
LAST-MODIFIED:20250917T124608Z
UID:10008750-1737877500-1737881100@saintthomaszanesville.org
SUMMARY:Mass
DESCRIPTION:
URL:https://saintthomaszanesville.org/event/mass-2-2/2025-01-26/
LOCATION:OH
CATEGORIES:Mass
END:VEVENT
BEGIN:VEVENT
DTSTART;TZID=America/Detroit:20250125T163000
DTEND;TZID=America/Detroit:20250125T173000
DTSTAMP:20260422T175915
CREATED:20240626T171342Z
LAST-MODIFIED:20260219T153326Z
UID:10007946-1737822600-1737826200@saintthomaszanesville.org
SUMMARY:Mass
DESCRIPTION:
URL:https://saintthomaszanesville.org/event/mass/2025-01-25/
LOCATION:St Thomas
CATEGORIES:Mass
END:VEVENT
BEGIN:VEVENT
DTSTART;TZID=America/Detroit:20250125T153000
DTEND;TZID=America/Detroit:20250125T161500
DTSTAMP:20260422T175915
CREATED:20230123T173105Z
LAST-MODIFIED:20260219T153419Z
UID:10003283-1737819000-1737821700@saintthomaszanesville.org
SUMMARY:Confessions
DESCRIPTION:
URL:https://saintthomaszanesville.org/event/confessions/2025-01-25/
LOCATION:St Thomas
CATEGORIES:Confessions
END:VEVENT
BEGIN:VEVENT
DTSTART;TZID=America/Detroit:20250124T090000
DTEND;TZID=America/Detroit:20250124T094500
DTSTAMP:20260422T175915
CREATED:20231026T143024Z
LAST-MODIFIED:20260219T151539Z
UID:10006132-1737709200-1737711900@saintthomaszanesville.org
SUMMARY:Mass
DESCRIPTION:
URL:https://saintthomaszanesville.org/event/mass-6-2/2025-01-24/
LOCATION:St Thomas
CATEGORIES:Mass
END:VEVENT
BEGIN:VEVENT
DTSTART;TZID=America/Detroit:20250123T090000
DTEND;TZID=America/Detroit:20250123T094500
DTSTAMP:20260422T175915
CREATED:20231025T130315Z
LAST-MODIFIED:20260219T151402Z
UID:10005873-1737622800-1737625500@saintthomaszanesville.org
SUMMARY:Mass
DESCRIPTION:
URL:https://saintthomaszanesville.org/event/mass-5-3/2025-01-23/
LOCATION:St Thomas
CATEGORIES:Mass
END:VEVENT
BEGIN:VEVENT
DTSTART;TZID=America/Detroit:20250122T100000
DTEND;TZID=America/Detroit:20250122T210000
DTSTAMP:20260422T175915
CREATED:20231025T130420Z
LAST-MODIFIED:20260219T151646Z
UID:10006390-1737540000-1737579600@saintthomaszanesville.org
SUMMARY:Eucharistic Exposition of the Blessed Sacrement
DESCRIPTION:
URL:https://saintthomaszanesville.org/event/eucharistic-exposition-of-the-blessed-sacrement-2-2/2025-01-22/
LOCATION:St Thomas
CATEGORIES:Eucharist
END:VEVENT
END:VCALENDAR