BEGIN:VCALENDAR
VERSION:2.0
PRODID:-//Saint Thomas Acquinas Zanesville - ECPv6.15.20//NONSGML v1.0//EN
CALSCALE:GREGORIAN
METHOD:PUBLISH
X-WR-CALNAME:Saint Thomas Acquinas Zanesville
X-ORIGINAL-URL:https://saintthomaszanesville.org
X-WR-CALDESC:Events for Saint Thomas Acquinas Zanesville
REFRESH-INTERVAL;VALUE=DURATION:PT1H
X-Robots-Tag:noindex
X-PUBLISHED-TTL:PT1H
BEGIN:VTIMEZONE
TZID:America/Detroit
BEGIN:DAYLIGHT
TZOFFSETFROM:-0500
TZOFFSETTO:-0400
TZNAME:EDT
DTSTART:20230312T070000
END:DAYLIGHT
BEGIN:STANDARD
TZOFFSETFROM:-0400
TZOFFSETTO:-0500
TZNAME:EST
DTSTART:20231105T060000
END:STANDARD
BEGIN:DAYLIGHT
TZOFFSETFROM:-0500
TZOFFSETTO:-0400
TZNAME:EDT
DTSTART:20240310T070000
END:DAYLIGHT
BEGIN:STANDARD
TZOFFSETFROM:-0400
TZOFFSETTO:-0500
TZNAME:EST
DTSTART:20241103T060000
END:STANDARD
BEGIN:DAYLIGHT
TZOFFSETFROM:-0500
TZOFFSETTO:-0400
TZNAME:EDT
DTSTART:20250309T070000
END:DAYLIGHT
BEGIN:STANDARD
TZOFFSETFROM:-0400
TZOFFSETTO:-0500
TZNAME:EST
DTSTART:20251102T060000
END:STANDARD
END:VTIMEZONE
BEGIN:VEVENT
DTSTART;TZID=America/Detroit:20241107T090000
DTEND;TZID=America/Detroit:20241107T094500
DTSTAMP:20260422T184600
CREATED:20231025T130315Z
LAST-MODIFIED:20260219T151402Z
UID:10005862-1730970000-1730972700@saintthomaszanesville.org
SUMMARY:Mass
DESCRIPTION:
URL:https://saintthomaszanesville.org/event/mass-5-3/2024-11-07/
LOCATION:St Thomas
CATEGORIES:Mass
END:VEVENT
BEGIN:VEVENT
DTSTART;TZID=America/Detroit:20241106T100000
DTEND;TZID=America/Detroit:20241106T210000
DTSTAMP:20260422T184600
CREATED:20231025T130420Z
LAST-MODIFIED:20260219T151646Z
UID:10006379-1730887200-1730926800@saintthomaszanesville.org
SUMMARY:Eucharistic Exposition of the Blessed Sacrement
DESCRIPTION:
URL:https://saintthomaszanesville.org/event/eucharistic-exposition-of-the-blessed-sacrement-2-2/2024-11-06/
LOCATION:St Thomas
CATEGORIES:Eucharist
END:VEVENT
BEGIN:VEVENT
DTSTART;TZID=America/Detroit:20241106T090000
DTEND;TZID=America/Detroit:20241106T094500
DTSTAMP:20260422T184600
CREATED:20230717T191330Z
LAST-MODIFIED:20251121T143234Z
UID:10005344-1730883600-1730886300@saintthomaszanesville.org
SUMMARY:Mass
DESCRIPTION:
URL:https://saintthomaszanesville.org/event/mass-3/2024-11-06/
LOCATION:St Thomas
CATEGORIES:Mass
END:VEVENT
BEGIN:VEVENT
DTSTART;TZID=America/Detroit:20241105T090000
DTEND;TZID=America/Detroit:20241105T094500
DTSTAMP:20260422T184600
CREATED:20230717T191610Z
LAST-MODIFIED:20260219T151222Z
UID:10005603-1730797200-1730799900@saintthomaszanesville.org
SUMMARY:Mass
DESCRIPTION:
URL:https://saintthomaszanesville.org/event/mass-4/2024-11-05/
LOCATION:St Thomas
CATEGORIES:Mass
END:VEVENT
BEGIN:VEVENT
DTSTART;TZID=America/Detroit:20241103T110000
DTEND;TZID=America/Detroit:20241103T120000
DTSTAMP:20260422T184600
CREATED:20240626T174409Z
LAST-MODIFIED:20241205T172135Z
UID:10009003-1730631600-1730635200@saintthomaszanesville.org
SUMMARY:Mass
DESCRIPTION:
URL:https://saintthomaszanesville.org/event/mass-2/2024-11-03/
LOCATION:OH
CATEGORIES:Mass
END:VEVENT
BEGIN:VEVENT
DTSTART;TZID=America/Detroit:20241103T094500
DTEND;TZID=America/Detroit:20241103T223000
DTSTAMP:20260422T184600
CREATED:20231026T154327Z
LAST-MODIFIED:20240829T124728Z
UID:10006977-1730627100-1730673000@saintthomaszanesville.org
SUMMARY:Choir Rehearsal
DESCRIPTION:
URL:https://saintthomaszanesville.org/event/choir-rehersal-2/2024-11-03/
LOCATION:Activity Center
CATEGORIES:Choir
END:VEVENT
BEGIN:VEVENT
DTSTART;TZID=America/Detroit:20241103T074500
DTEND;TZID=America/Detroit:20241103T084500
DTSTAMP:20260422T184600
CREATED:20240626T174505Z
LAST-MODIFIED:20250917T124608Z
UID:10008738-1730619900-1730623500@saintthomaszanesville.org
SUMMARY:Mass
DESCRIPTION:
URL:https://saintthomaszanesville.org/event/mass-2-2/2024-11-03/
LOCATION:OH
CATEGORIES:Mass
END:VEVENT
BEGIN:VEVENT
DTSTART;TZID=America/Detroit:20241102T163000
DTEND;TZID=America/Detroit:20241102T173000
DTSTAMP:20260422T184600
CREATED:20240626T171342Z
LAST-MODIFIED:20260219T153326Z
UID:10007934-1730565000-1730568600@saintthomaszanesville.org
SUMMARY:Mass
DESCRIPTION:
URL:https://saintthomaszanesville.org/event/mass/2024-11-02/
LOCATION:St Thomas
CATEGORIES:Mass
END:VEVENT
BEGIN:VEVENT
DTSTART;TZID=America/Detroit:20241102T153000
DTEND;TZID=America/Detroit:20241102T161500
DTSTAMP:20260422T184600
CREATED:20230123T173105Z
LAST-MODIFIED:20260219T153419Z
UID:10003271-1730561400-1730564100@saintthomaszanesville.org
SUMMARY:Confessions
DESCRIPTION:
URL:https://saintthomaszanesville.org/event/confessions/2024-11-02/
LOCATION:St Thomas
CATEGORIES:Confessions
END:VEVENT
BEGIN:VEVENT
DTSTART;TZID=America/Detroit:20241102T100000
DTEND;TZID=America/Detroit:20241102T110000
DTSTAMP:20260422T184600
CREATED:20241021T162551Z
LAST-MODIFIED:20241021T162551Z
UID:10009413-1730541600-1730545200@saintthomaszanesville.org
SUMMARY:All Souls Day Mass
DESCRIPTION:
URL:https://saintthomaszanesville.org/event/all-souls-day-mass/
LOCATION:OH
CATEGORIES:Mass
END:VEVENT
BEGIN:VEVENT
DTSTART;TZID=America/Detroit:20241101T180000
DTEND;TZID=America/Detroit:20241101T190000
DTSTAMP:20260422T184600
CREATED:20241021T162302Z
LAST-MODIFIED:20241021T162302Z
UID:10009412-1730484000-1730487600@saintthomaszanesville.org
SUMMARY:All Saints Day Mass
DESCRIPTION:
URL:https://saintthomaszanesville.org/event/all-saints-day-mass/
LOCATION:OH
CATEGORIES:Mass
END:VEVENT
BEGIN:VEVENT
DTSTART;TZID=America/Detroit:20241031T180000
DTEND;TZID=America/Detroit:20241031T190000
DTSTAMP:20260422T184600
CREATED:20241021T162215Z
LAST-MODIFIED:20241021T162215Z
UID:10009411-1730397600-1730401200@saintthomaszanesville.org
SUMMARY:All Saints Day Vigil Mass
DESCRIPTION:
URL:https://saintthomaszanesville.org/event/all-saints-day-vigil-mass/
LOCATION:OH
CATEGORIES:Mass
END:VEVENT
BEGIN:VEVENT
DTSTART;TZID=America/Detroit:20241031T090000
DTEND;TZID=America/Detroit:20241031T094500
DTSTAMP:20260422T184600
CREATED:20231025T130315Z
LAST-MODIFIED:20260219T151402Z
UID:10005861-1730365200-1730367900@saintthomaszanesville.org
SUMMARY:Mass
DESCRIPTION:
URL:https://saintthomaszanesville.org/event/mass-5-3/2024-10-31/
LOCATION:St Thomas
CATEGORIES:Mass
END:VEVENT
BEGIN:VEVENT
DTSTART;TZID=America/Detroit:20241030T100000
DTEND;TZID=America/Detroit:20241030T210000
DTSTAMP:20260422T184600
CREATED:20231025T130420Z
LAST-MODIFIED:20260219T151646Z
UID:10006378-1730282400-1730322000@saintthomaszanesville.org
SUMMARY:Eucharistic Exposition of the Blessed Sacrement
DESCRIPTION:
URL:https://saintthomaszanesville.org/event/eucharistic-exposition-of-the-blessed-sacrement-2-2/2024-10-30/
LOCATION:St Thomas
CATEGORIES:Eucharist
END:VEVENT
BEGIN:VEVENT
DTSTART;TZID=America/Detroit:20241030T090000
DTEND;TZID=America/Detroit:20241030T094500
DTSTAMP:20260422T184600
CREATED:20230717T191330Z
LAST-MODIFIED:20251121T143234Z
UID:10005343-1730278800-1730281500@saintthomaszanesville.org
SUMMARY:Mass
DESCRIPTION:
URL:https://saintthomaszanesville.org/event/mass-3/2024-10-30/
LOCATION:St Thomas
CATEGORIES:Mass
END:VEVENT
BEGIN:VEVENT
DTSTART;TZID=America/Detroit:20241029T090000
DTEND;TZID=America/Detroit:20241029T094500
DTSTAMP:20260422T184600
CREATED:20230717T191610Z
LAST-MODIFIED:20260219T151222Z
UID:10005602-1730192400-1730195100@saintthomaszanesville.org
SUMMARY:Mass
DESCRIPTION:
URL:https://saintthomaszanesville.org/event/mass-4/2024-10-29/
LOCATION:St Thomas
CATEGORIES:Mass
END:VEVENT
BEGIN:VEVENT
DTSTART;TZID=America/Detroit:20241027T110000
DTEND;TZID=America/Detroit:20241027T120000
DTSTAMP:20260422T184600
CREATED:20240626T174409Z
LAST-MODIFIED:20241205T172135Z
UID:10009002-1730026800-1730030400@saintthomaszanesville.org
SUMMARY:Mass
DESCRIPTION:
URL:https://saintthomaszanesville.org/event/mass-2/2024-10-27/
LOCATION:OH
CATEGORIES:Mass
END:VEVENT
BEGIN:VEVENT
DTSTART;TZID=America/Detroit:20241027T094500
DTEND;TZID=America/Detroit:20241027T223000
DTSTAMP:20260422T184600
CREATED:20231026T154327Z
LAST-MODIFIED:20240829T124728Z
UID:10006976-1730022300-1730068200@saintthomaszanesville.org
SUMMARY:Choir Rehearsal
DESCRIPTION:
URL:https://saintthomaszanesville.org/event/choir-rehersal-2/2024-10-27/
LOCATION:Activity Center
CATEGORIES:Choir
END:VEVENT
BEGIN:VEVENT
DTSTART;TZID=America/Detroit:20241027T074500
DTEND;TZID=America/Detroit:20241027T084500
DTSTAMP:20260422T184600
CREATED:20240626T174505Z
LAST-MODIFIED:20250917T124608Z
UID:10008737-1730015100-1730018700@saintthomaszanesville.org
SUMMARY:Mass
DESCRIPTION:
URL:https://saintthomaszanesville.org/event/mass-2-2/2024-10-27/
LOCATION:OH
CATEGORIES:Mass
END:VEVENT
BEGIN:VEVENT
DTSTART;TZID=America/Detroit:20241026T163000
DTEND;TZID=America/Detroit:20241026T173000
DTSTAMP:20260422T184600
CREATED:20240626T171342Z
LAST-MODIFIED:20260219T153326Z
UID:10007933-1729960200-1729963800@saintthomaszanesville.org
SUMMARY:Mass
DESCRIPTION:
URL:https://saintthomaszanesville.org/event/mass/2024-10-26/
LOCATION:St Thomas
CATEGORIES:Mass
END:VEVENT
BEGIN:VEVENT
DTSTART;TZID=America/Detroit:20241026T153000
DTEND;TZID=America/Detroit:20241026T161500
DTSTAMP:20260422T184600
CREATED:20230123T173105Z
LAST-MODIFIED:20260219T153419Z
UID:10003270-1729956600-1729959300@saintthomaszanesville.org
SUMMARY:Confessions
DESCRIPTION:
URL:https://saintthomaszanesville.org/event/confessions/2024-10-26/
LOCATION:St Thomas
CATEGORIES:Confessions
END:VEVENT
BEGIN:VEVENT
DTSTART;TZID=America/Detroit:20241025T090000
DTEND;TZID=America/Detroit:20241025T094500
DTSTAMP:20260422T184600
CREATED:20231026T143024Z
LAST-MODIFIED:20260219T151539Z
UID:10006119-1729846800-1729849500@saintthomaszanesville.org
SUMMARY:Mass
DESCRIPTION:
URL:https://saintthomaszanesville.org/event/mass-6-2/2024-10-25/
LOCATION:St Thomas
CATEGORIES:Mass
END:VEVENT
BEGIN:VEVENT
DTSTART;TZID=America/Detroit:20241024T090000
DTEND;TZID=America/Detroit:20241024T094500
DTSTAMP:20260422T184600
CREATED:20231025T130315Z
LAST-MODIFIED:20260219T151402Z
UID:10005860-1729760400-1729763100@saintthomaszanesville.org
SUMMARY:Mass
DESCRIPTION:
URL:https://saintthomaszanesville.org/event/mass-5-3/2024-10-24/
LOCATION:St Thomas
CATEGORIES:Mass
END:VEVENT
BEGIN:VEVENT
DTSTART;TZID=America/Detroit:20241023T100000
DTEND;TZID=America/Detroit:20241023T210000
DTSTAMP:20260422T184600
CREATED:20231025T130420Z
LAST-MODIFIED:20260219T151646Z
UID:10006377-1729677600-1729717200@saintthomaszanesville.org
SUMMARY:Eucharistic Exposition of the Blessed Sacrement
DESCRIPTION:
URL:https://saintthomaszanesville.org/event/eucharistic-exposition-of-the-blessed-sacrement-2-2/2024-10-23/
LOCATION:St Thomas
CATEGORIES:Eucharist
END:VEVENT
BEGIN:VEVENT
DTSTART;TZID=America/Detroit:20241023T090000
DTEND;TZID=America/Detroit:20241023T094500
DTSTAMP:20260422T184600
CREATED:20230717T191330Z
LAST-MODIFIED:20251121T143234Z
UID:10005342-1729674000-1729676700@saintthomaszanesville.org
SUMMARY:Mass
DESCRIPTION:
URL:https://saintthomaszanesville.org/event/mass-3/2024-10-23/
LOCATION:St Thomas
CATEGORIES:Mass
END:VEVENT
BEGIN:VEVENT
DTSTART;TZID=America/Detroit:20241022T090000
DTEND;TZID=America/Detroit:20241022T094500
DTSTAMP:20260422T184600
CREATED:20230717T191610Z
LAST-MODIFIED:20260219T151222Z
UID:10005601-1729587600-1729590300@saintthomaszanesville.org
SUMMARY:Mass
DESCRIPTION:
URL:https://saintthomaszanesville.org/event/mass-4/2024-10-22/
LOCATION:St Thomas
CATEGORIES:Mass
END:VEVENT
BEGIN:VEVENT
DTSTART;TZID=America/Detroit:20241020T110000
DTEND;TZID=America/Detroit:20241020T120000
DTSTAMP:20260422T184600
CREATED:20240626T174409Z
LAST-MODIFIED:20241205T172135Z
UID:10009001-1729422000-1729425600@saintthomaszanesville.org
SUMMARY:Mass
DESCRIPTION:
URL:https://saintthomaszanesville.org/event/mass-2/2024-10-20/
LOCATION:OH
CATEGORIES:Mass
END:VEVENT
BEGIN:VEVENT
DTSTART;TZID=America/Detroit:20241020T094500
DTEND;TZID=America/Detroit:20241020T223000
DTSTAMP:20260422T184600
CREATED:20231026T154327Z
LAST-MODIFIED:20240829T124728Z
UID:10006975-1729417500-1729463400@saintthomaszanesville.org
SUMMARY:Choir Rehearsal
DESCRIPTION:
URL:https://saintthomaszanesville.org/event/choir-rehersal-2/2024-10-20/
LOCATION:Activity Center
CATEGORIES:Choir
END:VEVENT
BEGIN:VEVENT
DTSTART;TZID=America/Detroit:20241020T074500
DTEND;TZID=America/Detroit:20241020T084500
DTSTAMP:20260422T184600
CREATED:20240626T174505Z
LAST-MODIFIED:20250917T124608Z
UID:10008736-1729410300-1729413900@saintthomaszanesville.org
SUMMARY:Mass
DESCRIPTION:
URL:https://saintthomaszanesville.org/event/mass-2-2/2024-10-20/
LOCATION:OH
CATEGORIES:Mass
END:VEVENT
BEGIN:VEVENT
DTSTART;TZID=America/Detroit:20241019T163000
DTEND;TZID=America/Detroit:20241019T173000
DTSTAMP:20260422T184601
CREATED:20240626T171342Z
LAST-MODIFIED:20260219T153326Z
UID:10007932-1729355400-1729359000@saintthomaszanesville.org
SUMMARY:Mass
DESCRIPTION:
URL:https://saintthomaszanesville.org/event/mass/2024-10-19/
LOCATION:St Thomas
CATEGORIES:Mass
END:VEVENT
END:VCALENDAR