BEGIN:VCALENDAR
VERSION:2.0
PRODID:-//Saint Thomas Acquinas Zanesville - ECPv6.15.20//NONSGML v1.0//EN
CALSCALE:GREGORIAN
METHOD:PUBLISH
X-WR-CALNAME:Saint Thomas Acquinas Zanesville
X-ORIGINAL-URL:https://saintthomaszanesville.org
X-WR-CALDESC:Events for Saint Thomas Acquinas Zanesville
REFRESH-INTERVAL;VALUE=DURATION:PT1H
X-Robots-Tag:noindex
X-PUBLISHED-TTL:PT1H
BEGIN:VTIMEZONE
TZID:America/Detroit
BEGIN:DAYLIGHT
TZOFFSETFROM:-0500
TZOFFSETTO:-0400
TZNAME:EDT
DTSTART:20270314T070000
END:DAYLIGHT
BEGIN:STANDARD
TZOFFSETFROM:-0400
TZOFFSETTO:-0500
TZNAME:EST
DTSTART:20271107T060000
END:STANDARD
BEGIN:DAYLIGHT
TZOFFSETFROM:-0500
TZOFFSETTO:-0400
TZNAME:EDT
DTSTART:20280312T070000
END:DAYLIGHT
BEGIN:STANDARD
TZOFFSETFROM:-0400
TZOFFSETTO:-0500
TZNAME:EST
DTSTART:20281105T060000
END:STANDARD
BEGIN:DAYLIGHT
TZOFFSETFROM:-0500
TZOFFSETTO:-0400
TZNAME:EDT
DTSTART:20290311T070000
END:DAYLIGHT
BEGIN:STANDARD
TZOFFSETFROM:-0400
TZOFFSETTO:-0500
TZNAME:EST
DTSTART:20291104T060000
END:STANDARD
END:VTIMEZONE
BEGIN:VEVENT
DTSTART;TZID=America/Detroit:20280329T090000
DTEND;TZID=America/Detroit:20280329T094500
DTSTAMP:20260423T044841
CREATED:20230717T191330Z
LAST-MODIFIED:20251121T143234Z
UID:10005521-1837933200-1837935900@saintthomaszanesville.org
SUMMARY:Mass
DESCRIPTION:
URL:https://saintthomaszanesville.org/event/mass-3/2028-03-29/
LOCATION:St Thomas
CATEGORIES:Mass
END:VEVENT
BEGIN:VEVENT
DTSTART;TZID=America/Detroit:20280330T090000
DTEND;TZID=America/Detroit:20280330T094500
DTSTAMP:20260423T044841
CREATED:20231025T130315Z
LAST-MODIFIED:20260219T151402Z
UID:10006039-1838019600-1838022300@saintthomaszanesville.org
SUMMARY:Mass
DESCRIPTION:
URL:https://saintthomaszanesville.org/event/mass-5-3/2028-03-30/
LOCATION:St Thomas
CATEGORIES:Mass
END:VEVENT
BEGIN:VEVENT
DTSTART;TZID=America/Detroit:20280331T090000
DTEND;TZID=America/Detroit:20280331T094500
DTSTAMP:20260423T044841
CREATED:20231026T143024Z
LAST-MODIFIED:20260219T151539Z
UID:10006298-1838106000-1838108700@saintthomaszanesville.org
SUMMARY:Mass
DESCRIPTION:
URL:https://saintthomaszanesville.org/event/mass-6-2/2028-03-31/
LOCATION:St Thomas
CATEGORIES:Mass
END:VEVENT
BEGIN:VEVENT
DTSTART;TZID=America/Detroit:20280401T163000
DTEND;TZID=America/Detroit:20280401T173000
DTSTAMP:20260423T044841
CREATED:20240626T171342Z
LAST-MODIFIED:20260219T153326Z
UID:10008112-1838219400-1838223000@saintthomaszanesville.org
SUMMARY:Mass
DESCRIPTION:
URL:https://saintthomaszanesville.org/event/mass/2028-04-01/
LOCATION:St Thomas
CATEGORIES:Mass
END:VEVENT
BEGIN:VEVENT
DTSTART;TZID=America/Detroit:20280402T074500
DTEND;TZID=America/Detroit:20280402T084500
DTSTAMP:20260423T044841
CREATED:20240626T174505Z
LAST-MODIFIED:20250917T124608Z
UID:10008916-1838274300-1838277900@saintthomaszanesville.org
SUMMARY:Mass
DESCRIPTION:
URL:https://saintthomaszanesville.org/event/mass-2-2/2028-04-02/
CATEGORIES:Mass
END:VEVENT
BEGIN:VEVENT
DTSTART;TZID=America/Detroit:20280402T110000
DTEND;TZID=America/Detroit:20280402T120000
DTSTAMP:20260423T044841
CREATED:20240626T174409Z
LAST-MODIFIED:20241205T172135Z
UID:10009181-1838286000-1838289600@saintthomaszanesville.org
SUMMARY:Mass
DESCRIPTION:
URL:https://saintthomaszanesville.org/event/mass-2/2028-04-02/
CATEGORIES:Mass
END:VEVENT
BEGIN:VEVENT
DTSTART;TZID=America/Detroit:20280404T090000
DTEND;TZID=America/Detroit:20280404T094500
DTSTAMP:20260423T044841
CREATED:20230717T191610Z
LAST-MODIFIED:20260219T151222Z
UID:10005781-1838451600-1838454300@saintthomaszanesville.org
SUMMARY:Mass
DESCRIPTION:
URL:https://saintthomaszanesville.org/event/mass-4/2028-04-04/
LOCATION:St Thomas
CATEGORIES:Mass
END:VEVENT
BEGIN:VEVENT
DTSTART;TZID=America/Detroit:20280405T090000
DTEND;TZID=America/Detroit:20280405T094500
DTSTAMP:20260423T044841
CREATED:20230717T191330Z
LAST-MODIFIED:20251121T143234Z
UID:10005522-1838538000-1838540700@saintthomaszanesville.org
SUMMARY:Mass
DESCRIPTION:
URL:https://saintthomaszanesville.org/event/mass-3/2028-04-05/
LOCATION:St Thomas
CATEGORIES:Mass
END:VEVENT
BEGIN:VEVENT
DTSTART;TZID=America/Detroit:20280406T090000
DTEND;TZID=America/Detroit:20280406T094500
DTSTAMP:20260423T044841
CREATED:20231025T130315Z
LAST-MODIFIED:20260219T151402Z
UID:10006040-1838624400-1838627100@saintthomaszanesville.org
SUMMARY:Mass
DESCRIPTION:
URL:https://saintthomaszanesville.org/event/mass-5-3/2028-04-06/
LOCATION:St Thomas
CATEGORIES:Mass
END:VEVENT
BEGIN:VEVENT
DTSTART;TZID=America/Detroit:20280407T090000
DTEND;TZID=America/Detroit:20280407T094500
DTSTAMP:20260423T044841
CREATED:20231026T143024Z
LAST-MODIFIED:20260219T151539Z
UID:10006299-1838710800-1838713500@saintthomaszanesville.org
SUMMARY:Mass
DESCRIPTION:
URL:https://saintthomaszanesville.org/event/mass-6-2/2028-04-07/
LOCATION:St Thomas
CATEGORIES:Mass
END:VEVENT
BEGIN:VEVENT
DTSTART;TZID=America/Detroit:20280408T163000
DTEND;TZID=America/Detroit:20280408T173000
DTSTAMP:20260423T044841
CREATED:20240626T171342Z
LAST-MODIFIED:20260219T153326Z
UID:10008113-1838824200-1838827800@saintthomaszanesville.org
SUMMARY:Mass
DESCRIPTION:
URL:https://saintthomaszanesville.org/event/mass/2028-04-08/
LOCATION:St Thomas
CATEGORIES:Mass
END:VEVENT
BEGIN:VEVENT
DTSTART;TZID=America/Detroit:20280409T074500
DTEND;TZID=America/Detroit:20280409T084500
DTSTAMP:20260423T044841
CREATED:20240626T174505Z
LAST-MODIFIED:20250917T124608Z
UID:10008917-1838879100-1838882700@saintthomaszanesville.org
SUMMARY:Mass
DESCRIPTION:
URL:https://saintthomaszanesville.org/event/mass-2-2/2028-04-09/
CATEGORIES:Mass
END:VEVENT
BEGIN:VEVENT
DTSTART;TZID=America/Detroit:20280409T110000
DTEND;TZID=America/Detroit:20280409T120000
DTSTAMP:20260423T044841
CREATED:20240626T174409Z
LAST-MODIFIED:20241205T172135Z
UID:10009182-1838890800-1838894400@saintthomaszanesville.org
SUMMARY:Mass
DESCRIPTION:
URL:https://saintthomaszanesville.org/event/mass-2/2028-04-09/
CATEGORIES:Mass
END:VEVENT
BEGIN:VEVENT
DTSTART;TZID=America/Detroit:20280411T090000
DTEND;TZID=America/Detroit:20280411T094500
DTSTAMP:20260423T044841
CREATED:20230717T191610Z
LAST-MODIFIED:20260219T151222Z
UID:10005782-1839056400-1839059100@saintthomaszanesville.org
SUMMARY:Mass
DESCRIPTION:
URL:https://saintthomaszanesville.org/event/mass-4/2028-04-11/
LOCATION:St Thomas
CATEGORIES:Mass
END:VEVENT
BEGIN:VEVENT
DTSTART;TZID=America/Detroit:20280412T090000
DTEND;TZID=America/Detroit:20280412T094500
DTSTAMP:20260423T044841
CREATED:20230717T191330Z
LAST-MODIFIED:20251121T143234Z
UID:10005523-1839142800-1839145500@saintthomaszanesville.org
SUMMARY:Mass
DESCRIPTION:
URL:https://saintthomaszanesville.org/event/mass-3/2028-04-12/
LOCATION:St Thomas
CATEGORIES:Mass
END:VEVENT
BEGIN:VEVENT
DTSTART;TZID=America/Detroit:20280413T090000
DTEND;TZID=America/Detroit:20280413T094500
DTSTAMP:20260423T044841
CREATED:20231025T130315Z
LAST-MODIFIED:20260219T151402Z
UID:10006041-1839229200-1839231900@saintthomaszanesville.org
SUMMARY:Mass
DESCRIPTION:
URL:https://saintthomaszanesville.org/event/mass-5-3/2028-04-13/
LOCATION:St Thomas
CATEGORIES:Mass
END:VEVENT
BEGIN:VEVENT
DTSTART;TZID=America/Detroit:20280414T090000
DTEND;TZID=America/Detroit:20280414T094500
DTSTAMP:20260423T044841
CREATED:20231026T143024Z
LAST-MODIFIED:20260219T151539Z
UID:10006300-1839315600-1839318300@saintthomaszanesville.org
SUMMARY:Mass
DESCRIPTION:
URL:https://saintthomaszanesville.org/event/mass-6-2/2028-04-14/
LOCATION:St Thomas
CATEGORIES:Mass
END:VEVENT
BEGIN:VEVENT
DTSTART;TZID=America/Detroit:20280415T163000
DTEND;TZID=America/Detroit:20280415T173000
DTSTAMP:20260423T044841
CREATED:20240626T171342Z
LAST-MODIFIED:20260219T153326Z
UID:10008114-1839429000-1839432600@saintthomaszanesville.org
SUMMARY:Mass
DESCRIPTION:
URL:https://saintthomaszanesville.org/event/mass/2028-04-15/
LOCATION:St Thomas
CATEGORIES:Mass
END:VEVENT
BEGIN:VEVENT
DTSTART;TZID=America/Detroit:20280416T074500
DTEND;TZID=America/Detroit:20280416T084500
DTSTAMP:20260423T044841
CREATED:20240626T174505Z
LAST-MODIFIED:20250917T124608Z
UID:10008918-1839483900-1839487500@saintthomaszanesville.org
SUMMARY:Mass
DESCRIPTION:
URL:https://saintthomaszanesville.org/event/mass-2-2/2028-04-16/
CATEGORIES:Mass
END:VEVENT
BEGIN:VEVENT
DTSTART;TZID=America/Detroit:20280416T110000
DTEND;TZID=America/Detroit:20280416T120000
DTSTAMP:20260423T044841
CREATED:20240626T174409Z
LAST-MODIFIED:20241205T172135Z
UID:10009183-1839495600-1839499200@saintthomaszanesville.org
SUMMARY:Mass
DESCRIPTION:
URL:https://saintthomaszanesville.org/event/mass-2/2028-04-16/
CATEGORIES:Mass
END:VEVENT
BEGIN:VEVENT
DTSTART;TZID=America/Detroit:20280418T090000
DTEND;TZID=America/Detroit:20280418T094500
DTSTAMP:20260423T044841
CREATED:20230717T191610Z
LAST-MODIFIED:20260219T151222Z
UID:10005783-1839661200-1839663900@saintthomaszanesville.org
SUMMARY:Mass
DESCRIPTION:
URL:https://saintthomaszanesville.org/event/mass-4/2028-04-18/
LOCATION:St Thomas
CATEGORIES:Mass
END:VEVENT
BEGIN:VEVENT
DTSTART;TZID=America/Detroit:20280419T090000
DTEND;TZID=America/Detroit:20280419T094500
DTSTAMP:20260423T044841
CREATED:20230717T191330Z
LAST-MODIFIED:20251121T143234Z
UID:10005524-1839747600-1839750300@saintthomaszanesville.org
SUMMARY:Mass
DESCRIPTION:
URL:https://saintthomaszanesville.org/event/mass-3/2028-04-19/
LOCATION:St Thomas
CATEGORIES:Mass
END:VEVENT
BEGIN:VEVENT
DTSTART;TZID=America/Detroit:20280420T090000
DTEND;TZID=America/Detroit:20280420T094500
DTSTAMP:20260423T044841
CREATED:20231025T130315Z
LAST-MODIFIED:20260219T151402Z
UID:10006042-1839834000-1839836700@saintthomaszanesville.org
SUMMARY:Mass
DESCRIPTION:
URL:https://saintthomaszanesville.org/event/mass-5-3/2028-04-20/
LOCATION:St Thomas
CATEGORIES:Mass
END:VEVENT
BEGIN:VEVENT
DTSTART;TZID=America/Detroit:20280421T090000
DTEND;TZID=America/Detroit:20280421T094500
DTSTAMP:20260423T044841
CREATED:20231026T143024Z
LAST-MODIFIED:20260219T151539Z
UID:10006301-1839920400-1839923100@saintthomaszanesville.org
SUMMARY:Mass
DESCRIPTION:
URL:https://saintthomaszanesville.org/event/mass-6-2/2028-04-21/
LOCATION:St Thomas
CATEGORIES:Mass
END:VEVENT
BEGIN:VEVENT
DTSTART;TZID=America/Detroit:20280422T163000
DTEND;TZID=America/Detroit:20280422T173000
DTSTAMP:20260423T044841
CREATED:20240626T171342Z
LAST-MODIFIED:20260219T153326Z
UID:10008115-1840033800-1840037400@saintthomaszanesville.org
SUMMARY:Mass
DESCRIPTION:
URL:https://saintthomaszanesville.org/event/mass/2028-04-22/
LOCATION:St Thomas
CATEGORIES:Mass
END:VEVENT
BEGIN:VEVENT
DTSTART;TZID=America/Detroit:20280423T074500
DTEND;TZID=America/Detroit:20280423T084500
DTSTAMP:20260423T044841
CREATED:20240626T174505Z
LAST-MODIFIED:20250917T124608Z
UID:10008919-1840088700-1840092300@saintthomaszanesville.org
SUMMARY:Mass
DESCRIPTION:
URL:https://saintthomaszanesville.org/event/mass-2-2/2028-04-23/
CATEGORIES:Mass
END:VEVENT
BEGIN:VEVENT
DTSTART;TZID=America/Detroit:20280423T110000
DTEND;TZID=America/Detroit:20280423T120000
DTSTAMP:20260423T044841
CREATED:20240626T174409Z
LAST-MODIFIED:20241205T172135Z
UID:10009184-1840100400-1840104000@saintthomaszanesville.org
SUMMARY:Mass
DESCRIPTION:
URL:https://saintthomaszanesville.org/event/mass-2/2028-04-23/
CATEGORIES:Mass
END:VEVENT
BEGIN:VEVENT
DTSTART;TZID=America/Detroit:20280425T090000
DTEND;TZID=America/Detroit:20280425T094500
DTSTAMP:20260423T044841
CREATED:20230717T191610Z
LAST-MODIFIED:20260219T151222Z
UID:10005784-1840266000-1840268700@saintthomaszanesville.org
SUMMARY:Mass
DESCRIPTION:
URL:https://saintthomaszanesville.org/event/mass-4/2028-04-25/
LOCATION:St Thomas
CATEGORIES:Mass
END:VEVENT
BEGIN:VEVENT
DTSTART;TZID=America/Detroit:20280426T090000
DTEND;TZID=America/Detroit:20280426T094500
DTSTAMP:20260423T044841
CREATED:20230717T191330Z
LAST-MODIFIED:20251121T143234Z
UID:10005525-1840352400-1840355100@saintthomaszanesville.org
SUMMARY:Mass
DESCRIPTION:
URL:https://saintthomaszanesville.org/event/mass-3/2028-04-26/
LOCATION:St Thomas
CATEGORIES:Mass
END:VEVENT
BEGIN:VEVENT
DTSTART;TZID=America/Detroit:20280427T090000
DTEND;TZID=America/Detroit:20280427T094500
DTSTAMP:20260423T044841
CREATED:20231025T130315Z
LAST-MODIFIED:20260219T151402Z
UID:10006043-1840438800-1840441500@saintthomaszanesville.org
SUMMARY:Mass
DESCRIPTION:
URL:https://saintthomaszanesville.org/event/mass-5-3/2028-04-27/
LOCATION:St Thomas
CATEGORIES:Mass
END:VEVENT
END:VCALENDAR