BEGIN:VCALENDAR
VERSION:2.0
PRODID:-//Saint Thomas Acquinas Zanesville - ECPv6.15.20//NONSGML v1.0//EN
CALSCALE:GREGORIAN
METHOD:PUBLISH
X-ORIGINAL-URL:https://saintthomaszanesville.org
X-WR-CALDESC:Events for Saint Thomas Acquinas Zanesville
REFRESH-INTERVAL;VALUE=DURATION:PT1H
X-Robots-Tag:noindex
X-PUBLISHED-TTL:PT1H
BEGIN:VTIMEZONE
TZID:America/Detroit
BEGIN:DAYLIGHT
TZOFFSETFROM:-0500
TZOFFSETTO:-0400
TZNAME:EDT
DTSTART:20240310T070000
END:DAYLIGHT
BEGIN:STANDARD
TZOFFSETFROM:-0400
TZOFFSETTO:-0500
TZNAME:EST
DTSTART:20241103T060000
END:STANDARD
BEGIN:DAYLIGHT
TZOFFSETFROM:-0500
TZOFFSETTO:-0400
TZNAME:EDT
DTSTART:20250309T070000
END:DAYLIGHT
BEGIN:STANDARD
TZOFFSETFROM:-0400
TZOFFSETTO:-0500
TZNAME:EST
DTSTART:20251102T060000
END:STANDARD
BEGIN:DAYLIGHT
TZOFFSETFROM:-0500
TZOFFSETTO:-0400
TZNAME:EDT
DTSTART:20260308T070000
END:DAYLIGHT
BEGIN:STANDARD
TZOFFSETFROM:-0400
TZOFFSETTO:-0500
TZNAME:EST
DTSTART:20261101T060000
END:STANDARD
END:VTIMEZONE
BEGIN:VEVENT
DTSTART;TZID=America/Detroit:20251128T090000
DTEND;TZID=America/Detroit:20251128T094500
DTSTAMP:20260420T235954
CREATED:20231026T143024Z
LAST-MODIFIED:20260219T151539Z
UID:10006176-1764320400-1764323100@saintthomaszanesville.org
SUMMARY:Mass
DESCRIPTION:
URL:https://saintthomaszanesville.org/event/mass-6-2/2025-11-28/
LOCATION:St Thomas
CATEGORIES:Mass
END:VEVENT
BEGIN:VEVENT
DTSTART;TZID=America/Detroit:20251129T163000
DTEND;TZID=America/Detroit:20251129T173000
DTSTAMP:20260420T235954
CREATED:20240626T171342Z
LAST-MODIFIED:20260219T153326Z
UID:10007990-1764433800-1764437400@saintthomaszanesville.org
SUMMARY:Mass
DESCRIPTION:
URL:https://saintthomaszanesville.org/event/mass/2025-11-29/
LOCATION:St Thomas
CATEGORIES:Mass
END:VEVENT
BEGIN:VEVENT
DTSTART;TZID=America/Detroit:20251130T074500
DTEND;TZID=America/Detroit:20251130T084500
DTSTAMP:20260420T235954
CREATED:20240626T174505Z
LAST-MODIFIED:20250917T124608Z
UID:10008794-1764488700-1764492300@saintthomaszanesville.org
SUMMARY:Mass
DESCRIPTION:
URL:https://saintthomaszanesville.org/event/mass-2-2/2025-11-30/
CATEGORIES:Mass
END:VEVENT
BEGIN:VEVENT
DTSTART;TZID=America/Detroit:20251130T110000
DTEND;TZID=America/Detroit:20251130T120000
DTSTAMP:20260420T235954
CREATED:20240626T174409Z
LAST-MODIFIED:20241205T172135Z
UID:10009059-1764500400-1764504000@saintthomaszanesville.org
SUMMARY:Mass
DESCRIPTION:
URL:https://saintthomaszanesville.org/event/mass-2/2025-11-30/
CATEGORIES:Mass
END:VEVENT
BEGIN:VEVENT
DTSTART;TZID=America/Detroit:20251202T090000
DTEND;TZID=America/Detroit:20251202T094500
DTSTAMP:20260420T235954
CREATED:20230717T191610Z
LAST-MODIFIED:20260219T151222Z
UID:10005659-1764666000-1764668700@saintthomaszanesville.org
SUMMARY:Mass
DESCRIPTION:
URL:https://saintthomaszanesville.org/event/mass-4/2025-12-02/
LOCATION:St Thomas
CATEGORIES:Mass
END:VEVENT
BEGIN:VEVENT
DTSTART;TZID=America/Detroit:20251203T090000
DTEND;TZID=America/Detroit:20251203T094500
DTSTAMP:20260420T235954
CREATED:20230717T191330Z
LAST-MODIFIED:20251121T143234Z
UID:10005400-1764752400-1764755100@saintthomaszanesville.org
SUMMARY:Mass
DESCRIPTION:
URL:https://saintthomaszanesville.org/event/mass-3/2025-12-03/
LOCATION:St Thomas
CATEGORIES:Mass
END:VEVENT
BEGIN:VEVENT
DTSTART;TZID=America/Detroit:20251204T090000
DTEND;TZID=America/Detroit:20251204T094500
DTSTAMP:20260420T235954
CREATED:20231025T130315Z
LAST-MODIFIED:20260219T151402Z
UID:10005918-1764838800-1764841500@saintthomaszanesville.org
SUMMARY:Mass
DESCRIPTION:
URL:https://saintthomaszanesville.org/event/mass-5-3/2025-12-04/
LOCATION:St Thomas
CATEGORIES:Mass
END:VEVENT
BEGIN:VEVENT
DTSTART;TZID=America/Detroit:20251205T090000
DTEND;TZID=America/Detroit:20251205T094500
DTSTAMP:20260420T235954
CREATED:20231026T143024Z
LAST-MODIFIED:20260219T151539Z
UID:10006177-1764925200-1764927900@saintthomaszanesville.org
SUMMARY:Mass
DESCRIPTION:
URL:https://saintthomaszanesville.org/event/mass-6-2/2025-12-05/
LOCATION:St Thomas
CATEGORIES:Mass
END:VEVENT
BEGIN:VEVENT
DTSTART;TZID=America/Detroit:20251206T163000
DTEND;TZID=America/Detroit:20251206T173000
DTSTAMP:20260420T235954
CREATED:20240626T171342Z
LAST-MODIFIED:20260219T153326Z
UID:10007991-1765038600-1765042200@saintthomaszanesville.org
SUMMARY:Mass
DESCRIPTION:
URL:https://saintthomaszanesville.org/event/mass/2025-12-06/
LOCATION:St Thomas
CATEGORIES:Mass
END:VEVENT
BEGIN:VEVENT
DTSTART;TZID=America/Detroit:20251207T074500
DTEND;TZID=America/Detroit:20251207T084500
DTSTAMP:20260420T235954
CREATED:20240626T174505Z
LAST-MODIFIED:20250917T124608Z
UID:10008795-1765093500-1765097100@saintthomaszanesville.org
SUMMARY:Mass
DESCRIPTION:
URL:https://saintthomaszanesville.org/event/mass-2-2/2025-12-07/
CATEGORIES:Mass
END:VEVENT
BEGIN:VEVENT
DTSTART;TZID=America/Detroit:20251207T110000
DTEND;TZID=America/Detroit:20251207T120000
DTSTAMP:20260420T235954
CREATED:20240626T174409Z
LAST-MODIFIED:20241205T172135Z
UID:10009060-1765105200-1765108800@saintthomaszanesville.org
SUMMARY:Mass
DESCRIPTION:
URL:https://saintthomaszanesville.org/event/mass-2/2025-12-07/
CATEGORIES:Mass
END:VEVENT
BEGIN:VEVENT
DTSTART;TZID=America/Detroit:20251209T090000
DTEND;TZID=America/Detroit:20251209T094500
DTSTAMP:20260420T235954
CREATED:20230717T191610Z
LAST-MODIFIED:20260219T151222Z
UID:10005660-1765270800-1765273500@saintthomaszanesville.org
SUMMARY:Mass
DESCRIPTION:
URL:https://saintthomaszanesville.org/event/mass-4/2025-12-09/
LOCATION:St Thomas
CATEGORIES:Mass
END:VEVENT
BEGIN:VEVENT
DTSTART;TZID=America/Detroit:20251210T090000
DTEND;TZID=America/Detroit:20251210T094500
DTSTAMP:20260420T235954
CREATED:20230717T191330Z
LAST-MODIFIED:20251121T143234Z
UID:10005401-1765357200-1765359900@saintthomaszanesville.org
SUMMARY:Mass
DESCRIPTION:
URL:https://saintthomaszanesville.org/event/mass-3/2025-12-10/
LOCATION:St Thomas
CATEGORIES:Mass
END:VEVENT
BEGIN:VEVENT
DTSTART;TZID=America/Detroit:20251211T090000
DTEND;TZID=America/Detroit:20251211T094500
DTSTAMP:20260420T235954
CREATED:20231025T130315Z
LAST-MODIFIED:20260219T151402Z
UID:10005919-1765443600-1765446300@saintthomaszanesville.org
SUMMARY:Mass
DESCRIPTION:
URL:https://saintthomaszanesville.org/event/mass-5-3/2025-12-11/
LOCATION:St Thomas
CATEGORIES:Mass
END:VEVENT
BEGIN:VEVENT
DTSTART;TZID=America/Detroit:20251212T090000
DTEND;TZID=America/Detroit:20251212T094500
DTSTAMP:20260420T235954
CREATED:20231026T143024Z
LAST-MODIFIED:20260219T151539Z
UID:10006178-1765530000-1765532700@saintthomaszanesville.org
SUMMARY:Mass
DESCRIPTION:
URL:https://saintthomaszanesville.org/event/mass-6-2/2025-12-12/
LOCATION:St Thomas
CATEGORIES:Mass
END:VEVENT
BEGIN:VEVENT
DTSTART;TZID=America/Detroit:20251213T163000
DTEND;TZID=America/Detroit:20251213T173000
DTSTAMP:20260420T235954
CREATED:20240626T171342Z
LAST-MODIFIED:20260219T153326Z
UID:10007992-1765643400-1765647000@saintthomaszanesville.org
SUMMARY:Mass
DESCRIPTION:
URL:https://saintthomaszanesville.org/event/mass/2025-12-13/
LOCATION:St Thomas
CATEGORIES:Mass
END:VEVENT
BEGIN:VEVENT
DTSTART;TZID=America/Detroit:20251214T074500
DTEND;TZID=America/Detroit:20251214T084500
DTSTAMP:20260420T235954
CREATED:20240626T174505Z
LAST-MODIFIED:20250917T124608Z
UID:10008796-1765698300-1765701900@saintthomaszanesville.org
SUMMARY:Mass
DESCRIPTION:
URL:https://saintthomaszanesville.org/event/mass-2-2/2025-12-14/
CATEGORIES:Mass
END:VEVENT
BEGIN:VEVENT
DTSTART;TZID=America/Detroit:20251214T110000
DTEND;TZID=America/Detroit:20251214T120000
DTSTAMP:20260420T235954
CREATED:20240626T174409Z
LAST-MODIFIED:20241205T172135Z
UID:10009061-1765710000-1765713600@saintthomaszanesville.org
SUMMARY:Mass
DESCRIPTION:
URL:https://saintthomaszanesville.org/event/mass-2/2025-12-14/
CATEGORIES:Mass
END:VEVENT
BEGIN:VEVENT
DTSTART;TZID=America/Detroit:20251216T090000
DTEND;TZID=America/Detroit:20251216T094500
DTSTAMP:20260420T235954
CREATED:20230717T191610Z
LAST-MODIFIED:20260219T151222Z
UID:10005661-1765875600-1765878300@saintthomaszanesville.org
SUMMARY:Mass
DESCRIPTION:
URL:https://saintthomaszanesville.org/event/mass-4/2025-12-16/
LOCATION:St Thomas
CATEGORIES:Mass
END:VEVENT
BEGIN:VEVENT
DTSTART;TZID=America/Detroit:20251217T090000
DTEND;TZID=America/Detroit:20251217T094500
DTSTAMP:20260420T235954
CREATED:20230717T191330Z
LAST-MODIFIED:20251121T143234Z
UID:10005402-1765962000-1765964700@saintthomaszanesville.org
SUMMARY:Mass
DESCRIPTION:
URL:https://saintthomaszanesville.org/event/mass-3/2025-12-17/
LOCATION:St Thomas
CATEGORIES:Mass
END:VEVENT
BEGIN:VEVENT
DTSTART;TZID=America/Detroit:20251218T090000
DTEND;TZID=America/Detroit:20251218T094500
DTSTAMP:20260420T235954
CREATED:20231025T130315Z
LAST-MODIFIED:20260219T151402Z
UID:10005920-1766048400-1766051100@saintthomaszanesville.org
SUMMARY:Mass
DESCRIPTION:
URL:https://saintthomaszanesville.org/event/mass-5-3/2025-12-18/
LOCATION:St Thomas
CATEGORIES:Mass
END:VEVENT
BEGIN:VEVENT
DTSTART;TZID=America/Detroit:20251219T090000
DTEND;TZID=America/Detroit:20251219T094500
DTSTAMP:20260420T235954
CREATED:20231026T143024Z
LAST-MODIFIED:20260219T151539Z
UID:10006179-1766134800-1766137500@saintthomaszanesville.org
SUMMARY:Mass
DESCRIPTION:
URL:https://saintthomaszanesville.org/event/mass-6-2/2025-12-19/
LOCATION:St Thomas
CATEGORIES:Mass
END:VEVENT
BEGIN:VEVENT
DTSTART;TZID=America/Detroit:20251220T163000
DTEND;TZID=America/Detroit:20251220T173000
DTSTAMP:20260420T235954
CREATED:20240626T171342Z
LAST-MODIFIED:20260219T153326Z
UID:10007993-1766248200-1766251800@saintthomaszanesville.org
SUMMARY:Mass
DESCRIPTION:
URL:https://saintthomaszanesville.org/event/mass/2025-12-20/
LOCATION:St Thomas
CATEGORIES:Mass
END:VEVENT
BEGIN:VEVENT
DTSTART;TZID=America/Detroit:20251221T074500
DTEND;TZID=America/Detroit:20251221T084500
DTSTAMP:20260420T235954
CREATED:20240626T174505Z
LAST-MODIFIED:20250917T124608Z
UID:10008797-1766303100-1766306700@saintthomaszanesville.org
SUMMARY:Mass
DESCRIPTION:
URL:https://saintthomaszanesville.org/event/mass-2-2/2025-12-21/
CATEGORIES:Mass
END:VEVENT
BEGIN:VEVENT
DTSTART;TZID=America/Detroit:20251221T110000
DTEND;TZID=America/Detroit:20251221T120000
DTSTAMP:20260420T235954
CREATED:20240626T174409Z
LAST-MODIFIED:20241205T172135Z
UID:10009062-1766314800-1766318400@saintthomaszanesville.org
SUMMARY:Mass
DESCRIPTION:
URL:https://saintthomaszanesville.org/event/mass-2/2025-12-21/
CATEGORIES:Mass
END:VEVENT
BEGIN:VEVENT
DTSTART;TZID=America/Detroit:20251223T090000
DTEND;TZID=America/Detroit:20251223T094500
DTSTAMP:20260420T235954
CREATED:20230717T191610Z
LAST-MODIFIED:20260219T151222Z
UID:10005662-1766480400-1766483100@saintthomaszanesville.org
SUMMARY:Mass
DESCRIPTION:
URL:https://saintthomaszanesville.org/event/mass-4/2025-12-23/
LOCATION:St Thomas
CATEGORIES:Mass
END:VEVENT
BEGIN:VEVENT
DTSTART;TZID=America/Detroit:20251224T170000
DTEND;TZID=America/Detroit:20251224T190000
DTSTAMP:20260420T235954
CREATED:20241121T155231Z
LAST-MODIFIED:20251121T143001Z
UID:10009583-1766595600-1766602800@saintthomaszanesville.org
SUMMARY:Christmas Eve Mass
DESCRIPTION:
URL:https://saintthomaszanesville.org/event/christmas-eve-mass-2/
LOCATION:St Thomas
CATEGORIES:Mass
END:VEVENT
BEGIN:VEVENT
DTSTART;TZID=America/Detroit:20251224T210000
DTEND;TZID=America/Detroit:20251224T223000
DTSTAMP:20260420T235954
CREATED:20231026T153902Z
LAST-MODIFIED:20251121T143042Z
UID:10007514-1766610000-1766615400@saintthomaszanesville.org
SUMMARY:Christmas Vigil
DESCRIPTION:
URL:https://saintthomaszanesville.org/event/christmas-eve-mass/
LOCATION:St Thomas
CATEGORIES:Mass
END:VEVENT
BEGIN:VEVENT
DTSTART;TZID=America/Detroit:20251225T090000
DTEND;TZID=America/Detroit:20251225T110000
DTSTAMP:20260420T235954
CREATED:20231026T154956Z
LAST-MODIFIED:20251121T143121Z
UID:10007603-1766653200-1766660400@saintthomaszanesville.org
SUMMARY:Christmas Day Mass
DESCRIPTION:
URL:https://saintthomaszanesville.org/event/christmas-day-mass/
LOCATION:St Thomas
CATEGORIES:Mass
END:VEVENT
BEGIN:VEVENT
DTSTART;TZID=America/Detroit:20251226T090000
DTEND;TZID=America/Detroit:20251226T094500
DTSTAMP:20260420T235954
CREATED:20231026T143024Z
LAST-MODIFIED:20260219T151539Z
UID:10006180-1766739600-1766742300@saintthomaszanesville.org
SUMMARY:Mass
DESCRIPTION:
URL:https://saintthomaszanesville.org/event/mass-6-2/2025-12-26/
LOCATION:St Thomas
CATEGORIES:Mass
END:VEVENT
END:VCALENDAR