BEGIN:VCALENDAR
VERSION:2.0
PRODID:-//Saint Thomas Acquinas Zanesville - ECPv6.15.20//NONSGML v1.0//EN
CALSCALE:GREGORIAN
METHOD:PUBLISH
X-ORIGINAL-URL:https://saintthomaszanesville.org
X-WR-CALDESC:Events for Saint Thomas Acquinas Zanesville
REFRESH-INTERVAL;VALUE=DURATION:PT1H
X-Robots-Tag:noindex
X-PUBLISHED-TTL:PT1H
BEGIN:VTIMEZONE
TZID:America/Detroit
BEGIN:DAYLIGHT
TZOFFSETFROM:-0500
TZOFFSETTO:-0400
TZNAME:EDT
DTSTART:20260308T070000
END:DAYLIGHT
BEGIN:STANDARD
TZOFFSETFROM:-0400
TZOFFSETTO:-0500
TZNAME:EST
DTSTART:20261101T060000
END:STANDARD
BEGIN:DAYLIGHT
TZOFFSETFROM:-0500
TZOFFSETTO:-0400
TZNAME:EDT
DTSTART:20270314T070000
END:DAYLIGHT
BEGIN:STANDARD
TZOFFSETFROM:-0400
TZOFFSETTO:-0500
TZNAME:EST
DTSTART:20271107T060000
END:STANDARD
BEGIN:DAYLIGHT
TZOFFSETFROM:-0500
TZOFFSETTO:-0400
TZNAME:EDT
DTSTART:20280312T070000
END:DAYLIGHT
BEGIN:STANDARD
TZOFFSETFROM:-0400
TZOFFSETTO:-0500
TZNAME:EST
DTSTART:20281105T060000
END:STANDARD
END:VTIMEZONE
BEGIN:VEVENT
DTSTART;TZID=America/Detroit:20270718T110000
DTEND;TZID=America/Detroit:20270718T120000
DTSTAMP:20260421T014309
CREATED:20240626T174409Z
LAST-MODIFIED:20241205T172135Z
UID:10009144-1815908400-1815912000@saintthomaszanesville.org
SUMMARY:Mass
DESCRIPTION:
URL:https://saintthomaszanesville.org/event/mass-2/2027-07-18/
CATEGORIES:Mass
END:VEVENT
BEGIN:VEVENT
DTSTART;TZID=America/Detroit:20270720T090000
DTEND;TZID=America/Detroit:20270720T094500
DTSTAMP:20260421T014309
CREATED:20230717T191610Z
LAST-MODIFIED:20260219T151222Z
UID:10005744-1816074000-1816076700@saintthomaszanesville.org
SUMMARY:Mass
DESCRIPTION:
URL:https://saintthomaszanesville.org/event/mass-4/2027-07-20/
LOCATION:St Thomas
CATEGORIES:Mass
END:VEVENT
BEGIN:VEVENT
DTSTART;TZID=America/Detroit:20270721T090000
DTEND;TZID=America/Detroit:20270721T094500
DTSTAMP:20260421T014309
CREATED:20230717T191330Z
LAST-MODIFIED:20251121T143234Z
UID:10005485-1816160400-1816163100@saintthomaszanesville.org
SUMMARY:Mass
DESCRIPTION:
URL:https://saintthomaszanesville.org/event/mass-3/2027-07-21/
LOCATION:St Thomas
CATEGORIES:Mass
END:VEVENT
BEGIN:VEVENT
DTSTART;TZID=America/Detroit:20270722T090000
DTEND;TZID=America/Detroit:20270722T094500
DTSTAMP:20260421T014309
CREATED:20231025T130315Z
LAST-MODIFIED:20260219T151402Z
UID:10006003-1816246800-1816249500@saintthomaszanesville.org
SUMMARY:Mass
DESCRIPTION:
URL:https://saintthomaszanesville.org/event/mass-5-3/2027-07-22/
LOCATION:St Thomas
CATEGORIES:Mass
END:VEVENT
BEGIN:VEVENT
DTSTART;TZID=America/Detroit:20270723T090000
DTEND;TZID=America/Detroit:20270723T094500
DTSTAMP:20260421T014309
CREATED:20231026T143024Z
LAST-MODIFIED:20260219T151539Z
UID:10006262-1816333200-1816335900@saintthomaszanesville.org
SUMMARY:Mass
DESCRIPTION:
URL:https://saintthomaszanesville.org/event/mass-6-2/2027-07-23/
LOCATION:St Thomas
CATEGORIES:Mass
END:VEVENT
BEGIN:VEVENT
DTSTART;TZID=America/Detroit:20270724T163000
DTEND;TZID=America/Detroit:20270724T173000
DTSTAMP:20260421T014309
CREATED:20240626T171342Z
LAST-MODIFIED:20260219T153326Z
UID:10008076-1816446600-1816450200@saintthomaszanesville.org
SUMMARY:Mass
DESCRIPTION:
URL:https://saintthomaszanesville.org/event/mass/2027-07-24/
LOCATION:St Thomas
CATEGORIES:Mass
END:VEVENT
BEGIN:VEVENT
DTSTART;TZID=America/Detroit:20270725T074500
DTEND;TZID=America/Detroit:20270725T084500
DTSTAMP:20260421T014309
CREATED:20240626T174505Z
LAST-MODIFIED:20250917T124608Z
UID:10008880-1816501500-1816505100@saintthomaszanesville.org
SUMMARY:Mass
DESCRIPTION:
URL:https://saintthomaszanesville.org/event/mass-2-2/2027-07-25/
CATEGORIES:Mass
END:VEVENT
BEGIN:VEVENT
DTSTART;TZID=America/Detroit:20270725T110000
DTEND;TZID=America/Detroit:20270725T120000
DTSTAMP:20260421T014309
CREATED:20240626T174409Z
LAST-MODIFIED:20241205T172135Z
UID:10009145-1816513200-1816516800@saintthomaszanesville.org
SUMMARY:Mass
DESCRIPTION:
URL:https://saintthomaszanesville.org/event/mass-2/2027-07-25/
CATEGORIES:Mass
END:VEVENT
BEGIN:VEVENT
DTSTART;TZID=America/Detroit:20270727T090000
DTEND;TZID=America/Detroit:20270727T094500
DTSTAMP:20260421T014309
CREATED:20230717T191610Z
LAST-MODIFIED:20260219T151222Z
UID:10005745-1816678800-1816681500@saintthomaszanesville.org
SUMMARY:Mass
DESCRIPTION:
URL:https://saintthomaszanesville.org/event/mass-4/2027-07-27/
LOCATION:St Thomas
CATEGORIES:Mass
END:VEVENT
BEGIN:VEVENT
DTSTART;TZID=America/Detroit:20270728T090000
DTEND;TZID=America/Detroit:20270728T094500
DTSTAMP:20260421T014309
CREATED:20230717T191330Z
LAST-MODIFIED:20251121T143234Z
UID:10005486-1816765200-1816767900@saintthomaszanesville.org
SUMMARY:Mass
DESCRIPTION:
URL:https://saintthomaszanesville.org/event/mass-3/2027-07-28/
LOCATION:St Thomas
CATEGORIES:Mass
END:VEVENT
BEGIN:VEVENT
DTSTART;TZID=America/Detroit:20270729T090000
DTEND;TZID=America/Detroit:20270729T094500
DTSTAMP:20260421T014309
CREATED:20231025T130315Z
LAST-MODIFIED:20260219T151402Z
UID:10006004-1816851600-1816854300@saintthomaszanesville.org
SUMMARY:Mass
DESCRIPTION:
URL:https://saintthomaszanesville.org/event/mass-5-3/2027-07-29/
LOCATION:St Thomas
CATEGORIES:Mass
END:VEVENT
BEGIN:VEVENT
DTSTART;TZID=America/Detroit:20270730T090000
DTEND;TZID=America/Detroit:20270730T094500
DTSTAMP:20260421T014309
CREATED:20231026T143024Z
LAST-MODIFIED:20260219T151539Z
UID:10006263-1816938000-1816940700@saintthomaszanesville.org
SUMMARY:Mass
DESCRIPTION:
URL:https://saintthomaszanesville.org/event/mass-6-2/2027-07-30/
LOCATION:St Thomas
CATEGORIES:Mass
END:VEVENT
BEGIN:VEVENT
DTSTART;TZID=America/Detroit:20270731T163000
DTEND;TZID=America/Detroit:20270731T173000
DTSTAMP:20260421T014309
CREATED:20240626T171342Z
LAST-MODIFIED:20260219T153326Z
UID:10008077-1817051400-1817055000@saintthomaszanesville.org
SUMMARY:Mass
DESCRIPTION:
URL:https://saintthomaszanesville.org/event/mass/2027-07-31/
LOCATION:St Thomas
CATEGORIES:Mass
END:VEVENT
BEGIN:VEVENT
DTSTART;TZID=America/Detroit:20270801T074500
DTEND;TZID=America/Detroit:20270801T084500
DTSTAMP:20260421T014309
CREATED:20240626T174505Z
LAST-MODIFIED:20250917T124608Z
UID:10008881-1817106300-1817109900@saintthomaszanesville.org
SUMMARY:Mass
DESCRIPTION:
URL:https://saintthomaszanesville.org/event/mass-2-2/2027-08-01/
CATEGORIES:Mass
END:VEVENT
BEGIN:VEVENT
DTSTART;TZID=America/Detroit:20270801T110000
DTEND;TZID=America/Detroit:20270801T120000
DTSTAMP:20260421T014309
CREATED:20240626T174409Z
LAST-MODIFIED:20241205T172135Z
UID:10009146-1817118000-1817121600@saintthomaszanesville.org
SUMMARY:Mass
DESCRIPTION:
URL:https://saintthomaszanesville.org/event/mass-2/2027-08-01/
CATEGORIES:Mass
END:VEVENT
BEGIN:VEVENT
DTSTART;TZID=America/Detroit:20270803T090000
DTEND;TZID=America/Detroit:20270803T094500
DTSTAMP:20260421T014309
CREATED:20230717T191610Z
LAST-MODIFIED:20260219T151222Z
UID:10005746-1817283600-1817286300@saintthomaszanesville.org
SUMMARY:Mass
DESCRIPTION:
URL:https://saintthomaszanesville.org/event/mass-4/2027-08-03/
LOCATION:St Thomas
CATEGORIES:Mass
END:VEVENT
BEGIN:VEVENT
DTSTART;TZID=America/Detroit:20270804T090000
DTEND;TZID=America/Detroit:20270804T094500
DTSTAMP:20260421T014309
CREATED:20230717T191330Z
LAST-MODIFIED:20251121T143234Z
UID:10005487-1817370000-1817372700@saintthomaszanesville.org
SUMMARY:Mass
DESCRIPTION:
URL:https://saintthomaszanesville.org/event/mass-3/2027-08-04/
LOCATION:St Thomas
CATEGORIES:Mass
END:VEVENT
BEGIN:VEVENT
DTSTART;TZID=America/Detroit:20270805T090000
DTEND;TZID=America/Detroit:20270805T094500
DTSTAMP:20260421T014309
CREATED:20231025T130315Z
LAST-MODIFIED:20260219T151402Z
UID:10006005-1817456400-1817459100@saintthomaszanesville.org
SUMMARY:Mass
DESCRIPTION:
URL:https://saintthomaszanesville.org/event/mass-5-3/2027-08-05/
LOCATION:St Thomas
CATEGORIES:Mass
END:VEVENT
BEGIN:VEVENT
DTSTART;TZID=America/Detroit:20270806T090000
DTEND;TZID=America/Detroit:20270806T094500
DTSTAMP:20260421T014309
CREATED:20231026T143024Z
LAST-MODIFIED:20260219T151539Z
UID:10006264-1817542800-1817545500@saintthomaszanesville.org
SUMMARY:Mass
DESCRIPTION:
URL:https://saintthomaszanesville.org/event/mass-6-2/2027-08-06/
LOCATION:St Thomas
CATEGORIES:Mass
END:VEVENT
BEGIN:VEVENT
DTSTART;TZID=America/Detroit:20270807T163000
DTEND;TZID=America/Detroit:20270807T173000
DTSTAMP:20260421T014309
CREATED:20240626T171342Z
LAST-MODIFIED:20260219T153326Z
UID:10008078-1817656200-1817659800@saintthomaszanesville.org
SUMMARY:Mass
DESCRIPTION:
URL:https://saintthomaszanesville.org/event/mass/2027-08-07/
LOCATION:St Thomas
CATEGORIES:Mass
END:VEVENT
BEGIN:VEVENT
DTSTART;TZID=America/Detroit:20270808T074500
DTEND;TZID=America/Detroit:20270808T084500
DTSTAMP:20260421T014309
CREATED:20240626T174505Z
LAST-MODIFIED:20250917T124608Z
UID:10008882-1817711100-1817714700@saintthomaszanesville.org
SUMMARY:Mass
DESCRIPTION:
URL:https://saintthomaszanesville.org/event/mass-2-2/2027-08-08/
CATEGORIES:Mass
END:VEVENT
BEGIN:VEVENT
DTSTART;TZID=America/Detroit:20270808T110000
DTEND;TZID=America/Detroit:20270808T120000
DTSTAMP:20260421T014309
CREATED:20240626T174409Z
LAST-MODIFIED:20241205T172135Z
UID:10009147-1817722800-1817726400@saintthomaszanesville.org
SUMMARY:Mass
DESCRIPTION:
URL:https://saintthomaszanesville.org/event/mass-2/2027-08-08/
CATEGORIES:Mass
END:VEVENT
BEGIN:VEVENT
DTSTART;TZID=America/Detroit:20270810T090000
DTEND;TZID=America/Detroit:20270810T094500
DTSTAMP:20260421T014309
CREATED:20230717T191610Z
LAST-MODIFIED:20260219T151222Z
UID:10005747-1817888400-1817891100@saintthomaszanesville.org
SUMMARY:Mass
DESCRIPTION:
URL:https://saintthomaszanesville.org/event/mass-4/2027-08-10/
LOCATION:St Thomas
CATEGORIES:Mass
END:VEVENT
BEGIN:VEVENT
DTSTART;TZID=America/Detroit:20270811T090000
DTEND;TZID=America/Detroit:20270811T094500
DTSTAMP:20260421T014309
CREATED:20230717T191330Z
LAST-MODIFIED:20251121T143234Z
UID:10005488-1817974800-1817977500@saintthomaszanesville.org
SUMMARY:Mass
DESCRIPTION:
URL:https://saintthomaszanesville.org/event/mass-3/2027-08-11/
LOCATION:St Thomas
CATEGORIES:Mass
END:VEVENT
BEGIN:VEVENT
DTSTART;TZID=America/Detroit:20270812T090000
DTEND;TZID=America/Detroit:20270812T094500
DTSTAMP:20260421T014309
CREATED:20231025T130315Z
LAST-MODIFIED:20260219T151402Z
UID:10006006-1818061200-1818063900@saintthomaszanesville.org
SUMMARY:Mass
DESCRIPTION:
URL:https://saintthomaszanesville.org/event/mass-5-3/2027-08-12/
LOCATION:St Thomas
CATEGORIES:Mass
END:VEVENT
BEGIN:VEVENT
DTSTART;TZID=America/Detroit:20270813T090000
DTEND;TZID=America/Detroit:20270813T094500
DTSTAMP:20260421T014309
CREATED:20231026T143024Z
LAST-MODIFIED:20260219T151539Z
UID:10006265-1818147600-1818150300@saintthomaszanesville.org
SUMMARY:Mass
DESCRIPTION:
URL:https://saintthomaszanesville.org/event/mass-6-2/2027-08-13/
LOCATION:St Thomas
CATEGORIES:Mass
END:VEVENT
BEGIN:VEVENT
DTSTART;TZID=America/Detroit:20270814T163000
DTEND;TZID=America/Detroit:20270814T173000
DTSTAMP:20260421T014309
CREATED:20240626T171342Z
LAST-MODIFIED:20260219T153326Z
UID:10008079-1818261000-1818264600@saintthomaszanesville.org
SUMMARY:Mass
DESCRIPTION:
URL:https://saintthomaszanesville.org/event/mass/2027-08-14/
LOCATION:St Thomas
CATEGORIES:Mass
END:VEVENT
BEGIN:VEVENT
DTSTART;TZID=America/Detroit:20270815T074500
DTEND;TZID=America/Detroit:20270815T084500
DTSTAMP:20260421T014309
CREATED:20240626T174505Z
LAST-MODIFIED:20250917T124608Z
UID:10008883-1818315900-1818319500@saintthomaszanesville.org
SUMMARY:Mass
DESCRIPTION:
URL:https://saintthomaszanesville.org/event/mass-2-2/2027-08-15/
CATEGORIES:Mass
END:VEVENT
BEGIN:VEVENT
DTSTART;TZID=America/Detroit:20270815T110000
DTEND;TZID=America/Detroit:20270815T120000
DTSTAMP:20260421T014309
CREATED:20240626T174409Z
LAST-MODIFIED:20241205T172135Z
UID:10009148-1818327600-1818331200@saintthomaszanesville.org
SUMMARY:Mass
DESCRIPTION:
URL:https://saintthomaszanesville.org/event/mass-2/2027-08-15/
CATEGORIES:Mass
END:VEVENT
BEGIN:VEVENT
DTSTART;TZID=America/Detroit:20270817T090000
DTEND;TZID=America/Detroit:20270817T094500
DTSTAMP:20260421T014309
CREATED:20230717T191610Z
LAST-MODIFIED:20260219T151222Z
UID:10005748-1818493200-1818495900@saintthomaszanesville.org
SUMMARY:Mass
DESCRIPTION:
URL:https://saintthomaszanesville.org/event/mass-4/2027-08-17/
LOCATION:St Thomas
CATEGORIES:Mass
END:VEVENT
END:VCALENDAR