BEGIN:VCALENDAR
VERSION:2.0
PRODID:-//Saint Thomas Acquinas Zanesville - ECPv6.15.20//NONSGML v1.0//EN
CALSCALE:GREGORIAN
METHOD:PUBLISH
X-WR-CALNAME:Saint Thomas Acquinas Zanesville
X-ORIGINAL-URL:https://saintthomaszanesville.org
X-WR-CALDESC:Events for Saint Thomas Acquinas Zanesville
REFRESH-INTERVAL;VALUE=DURATION:PT1H
X-Robots-Tag:noindex
X-PUBLISHED-TTL:PT1H
BEGIN:VTIMEZONE
TZID:America/Detroit
BEGIN:DAYLIGHT
TZOFFSETFROM:-0500
TZOFFSETTO:-0400
TZNAME:EDT
DTSTART:20260308T070000
END:DAYLIGHT
BEGIN:STANDARD
TZOFFSETFROM:-0400
TZOFFSETTO:-0500
TZNAME:EST
DTSTART:20261101T060000
END:STANDARD
BEGIN:DAYLIGHT
TZOFFSETFROM:-0500
TZOFFSETTO:-0400
TZNAME:EDT
DTSTART:20270314T070000
END:DAYLIGHT
BEGIN:STANDARD
TZOFFSETFROM:-0400
TZOFFSETTO:-0500
TZNAME:EST
DTSTART:20271107T060000
END:STANDARD
BEGIN:DAYLIGHT
TZOFFSETFROM:-0500
TZOFFSETTO:-0400
TZNAME:EDT
DTSTART:20280312T070000
END:DAYLIGHT
BEGIN:STANDARD
TZOFFSETFROM:-0400
TZOFFSETTO:-0500
TZNAME:EST
DTSTART:20281105T060000
END:STANDARD
END:VTIMEZONE
BEGIN:VEVENT
DTSTART;TZID=America/Detroit:20270523T110000
DTEND;TZID=America/Detroit:20270523T120000
DTSTAMP:20260421T020750
CREATED:20240626T174409Z
LAST-MODIFIED:20241205T172135Z
UID:10009136-1811070000-1811073600@saintthomaszanesville.org
SUMMARY:Mass
DESCRIPTION:
URL:https://saintthomaszanesville.org/event/mass-2/2027-05-23/
CATEGORIES:Mass
END:VEVENT
BEGIN:VEVENT
DTSTART;TZID=America/Detroit:20270525T090000
DTEND;TZID=America/Detroit:20270525T094500
DTSTAMP:20260421T020750
CREATED:20230717T191610Z
LAST-MODIFIED:20260219T151222Z
UID:10005736-1811235600-1811238300@saintthomaszanesville.org
SUMMARY:Mass
DESCRIPTION:
URL:https://saintthomaszanesville.org/event/mass-4/2027-05-25/
LOCATION:St Thomas
CATEGORIES:Mass
END:VEVENT
BEGIN:VEVENT
DTSTART;TZID=America/Detroit:20270526T090000
DTEND;TZID=America/Detroit:20270526T094500
DTSTAMP:20260421T020750
CREATED:20230717T191330Z
LAST-MODIFIED:20251121T143234Z
UID:10005477-1811322000-1811324700@saintthomaszanesville.org
SUMMARY:Mass
DESCRIPTION:
URL:https://saintthomaszanesville.org/event/mass-3/2027-05-26/
LOCATION:St Thomas
CATEGORIES:Mass
END:VEVENT
BEGIN:VEVENT
DTSTART;TZID=America/Detroit:20270527T090000
DTEND;TZID=America/Detroit:20270527T094500
DTSTAMP:20260421T020750
CREATED:20231025T130315Z
LAST-MODIFIED:20260219T151402Z
UID:10005995-1811408400-1811411100@saintthomaszanesville.org
SUMMARY:Mass
DESCRIPTION:
URL:https://saintthomaszanesville.org/event/mass-5-3/2027-05-27/
LOCATION:St Thomas
CATEGORIES:Mass
END:VEVENT
BEGIN:VEVENT
DTSTART;TZID=America/Detroit:20270528T090000
DTEND;TZID=America/Detroit:20270528T094500
DTSTAMP:20260421T020750
CREATED:20231026T143024Z
LAST-MODIFIED:20260219T151539Z
UID:10006254-1811494800-1811497500@saintthomaszanesville.org
SUMMARY:Mass
DESCRIPTION:
URL:https://saintthomaszanesville.org/event/mass-6-2/2027-05-28/
LOCATION:St Thomas
CATEGORIES:Mass
END:VEVENT
BEGIN:VEVENT
DTSTART;TZID=America/Detroit:20270529T163000
DTEND;TZID=America/Detroit:20270529T173000
DTSTAMP:20260421T020750
CREATED:20240626T171342Z
LAST-MODIFIED:20260219T153326Z
UID:10008068-1811608200-1811611800@saintthomaszanesville.org
SUMMARY:Mass
DESCRIPTION:
URL:https://saintthomaszanesville.org/event/mass/2027-05-29/
LOCATION:St Thomas
CATEGORIES:Mass
END:VEVENT
BEGIN:VEVENT
DTSTART;TZID=America/Detroit:20270530T074500
DTEND;TZID=America/Detroit:20270530T084500
DTSTAMP:20260421T020750
CREATED:20240626T174505Z
LAST-MODIFIED:20250917T124608Z
UID:10008872-1811663100-1811666700@saintthomaszanesville.org
SUMMARY:Mass
DESCRIPTION:
URL:https://saintthomaszanesville.org/event/mass-2-2/2027-05-30/
CATEGORIES:Mass
END:VEVENT
BEGIN:VEVENT
DTSTART;TZID=America/Detroit:20270530T110000
DTEND;TZID=America/Detroit:20270530T120000
DTSTAMP:20260421T020750
CREATED:20240626T174409Z
LAST-MODIFIED:20241205T172135Z
UID:10009137-1811674800-1811678400@saintthomaszanesville.org
SUMMARY:Mass
DESCRIPTION:
URL:https://saintthomaszanesville.org/event/mass-2/2027-05-30/
CATEGORIES:Mass
END:VEVENT
BEGIN:VEVENT
DTSTART;TZID=America/Detroit:20270601T090000
DTEND;TZID=America/Detroit:20270601T094500
DTSTAMP:20260421T020750
CREATED:20230717T191610Z
LAST-MODIFIED:20260219T151222Z
UID:10005737-1811840400-1811843100@saintthomaszanesville.org
SUMMARY:Mass
DESCRIPTION:
URL:https://saintthomaszanesville.org/event/mass-4/2027-06-01/
LOCATION:St Thomas
CATEGORIES:Mass
END:VEVENT
BEGIN:VEVENT
DTSTART;TZID=America/Detroit:20270602T090000
DTEND;TZID=America/Detroit:20270602T094500
DTSTAMP:20260421T020750
CREATED:20230717T191330Z
LAST-MODIFIED:20251121T143234Z
UID:10005478-1811926800-1811929500@saintthomaszanesville.org
SUMMARY:Mass
DESCRIPTION:
URL:https://saintthomaszanesville.org/event/mass-3/2027-06-02/
LOCATION:St Thomas
CATEGORIES:Mass
END:VEVENT
BEGIN:VEVENT
DTSTART;TZID=America/Detroit:20270603T090000
DTEND;TZID=America/Detroit:20270603T094500
DTSTAMP:20260421T020750
CREATED:20231025T130315Z
LAST-MODIFIED:20260219T151402Z
UID:10005996-1812013200-1812015900@saintthomaszanesville.org
SUMMARY:Mass
DESCRIPTION:
URL:https://saintthomaszanesville.org/event/mass-5-3/2027-06-03/
LOCATION:St Thomas
CATEGORIES:Mass
END:VEVENT
BEGIN:VEVENT
DTSTART;TZID=America/Detroit:20270604T090000
DTEND;TZID=America/Detroit:20270604T094500
DTSTAMP:20260421T020750
CREATED:20231026T143024Z
LAST-MODIFIED:20260219T151539Z
UID:10006255-1812099600-1812102300@saintthomaszanesville.org
SUMMARY:Mass
DESCRIPTION:
URL:https://saintthomaszanesville.org/event/mass-6-2/2027-06-04/
LOCATION:St Thomas
CATEGORIES:Mass
END:VEVENT
BEGIN:VEVENT
DTSTART;TZID=America/Detroit:20270605T163000
DTEND;TZID=America/Detroit:20270605T173000
DTSTAMP:20260421T020750
CREATED:20240626T171342Z
LAST-MODIFIED:20260219T153326Z
UID:10008069-1812213000-1812216600@saintthomaszanesville.org
SUMMARY:Mass
DESCRIPTION:
URL:https://saintthomaszanesville.org/event/mass/2027-06-05/
LOCATION:St Thomas
CATEGORIES:Mass
END:VEVENT
BEGIN:VEVENT
DTSTART;TZID=America/Detroit:20270606T074500
DTEND;TZID=America/Detroit:20270606T084500
DTSTAMP:20260421T020750
CREATED:20240626T174505Z
LAST-MODIFIED:20250917T124608Z
UID:10008873-1812267900-1812271500@saintthomaszanesville.org
SUMMARY:Mass
DESCRIPTION:
URL:https://saintthomaszanesville.org/event/mass-2-2/2027-06-06/
CATEGORIES:Mass
END:VEVENT
BEGIN:VEVENT
DTSTART;TZID=America/Detroit:20270606T110000
DTEND;TZID=America/Detroit:20270606T120000
DTSTAMP:20260421T020750
CREATED:20240626T174409Z
LAST-MODIFIED:20241205T172135Z
UID:10009138-1812279600-1812283200@saintthomaszanesville.org
SUMMARY:Mass
DESCRIPTION:
URL:https://saintthomaszanesville.org/event/mass-2/2027-06-06/
CATEGORIES:Mass
END:VEVENT
BEGIN:VEVENT
DTSTART;TZID=America/Detroit:20270608T090000
DTEND;TZID=America/Detroit:20270608T094500
DTSTAMP:20260421T020750
CREATED:20230717T191610Z
LAST-MODIFIED:20260219T151222Z
UID:10005738-1812445200-1812447900@saintthomaszanesville.org
SUMMARY:Mass
DESCRIPTION:
URL:https://saintthomaszanesville.org/event/mass-4/2027-06-08/
LOCATION:St Thomas
CATEGORIES:Mass
END:VEVENT
BEGIN:VEVENT
DTSTART;TZID=America/Detroit:20270609T090000
DTEND;TZID=America/Detroit:20270609T094500
DTSTAMP:20260421T020750
CREATED:20230717T191330Z
LAST-MODIFIED:20251121T143234Z
UID:10005479-1812531600-1812534300@saintthomaszanesville.org
SUMMARY:Mass
DESCRIPTION:
URL:https://saintthomaszanesville.org/event/mass-3/2027-06-09/
LOCATION:St Thomas
CATEGORIES:Mass
END:VEVENT
BEGIN:VEVENT
DTSTART;TZID=America/Detroit:20270610T090000
DTEND;TZID=America/Detroit:20270610T094500
DTSTAMP:20260421T020750
CREATED:20231025T130315Z
LAST-MODIFIED:20260219T151402Z
UID:10005997-1812618000-1812620700@saintthomaszanesville.org
SUMMARY:Mass
DESCRIPTION:
URL:https://saintthomaszanesville.org/event/mass-5-3/2027-06-10/
LOCATION:St Thomas
CATEGORIES:Mass
END:VEVENT
BEGIN:VEVENT
DTSTART;TZID=America/Detroit:20270611T090000
DTEND;TZID=America/Detroit:20270611T094500
DTSTAMP:20260421T020750
CREATED:20231026T143024Z
LAST-MODIFIED:20260219T151539Z
UID:10006256-1812704400-1812707100@saintthomaszanesville.org
SUMMARY:Mass
DESCRIPTION:
URL:https://saintthomaszanesville.org/event/mass-6-2/2027-06-11/
LOCATION:St Thomas
CATEGORIES:Mass
END:VEVENT
BEGIN:VEVENT
DTSTART;TZID=America/Detroit:20270612T163000
DTEND;TZID=America/Detroit:20270612T173000
DTSTAMP:20260421T020750
CREATED:20240626T171342Z
LAST-MODIFIED:20260219T153326Z
UID:10008070-1812817800-1812821400@saintthomaszanesville.org
SUMMARY:Mass
DESCRIPTION:
URL:https://saintthomaszanesville.org/event/mass/2027-06-12/
LOCATION:St Thomas
CATEGORIES:Mass
END:VEVENT
BEGIN:VEVENT
DTSTART;TZID=America/Detroit:20270613T074500
DTEND;TZID=America/Detroit:20270613T084500
DTSTAMP:20260421T020750
CREATED:20240626T174505Z
LAST-MODIFIED:20250917T124608Z
UID:10008874-1812872700-1812876300@saintthomaszanesville.org
SUMMARY:Mass
DESCRIPTION:
URL:https://saintthomaszanesville.org/event/mass-2-2/2027-06-13/
CATEGORIES:Mass
END:VEVENT
BEGIN:VEVENT
DTSTART;TZID=America/Detroit:20270613T110000
DTEND;TZID=America/Detroit:20270613T120000
DTSTAMP:20260421T020750
CREATED:20240626T174409Z
LAST-MODIFIED:20241205T172135Z
UID:10009139-1812884400-1812888000@saintthomaszanesville.org
SUMMARY:Mass
DESCRIPTION:
URL:https://saintthomaszanesville.org/event/mass-2/2027-06-13/
CATEGORIES:Mass
END:VEVENT
BEGIN:VEVENT
DTSTART;TZID=America/Detroit:20270615T090000
DTEND;TZID=America/Detroit:20270615T094500
DTSTAMP:20260421T020750
CREATED:20230717T191610Z
LAST-MODIFIED:20260219T151222Z
UID:10005739-1813050000-1813052700@saintthomaszanesville.org
SUMMARY:Mass
DESCRIPTION:
URL:https://saintthomaszanesville.org/event/mass-4/2027-06-15/
LOCATION:St Thomas
CATEGORIES:Mass
END:VEVENT
BEGIN:VEVENT
DTSTART;TZID=America/Detroit:20270616T090000
DTEND;TZID=America/Detroit:20270616T094500
DTSTAMP:20260421T020750
CREATED:20230717T191330Z
LAST-MODIFIED:20251121T143234Z
UID:10005480-1813136400-1813139100@saintthomaszanesville.org
SUMMARY:Mass
DESCRIPTION:
URL:https://saintthomaszanesville.org/event/mass-3/2027-06-16/
LOCATION:St Thomas
CATEGORIES:Mass
END:VEVENT
BEGIN:VEVENT
DTSTART;TZID=America/Detroit:20270617T090000
DTEND;TZID=America/Detroit:20270617T094500
DTSTAMP:20260421T020750
CREATED:20231025T130315Z
LAST-MODIFIED:20260219T151402Z
UID:10005998-1813222800-1813225500@saintthomaszanesville.org
SUMMARY:Mass
DESCRIPTION:
URL:https://saintthomaszanesville.org/event/mass-5-3/2027-06-17/
LOCATION:St Thomas
CATEGORIES:Mass
END:VEVENT
BEGIN:VEVENT
DTSTART;TZID=America/Detroit:20270618T090000
DTEND;TZID=America/Detroit:20270618T094500
DTSTAMP:20260421T020750
CREATED:20231026T143024Z
LAST-MODIFIED:20260219T151539Z
UID:10006257-1813309200-1813311900@saintthomaszanesville.org
SUMMARY:Mass
DESCRIPTION:
URL:https://saintthomaszanesville.org/event/mass-6-2/2027-06-18/
LOCATION:St Thomas
CATEGORIES:Mass
END:VEVENT
BEGIN:VEVENT
DTSTART;TZID=America/Detroit:20270619T163000
DTEND;TZID=America/Detroit:20270619T173000
DTSTAMP:20260421T020750
CREATED:20240626T171342Z
LAST-MODIFIED:20260219T153326Z
UID:10008071-1813422600-1813426200@saintthomaszanesville.org
SUMMARY:Mass
DESCRIPTION:
URL:https://saintthomaszanesville.org/event/mass/2027-06-19/
LOCATION:St Thomas
CATEGORIES:Mass
END:VEVENT
BEGIN:VEVENT
DTSTART;TZID=America/Detroit:20270620T074500
DTEND;TZID=America/Detroit:20270620T084500
DTSTAMP:20260421T020750
CREATED:20240626T174505Z
LAST-MODIFIED:20250917T124608Z
UID:10008875-1813477500-1813481100@saintthomaszanesville.org
SUMMARY:Mass
DESCRIPTION:
URL:https://saintthomaszanesville.org/event/mass-2-2/2027-06-20/
CATEGORIES:Mass
END:VEVENT
BEGIN:VEVENT
DTSTART;TZID=America/Detroit:20270620T110000
DTEND;TZID=America/Detroit:20270620T120000
DTSTAMP:20260421T020750
CREATED:20240626T174409Z
LAST-MODIFIED:20241205T172135Z
UID:10009140-1813489200-1813492800@saintthomaszanesville.org
SUMMARY:Mass
DESCRIPTION:
URL:https://saintthomaszanesville.org/event/mass-2/2027-06-20/
CATEGORIES:Mass
END:VEVENT
BEGIN:VEVENT
DTSTART;TZID=America/Detroit:20270622T090000
DTEND;TZID=America/Detroit:20270622T094500
DTSTAMP:20260421T020750
CREATED:20230717T191610Z
LAST-MODIFIED:20260219T151222Z
UID:10005740-1813654800-1813657500@saintthomaszanesville.org
SUMMARY:Mass
DESCRIPTION:
URL:https://saintthomaszanesville.org/event/mass-4/2027-06-22/
LOCATION:St Thomas
CATEGORIES:Mass
END:VEVENT
END:VCALENDAR