BEGIN:VCALENDAR
VERSION:2.0
PRODID:-//Saint Thomas Acquinas Zanesville - ECPv6.15.20//NONSGML v1.0//EN
CALSCALE:GREGORIAN
METHOD:PUBLISH
X-WR-CALNAME:Saint Thomas Acquinas Zanesville
X-ORIGINAL-URL:https://saintthomaszanesville.org
X-WR-CALDESC:Events for Saint Thomas Acquinas Zanesville
REFRESH-INTERVAL;VALUE=DURATION:PT1H
X-Robots-Tag:noindex
X-PUBLISHED-TTL:PT1H
BEGIN:VTIMEZONE
TZID:America/Detroit
BEGIN:DAYLIGHT
TZOFFSETFROM:-0500
TZOFFSETTO:-0400
TZNAME:EDT
DTSTART:20270314T070000
END:DAYLIGHT
BEGIN:STANDARD
TZOFFSETFROM:-0400
TZOFFSETTO:-0500
TZNAME:EST
DTSTART:20271107T060000
END:STANDARD
BEGIN:DAYLIGHT
TZOFFSETFROM:-0500
TZOFFSETTO:-0400
TZNAME:EDT
DTSTART:20280312T070000
END:DAYLIGHT
BEGIN:STANDARD
TZOFFSETFROM:-0400
TZOFFSETTO:-0500
TZNAME:EST
DTSTART:20281105T060000
END:STANDARD
BEGIN:DAYLIGHT
TZOFFSETFROM:-0500
TZOFFSETTO:-0400
TZNAME:EDT
DTSTART:20290311T070000
END:DAYLIGHT
BEGIN:STANDARD
TZOFFSETFROM:-0400
TZOFFSETTO:-0500
TZNAME:EST
DTSTART:20291104T060000
END:STANDARD
END:VTIMEZONE
BEGIN:VEVENT
DTSTART;TZID=America/Detroit:20280101T163000
DTEND;TZID=America/Detroit:20280101T173000
DTSTAMP:20260422T184748
CREATED:20240626T171342Z
LAST-MODIFIED:20260219T153326Z
UID:10008099-1830357000-1830360600@saintthomaszanesville.org
SUMMARY:Mass
DESCRIPTION:
URL:https://saintthomaszanesville.org/event/mass/2028-01-01/
LOCATION:St Thomas
CATEGORIES:Mass
END:VEVENT
BEGIN:VEVENT
DTSTART;TZID=America/Detroit:20280102T074500
DTEND;TZID=America/Detroit:20280102T084500
DTSTAMP:20260422T184748
CREATED:20240626T174505Z
LAST-MODIFIED:20250917T124608Z
UID:10008903-1830411900-1830415500@saintthomaszanesville.org
SUMMARY:Mass
DESCRIPTION:
URL:https://saintthomaszanesville.org/event/mass-2-2/2028-01-02/
CATEGORIES:Mass
END:VEVENT
BEGIN:VEVENT
DTSTART;TZID=America/Detroit:20280102T110000
DTEND;TZID=America/Detroit:20280102T120000
DTSTAMP:20260422T184748
CREATED:20240626T174409Z
LAST-MODIFIED:20241205T172135Z
UID:10009168-1830423600-1830427200@saintthomaszanesville.org
SUMMARY:Mass
DESCRIPTION:
URL:https://saintthomaszanesville.org/event/mass-2/2028-01-02/
CATEGORIES:Mass
END:VEVENT
BEGIN:VEVENT
DTSTART;TZID=America/Detroit:20280104T090000
DTEND;TZID=America/Detroit:20280104T094500
DTSTAMP:20260422T184748
CREATED:20230717T191610Z
LAST-MODIFIED:20260219T151222Z
UID:10005768-1830589200-1830591900@saintthomaszanesville.org
SUMMARY:Mass
DESCRIPTION:
URL:https://saintthomaszanesville.org/event/mass-4/2028-01-04/
LOCATION:St Thomas
CATEGORIES:Mass
END:VEVENT
BEGIN:VEVENT
DTSTART;TZID=America/Detroit:20280105T090000
DTEND;TZID=America/Detroit:20280105T094500
DTSTAMP:20260422T184748
CREATED:20230717T191330Z
LAST-MODIFIED:20251121T143234Z
UID:10005509-1830675600-1830678300@saintthomaszanesville.org
SUMMARY:Mass
DESCRIPTION:
URL:https://saintthomaszanesville.org/event/mass-3/2028-01-05/
LOCATION:St Thomas
CATEGORIES:Mass
END:VEVENT
BEGIN:VEVENT
DTSTART;TZID=America/Detroit:20280106T090000
DTEND;TZID=America/Detroit:20280106T094500
DTSTAMP:20260422T184748
CREATED:20231025T130315Z
LAST-MODIFIED:20260219T151402Z
UID:10006027-1830762000-1830764700@saintthomaszanesville.org
SUMMARY:Mass
DESCRIPTION:
URL:https://saintthomaszanesville.org/event/mass-5-3/2028-01-06/
LOCATION:St Thomas
CATEGORIES:Mass
END:VEVENT
BEGIN:VEVENT
DTSTART;TZID=America/Detroit:20280107T090000
DTEND;TZID=America/Detroit:20280107T094500
DTSTAMP:20260422T184748
CREATED:20231026T143024Z
LAST-MODIFIED:20260219T151539Z
UID:10006286-1830848400-1830851100@saintthomaszanesville.org
SUMMARY:Mass
DESCRIPTION:
URL:https://saintthomaszanesville.org/event/mass-6-2/2028-01-07/
LOCATION:St Thomas
CATEGORIES:Mass
END:VEVENT
BEGIN:VEVENT
DTSTART;TZID=America/Detroit:20280108T163000
DTEND;TZID=America/Detroit:20280108T173000
DTSTAMP:20260422T184748
CREATED:20240626T171342Z
LAST-MODIFIED:20260219T153326Z
UID:10008100-1830961800-1830965400@saintthomaszanesville.org
SUMMARY:Mass
DESCRIPTION:
URL:https://saintthomaszanesville.org/event/mass/2028-01-08/
LOCATION:St Thomas
CATEGORIES:Mass
END:VEVENT
BEGIN:VEVENT
DTSTART;TZID=America/Detroit:20280109T074500
DTEND;TZID=America/Detroit:20280109T084500
DTSTAMP:20260422T184748
CREATED:20240626T174505Z
LAST-MODIFIED:20250917T124608Z
UID:10008904-1831016700-1831020300@saintthomaszanesville.org
SUMMARY:Mass
DESCRIPTION:
URL:https://saintthomaszanesville.org/event/mass-2-2/2028-01-09/
CATEGORIES:Mass
END:VEVENT
BEGIN:VEVENT
DTSTART;TZID=America/Detroit:20280109T110000
DTEND;TZID=America/Detroit:20280109T120000
DTSTAMP:20260422T184748
CREATED:20240626T174409Z
LAST-MODIFIED:20241205T172135Z
UID:10009169-1831028400-1831032000@saintthomaszanesville.org
SUMMARY:Mass
DESCRIPTION:
URL:https://saintthomaszanesville.org/event/mass-2/2028-01-09/
CATEGORIES:Mass
END:VEVENT
BEGIN:VEVENT
DTSTART;TZID=America/Detroit:20280111T090000
DTEND;TZID=America/Detroit:20280111T094500
DTSTAMP:20260422T184748
CREATED:20230717T191610Z
LAST-MODIFIED:20260219T151222Z
UID:10005769-1831194000-1831196700@saintthomaszanesville.org
SUMMARY:Mass
DESCRIPTION:
URL:https://saintthomaszanesville.org/event/mass-4/2028-01-11/
LOCATION:St Thomas
CATEGORIES:Mass
END:VEVENT
BEGIN:VEVENT
DTSTART;TZID=America/Detroit:20280112T090000
DTEND;TZID=America/Detroit:20280112T094500
DTSTAMP:20260422T184748
CREATED:20230717T191330Z
LAST-MODIFIED:20251121T143234Z
UID:10005510-1831280400-1831283100@saintthomaszanesville.org
SUMMARY:Mass
DESCRIPTION:
URL:https://saintthomaszanesville.org/event/mass-3/2028-01-12/
LOCATION:St Thomas
CATEGORIES:Mass
END:VEVENT
BEGIN:VEVENT
DTSTART;TZID=America/Detroit:20280113T090000
DTEND;TZID=America/Detroit:20280113T094500
DTSTAMP:20260422T184748
CREATED:20231025T130315Z
LAST-MODIFIED:20260219T151402Z
UID:10006028-1831366800-1831369500@saintthomaszanesville.org
SUMMARY:Mass
DESCRIPTION:
URL:https://saintthomaszanesville.org/event/mass-5-3/2028-01-13/
LOCATION:St Thomas
CATEGORIES:Mass
END:VEVENT
BEGIN:VEVENT
DTSTART;TZID=America/Detroit:20280114T090000
DTEND;TZID=America/Detroit:20280114T094500
DTSTAMP:20260422T184749
CREATED:20231026T143024Z
LAST-MODIFIED:20260219T151539Z
UID:10006287-1831453200-1831455900@saintthomaszanesville.org
SUMMARY:Mass
DESCRIPTION:
URL:https://saintthomaszanesville.org/event/mass-6-2/2028-01-14/
LOCATION:St Thomas
CATEGORIES:Mass
END:VEVENT
BEGIN:VEVENT
DTSTART;TZID=America/Detroit:20280115T163000
DTEND;TZID=America/Detroit:20280115T173000
DTSTAMP:20260422T184749
CREATED:20240626T171342Z
LAST-MODIFIED:20260219T153326Z
UID:10008101-1831566600-1831570200@saintthomaszanesville.org
SUMMARY:Mass
DESCRIPTION:
URL:https://saintthomaszanesville.org/event/mass/2028-01-15/
LOCATION:St Thomas
CATEGORIES:Mass
END:VEVENT
BEGIN:VEVENT
DTSTART;TZID=America/Detroit:20280116T074500
DTEND;TZID=America/Detroit:20280116T084500
DTSTAMP:20260422T184749
CREATED:20240626T174505Z
LAST-MODIFIED:20250917T124608Z
UID:10008905-1831621500-1831625100@saintthomaszanesville.org
SUMMARY:Mass
DESCRIPTION:
URL:https://saintthomaszanesville.org/event/mass-2-2/2028-01-16/
CATEGORIES:Mass
END:VEVENT
BEGIN:VEVENT
DTSTART;TZID=America/Detroit:20280116T110000
DTEND;TZID=America/Detroit:20280116T120000
DTSTAMP:20260422T184749
CREATED:20240626T174409Z
LAST-MODIFIED:20241205T172135Z
UID:10009170-1831633200-1831636800@saintthomaszanesville.org
SUMMARY:Mass
DESCRIPTION:
URL:https://saintthomaszanesville.org/event/mass-2/2028-01-16/
CATEGORIES:Mass
END:VEVENT
BEGIN:VEVENT
DTSTART;TZID=America/Detroit:20280118T090000
DTEND;TZID=America/Detroit:20280118T094500
DTSTAMP:20260422T184749
CREATED:20230717T191610Z
LAST-MODIFIED:20260219T151222Z
UID:10005770-1831798800-1831801500@saintthomaszanesville.org
SUMMARY:Mass
DESCRIPTION:
URL:https://saintthomaszanesville.org/event/mass-4/2028-01-18/
LOCATION:St Thomas
CATEGORIES:Mass
END:VEVENT
BEGIN:VEVENT
DTSTART;TZID=America/Detroit:20280119T090000
DTEND;TZID=America/Detroit:20280119T094500
DTSTAMP:20260422T184749
CREATED:20230717T191330Z
LAST-MODIFIED:20251121T143234Z
UID:10005511-1831885200-1831887900@saintthomaszanesville.org
SUMMARY:Mass
DESCRIPTION:
URL:https://saintthomaszanesville.org/event/mass-3/2028-01-19/
LOCATION:St Thomas
CATEGORIES:Mass
END:VEVENT
BEGIN:VEVENT
DTSTART;TZID=America/Detroit:20280120T090000
DTEND;TZID=America/Detroit:20280120T094500
DTSTAMP:20260422T184749
CREATED:20231025T130315Z
LAST-MODIFIED:20260219T151402Z
UID:10006029-1831971600-1831974300@saintthomaszanesville.org
SUMMARY:Mass
DESCRIPTION:
URL:https://saintthomaszanesville.org/event/mass-5-3/2028-01-20/
LOCATION:St Thomas
CATEGORIES:Mass
END:VEVENT
BEGIN:VEVENT
DTSTART;TZID=America/Detroit:20280121T090000
DTEND;TZID=America/Detroit:20280121T094500
DTSTAMP:20260422T184749
CREATED:20231026T143024Z
LAST-MODIFIED:20260219T151539Z
UID:10006288-1832058000-1832060700@saintthomaszanesville.org
SUMMARY:Mass
DESCRIPTION:
URL:https://saintthomaszanesville.org/event/mass-6-2/2028-01-21/
LOCATION:St Thomas
CATEGORIES:Mass
END:VEVENT
BEGIN:VEVENT
DTSTART;TZID=America/Detroit:20280122T163000
DTEND;TZID=America/Detroit:20280122T173000
DTSTAMP:20260422T184749
CREATED:20240626T171342Z
LAST-MODIFIED:20260219T153326Z
UID:10008102-1832171400-1832175000@saintthomaszanesville.org
SUMMARY:Mass
DESCRIPTION:
URL:https://saintthomaszanesville.org/event/mass/2028-01-22/
LOCATION:St Thomas
CATEGORIES:Mass
END:VEVENT
BEGIN:VEVENT
DTSTART;TZID=America/Detroit:20280123T074500
DTEND;TZID=America/Detroit:20280123T084500
DTSTAMP:20260422T184749
CREATED:20240626T174505Z
LAST-MODIFIED:20250917T124608Z
UID:10008906-1832226300-1832229900@saintthomaszanesville.org
SUMMARY:Mass
DESCRIPTION:
URL:https://saintthomaszanesville.org/event/mass-2-2/2028-01-23/
CATEGORIES:Mass
END:VEVENT
BEGIN:VEVENT
DTSTART;TZID=America/Detroit:20280123T110000
DTEND;TZID=America/Detroit:20280123T120000
DTSTAMP:20260422T184749
CREATED:20240626T174409Z
LAST-MODIFIED:20241205T172135Z
UID:10009171-1832238000-1832241600@saintthomaszanesville.org
SUMMARY:Mass
DESCRIPTION:
URL:https://saintthomaszanesville.org/event/mass-2/2028-01-23/
CATEGORIES:Mass
END:VEVENT
BEGIN:VEVENT
DTSTART;TZID=America/Detroit:20280125T090000
DTEND;TZID=America/Detroit:20280125T094500
DTSTAMP:20260422T184749
CREATED:20230717T191610Z
LAST-MODIFIED:20260219T151222Z
UID:10005771-1832403600-1832406300@saintthomaszanesville.org
SUMMARY:Mass
DESCRIPTION:
URL:https://saintthomaszanesville.org/event/mass-4/2028-01-25/
LOCATION:St Thomas
CATEGORIES:Mass
END:VEVENT
BEGIN:VEVENT
DTSTART;TZID=America/Detroit:20280126T090000
DTEND;TZID=America/Detroit:20280126T094500
DTSTAMP:20260422T184749
CREATED:20230717T191330Z
LAST-MODIFIED:20251121T143234Z
UID:10005512-1832490000-1832492700@saintthomaszanesville.org
SUMMARY:Mass
DESCRIPTION:
URL:https://saintthomaszanesville.org/event/mass-3/2028-01-26/
LOCATION:St Thomas
CATEGORIES:Mass
END:VEVENT
BEGIN:VEVENT
DTSTART;TZID=America/Detroit:20280127T090000
DTEND;TZID=America/Detroit:20280127T094500
DTSTAMP:20260422T184749
CREATED:20231025T130315Z
LAST-MODIFIED:20260219T151402Z
UID:10006030-1832576400-1832579100@saintthomaszanesville.org
SUMMARY:Mass
DESCRIPTION:
URL:https://saintthomaszanesville.org/event/mass-5-3/2028-01-27/
LOCATION:St Thomas
CATEGORIES:Mass
END:VEVENT
BEGIN:VEVENT
DTSTART;TZID=America/Detroit:20280128T090000
DTEND;TZID=America/Detroit:20280128T094500
DTSTAMP:20260422T184749
CREATED:20231026T143024Z
LAST-MODIFIED:20260219T151539Z
UID:10006289-1832662800-1832665500@saintthomaszanesville.org
SUMMARY:Mass
DESCRIPTION:
URL:https://saintthomaszanesville.org/event/mass-6-2/2028-01-28/
LOCATION:St Thomas
CATEGORIES:Mass
END:VEVENT
BEGIN:VEVENT
DTSTART;TZID=America/Detroit:20280129T163000
DTEND;TZID=America/Detroit:20280129T173000
DTSTAMP:20260422T184749
CREATED:20240626T171342Z
LAST-MODIFIED:20260219T153326Z
UID:10008103-1832776200-1832779800@saintthomaszanesville.org
SUMMARY:Mass
DESCRIPTION:
URL:https://saintthomaszanesville.org/event/mass/2028-01-29/
LOCATION:St Thomas
CATEGORIES:Mass
END:VEVENT
BEGIN:VEVENT
DTSTART;TZID=America/Detroit:20280130T074500
DTEND;TZID=America/Detroit:20280130T084500
DTSTAMP:20260422T184749
CREATED:20240626T174505Z
LAST-MODIFIED:20250917T124608Z
UID:10008907-1832831100-1832834700@saintthomaszanesville.org
SUMMARY:Mass
DESCRIPTION:
URL:https://saintthomaszanesville.org/event/mass-2-2/2028-01-30/
CATEGORIES:Mass
END:VEVENT
END:VCALENDAR