BEGIN:VCALENDAR
VERSION:2.0
PRODID:-//Saint Thomas Acquinas Zanesville - ECPv6.15.20//NONSGML v1.0//EN
CALSCALE:GREGORIAN
METHOD:PUBLISH
X-WR-CALNAME:Saint Thomas Acquinas Zanesville
X-ORIGINAL-URL:https://saintthomaszanesville.org
X-WR-CALDESC:Events for Saint Thomas Acquinas Zanesville
REFRESH-INTERVAL;VALUE=DURATION:PT1H
X-Robots-Tag:noindex
X-PUBLISHED-TTL:PT1H
BEGIN:VTIMEZONE
TZID:America/Detroit
BEGIN:DAYLIGHT
TZOFFSETFROM:-0500
TZOFFSETTO:-0400
TZNAME:EDT
DTSTART:20230312T070000
END:DAYLIGHT
BEGIN:STANDARD
TZOFFSETFROM:-0400
TZOFFSETTO:-0500
TZNAME:EST
DTSTART:20231105T060000
END:STANDARD
BEGIN:DAYLIGHT
TZOFFSETFROM:-0500
TZOFFSETTO:-0400
TZNAME:EDT
DTSTART:20240310T070000
END:DAYLIGHT
BEGIN:STANDARD
TZOFFSETFROM:-0400
TZOFFSETTO:-0500
TZNAME:EST
DTSTART:20241103T060000
END:STANDARD
BEGIN:DAYLIGHT
TZOFFSETFROM:-0500
TZOFFSETTO:-0400
TZNAME:EDT
DTSTART:20250309T070000
END:DAYLIGHT
BEGIN:STANDARD
TZOFFSETFROM:-0400
TZOFFSETTO:-0500
TZNAME:EST
DTSTART:20251102T060000
END:STANDARD
END:VTIMEZONE
BEGIN:VEVENT
DTSTART;TZID=America/Detroit:20240901T110000
DTEND;TZID=America/Detroit:20240901T120000
DTSTAMP:20260422T182757
CREATED:20240626T174409Z
LAST-MODIFIED:20241205T172135Z
UID:10008994-1725188400-1725192000@saintthomaszanesville.org
SUMMARY:Mass
DESCRIPTION:
URL:https://saintthomaszanesville.org/event/mass-2/2024-09-01/
CATEGORIES:Mass
END:VEVENT
BEGIN:VEVENT
DTSTART;TZID=America/Detroit:20240903T090000
DTEND;TZID=America/Detroit:20240903T094500
DTSTAMP:20260422T182757
CREATED:20230717T191610Z
LAST-MODIFIED:20260219T151222Z
UID:10005594-1725354000-1725356700@saintthomaszanesville.org
SUMMARY:Mass
DESCRIPTION:
URL:https://saintthomaszanesville.org/event/mass-4/2024-09-03/
LOCATION:St Thomas
CATEGORIES:Mass
END:VEVENT
BEGIN:VEVENT
DTSTART;TZID=America/Detroit:20240904T090000
DTEND;TZID=America/Detroit:20240904T094500
DTSTAMP:20260422T182757
CREATED:20230717T191330Z
LAST-MODIFIED:20251121T143234Z
UID:10005335-1725440400-1725443100@saintthomaszanesville.org
SUMMARY:Mass
DESCRIPTION:
URL:https://saintthomaszanesville.org/event/mass-3/2024-09-04/
LOCATION:St Thomas
CATEGORIES:Mass
END:VEVENT
BEGIN:VEVENT
DTSTART;TZID=America/Detroit:20240905T090000
DTEND;TZID=America/Detroit:20240905T094500
DTSTAMP:20260422T182757
CREATED:20231025T130315Z
LAST-MODIFIED:20260219T151402Z
UID:10005853-1725526800-1725529500@saintthomaszanesville.org
SUMMARY:Mass
DESCRIPTION:
URL:https://saintthomaszanesville.org/event/mass-5-3/2024-09-05/
LOCATION:St Thomas
CATEGORIES:Mass
END:VEVENT
BEGIN:VEVENT
DTSTART;TZID=America/Detroit:20240906T090000
DTEND;TZID=America/Detroit:20240906T094500
DTSTAMP:20260422T182757
CREATED:20231026T143024Z
LAST-MODIFIED:20260219T151539Z
UID:10006112-1725613200-1725615900@saintthomaszanesville.org
SUMMARY:Mass
DESCRIPTION:
URL:https://saintthomaszanesville.org/event/mass-6-2/2024-09-06/
LOCATION:St Thomas
CATEGORIES:Mass
END:VEVENT
BEGIN:VEVENT
DTSTART;TZID=America/Detroit:20240908T110000
DTEND;TZID=America/Detroit:20240908T120000
DTSTAMP:20260422T182757
CREATED:20240626T174409Z
LAST-MODIFIED:20241205T172135Z
UID:10008995-1725793200-1725796800@saintthomaszanesville.org
SUMMARY:Mass
DESCRIPTION:
URL:https://saintthomaszanesville.org/event/mass-2/2024-09-08/
CATEGORIES:Mass
END:VEVENT
BEGIN:VEVENT
DTSTART;TZID=America/Detroit:20240910T090000
DTEND;TZID=America/Detroit:20240910T094500
DTSTAMP:20260422T182757
CREATED:20230717T191610Z
LAST-MODIFIED:20260219T151222Z
UID:10005595-1725958800-1725961500@saintthomaszanesville.org
SUMMARY:Mass
DESCRIPTION:
URL:https://saintthomaszanesville.org/event/mass-4/2024-09-10/
LOCATION:St Thomas
CATEGORIES:Mass
END:VEVENT
BEGIN:VEVENT
DTSTART;TZID=America/Detroit:20240911T090000
DTEND;TZID=America/Detroit:20240911T094500
DTSTAMP:20260422T182757
CREATED:20230717T191330Z
LAST-MODIFIED:20251121T143234Z
UID:10005336-1726045200-1726047900@saintthomaszanesville.org
SUMMARY:Mass
DESCRIPTION:
URL:https://saintthomaszanesville.org/event/mass-3/2024-09-11/
LOCATION:St Thomas
CATEGORIES:Mass
END:VEVENT
BEGIN:VEVENT
DTSTART;TZID=America/Detroit:20240912T090000
DTEND;TZID=America/Detroit:20240912T094500
DTSTAMP:20260422T182757
CREATED:20231025T130315Z
LAST-MODIFIED:20260219T151402Z
UID:10005854-1726131600-1726134300@saintthomaszanesville.org
SUMMARY:Mass
DESCRIPTION:
URL:https://saintthomaszanesville.org/event/mass-5-3/2024-09-12/
LOCATION:St Thomas
CATEGORIES:Mass
END:VEVENT
BEGIN:VEVENT
DTSTART;TZID=America/Detroit:20240913T090000
DTEND;TZID=America/Detroit:20240913T094500
DTSTAMP:20260422T182757
CREATED:20231026T143024Z
LAST-MODIFIED:20260219T151539Z
UID:10006113-1726218000-1726220700@saintthomaszanesville.org
SUMMARY:Mass
DESCRIPTION:
URL:https://saintthomaszanesville.org/event/mass-6-2/2024-09-13/
LOCATION:St Thomas
CATEGORIES:Mass
END:VEVENT
BEGIN:VEVENT
DTSTART;TZID=America/Detroit:20240914T163000
DTEND;TZID=America/Detroit:20240914T173000
DTSTAMP:20260422T182757
CREATED:20240626T171342Z
LAST-MODIFIED:20260219T153326Z
UID:10007927-1726331400-1726335000@saintthomaszanesville.org
SUMMARY:Mass
DESCRIPTION:
URL:https://saintthomaszanesville.org/event/mass/2024-09-14/
LOCATION:St Thomas
CATEGORIES:Mass
END:VEVENT
BEGIN:VEVENT
DTSTART;TZID=America/Detroit:20240915T074500
DTEND;TZID=America/Detroit:20240915T084500
DTSTAMP:20260422T182757
CREATED:20240626T174505Z
LAST-MODIFIED:20250917T124608Z
UID:10008731-1726386300-1726389900@saintthomaszanesville.org
SUMMARY:Mass
DESCRIPTION:
URL:https://saintthomaszanesville.org/event/mass-2-2/2024-09-15/
CATEGORIES:Mass
END:VEVENT
BEGIN:VEVENT
DTSTART;TZID=America/Detroit:20240915T110000
DTEND;TZID=America/Detroit:20240915T120000
DTSTAMP:20260422T182757
CREATED:20240626T174409Z
LAST-MODIFIED:20241205T172135Z
UID:10008996-1726398000-1726401600@saintthomaszanesville.org
SUMMARY:Mass
DESCRIPTION:
URL:https://saintthomaszanesville.org/event/mass-2/2024-09-15/
CATEGORIES:Mass
END:VEVENT
BEGIN:VEVENT
DTSTART;TZID=America/Detroit:20240917T090000
DTEND;TZID=America/Detroit:20240917T094500
DTSTAMP:20260422T182757
CREATED:20230717T191610Z
LAST-MODIFIED:20260219T151222Z
UID:10005596-1726563600-1726566300@saintthomaszanesville.org
SUMMARY:Mass
DESCRIPTION:
URL:https://saintthomaszanesville.org/event/mass-4/2024-09-17/
LOCATION:St Thomas
CATEGORIES:Mass
END:VEVENT
BEGIN:VEVENT
DTSTART;TZID=America/Detroit:20240918T090000
DTEND;TZID=America/Detroit:20240918T094500
DTSTAMP:20260422T182757
CREATED:20230717T191330Z
LAST-MODIFIED:20251121T143234Z
UID:10005337-1726650000-1726652700@saintthomaszanesville.org
SUMMARY:Mass
DESCRIPTION:
URL:https://saintthomaszanesville.org/event/mass-3/2024-09-18/
LOCATION:St Thomas
CATEGORIES:Mass
END:VEVENT
BEGIN:VEVENT
DTSTART;TZID=America/Detroit:20240919T090000
DTEND;TZID=America/Detroit:20240919T094500
DTSTAMP:20260422T182757
CREATED:20231025T130315Z
LAST-MODIFIED:20260219T151402Z
UID:10005855-1726736400-1726739100@saintthomaszanesville.org
SUMMARY:Mass
DESCRIPTION:
URL:https://saintthomaszanesville.org/event/mass-5-3/2024-09-19/
LOCATION:St Thomas
CATEGORIES:Mass
END:VEVENT
BEGIN:VEVENT
DTSTART;TZID=America/Detroit:20240920T090000
DTEND;TZID=America/Detroit:20240920T094500
DTSTAMP:20260422T182757
CREATED:20231026T143024Z
LAST-MODIFIED:20260219T151539Z
UID:10006114-1726822800-1726825500@saintthomaszanesville.org
SUMMARY:Mass
DESCRIPTION:
URL:https://saintthomaszanesville.org/event/mass-6-2/2024-09-20/
LOCATION:St Thomas
CATEGORIES:Mass
END:VEVENT
BEGIN:VEVENT
DTSTART;TZID=America/Detroit:20240921T163000
DTEND;TZID=America/Detroit:20240921T173000
DTSTAMP:20260422T182757
CREATED:20240626T171342Z
LAST-MODIFIED:20260219T153326Z
UID:10007928-1726936200-1726939800@saintthomaszanesville.org
SUMMARY:Mass
DESCRIPTION:
URL:https://saintthomaszanesville.org/event/mass/2024-09-21/
LOCATION:St Thomas
CATEGORIES:Mass
END:VEVENT
BEGIN:VEVENT
DTSTART;TZID=America/Detroit:20240922T074500
DTEND;TZID=America/Detroit:20240922T084500
DTSTAMP:20260422T182757
CREATED:20240626T174505Z
LAST-MODIFIED:20250917T124608Z
UID:10008732-1726991100-1726994700@saintthomaszanesville.org
SUMMARY:Mass
DESCRIPTION:
URL:https://saintthomaszanesville.org/event/mass-2-2/2024-09-22/
CATEGORIES:Mass
END:VEVENT
BEGIN:VEVENT
DTSTART;TZID=America/Detroit:20240922T110000
DTEND;TZID=America/Detroit:20240922T120000
DTSTAMP:20260422T182757
CREATED:20240626T174409Z
LAST-MODIFIED:20241205T172135Z
UID:10008997-1727002800-1727006400@saintthomaszanesville.org
SUMMARY:Mass
DESCRIPTION:
URL:https://saintthomaszanesville.org/event/mass-2/2024-09-22/
CATEGORIES:Mass
END:VEVENT
BEGIN:VEVENT
DTSTART;TZID=America/Detroit:20240924T090000
DTEND;TZID=America/Detroit:20240924T094500
DTSTAMP:20260422T182757
CREATED:20230717T191610Z
LAST-MODIFIED:20260219T151222Z
UID:10005597-1727168400-1727171100@saintthomaszanesville.org
SUMMARY:Mass
DESCRIPTION:
URL:https://saintthomaszanesville.org/event/mass-4/2024-09-24/
LOCATION:St Thomas
CATEGORIES:Mass
END:VEVENT
BEGIN:VEVENT
DTSTART;TZID=America/Detroit:20240925T090000
DTEND;TZID=America/Detroit:20240925T094500
DTSTAMP:20260422T182757
CREATED:20230717T191330Z
LAST-MODIFIED:20251121T143234Z
UID:10005338-1727254800-1727257500@saintthomaszanesville.org
SUMMARY:Mass
DESCRIPTION:
URL:https://saintthomaszanesville.org/event/mass-3/2024-09-25/
LOCATION:St Thomas
CATEGORIES:Mass
END:VEVENT
BEGIN:VEVENT
DTSTART;TZID=America/Detroit:20240926T090000
DTEND;TZID=America/Detroit:20240926T094500
DTSTAMP:20260422T182757
CREATED:20231025T130315Z
LAST-MODIFIED:20260219T151402Z
UID:10005856-1727341200-1727343900@saintthomaszanesville.org
SUMMARY:Mass
DESCRIPTION:
URL:https://saintthomaszanesville.org/event/mass-5-3/2024-09-26/
LOCATION:St Thomas
CATEGORIES:Mass
END:VEVENT
BEGIN:VEVENT
DTSTART;TZID=America/Detroit:20240927T090000
DTEND;TZID=America/Detroit:20240927T094500
DTSTAMP:20260422T182757
CREATED:20231026T143024Z
LAST-MODIFIED:20260219T151539Z
UID:10006115-1727427600-1727430300@saintthomaszanesville.org
SUMMARY:Mass
DESCRIPTION:
URL:https://saintthomaszanesville.org/event/mass-6-2/2024-09-27/
LOCATION:St Thomas
CATEGORIES:Mass
END:VEVENT
BEGIN:VEVENT
DTSTART;TZID=America/Detroit:20240928T163000
DTEND;TZID=America/Detroit:20240928T173000
DTSTAMP:20260422T182757
CREATED:20240626T171342Z
LAST-MODIFIED:20260219T153326Z
UID:10007929-1727541000-1727544600@saintthomaszanesville.org
SUMMARY:Mass
DESCRIPTION:
URL:https://saintthomaszanesville.org/event/mass/2024-09-28/
LOCATION:St Thomas
CATEGORIES:Mass
END:VEVENT
BEGIN:VEVENT
DTSTART;TZID=America/Detroit:20240929T074500
DTEND;TZID=America/Detroit:20240929T084500
DTSTAMP:20260422T182757
CREATED:20240626T174505Z
LAST-MODIFIED:20250917T124608Z
UID:10008733-1727595900-1727599500@saintthomaszanesville.org
SUMMARY:Mass
DESCRIPTION:
URL:https://saintthomaszanesville.org/event/mass-2-2/2024-09-29/
CATEGORIES:Mass
END:VEVENT
BEGIN:VEVENT
DTSTART;TZID=America/Detroit:20240929T110000
DTEND;TZID=America/Detroit:20240929T120000
DTSTAMP:20260422T182757
CREATED:20240626T174409Z
LAST-MODIFIED:20241205T172135Z
UID:10008998-1727607600-1727611200@saintthomaszanesville.org
SUMMARY:Mass
DESCRIPTION:
URL:https://saintthomaszanesville.org/event/mass-2/2024-09-29/
CATEGORIES:Mass
END:VEVENT
BEGIN:VEVENT
DTSTART;TZID=America/Detroit:20241001T090000
DTEND;TZID=America/Detroit:20241001T094500
DTSTAMP:20260422T182757
CREATED:20230717T191610Z
LAST-MODIFIED:20260219T151222Z
UID:10005598-1727773200-1727775900@saintthomaszanesville.org
SUMMARY:Mass
DESCRIPTION:
URL:https://saintthomaszanesville.org/event/mass-4/2024-10-01/
LOCATION:St Thomas
CATEGORIES:Mass
END:VEVENT
BEGIN:VEVENT
DTSTART;TZID=America/Detroit:20241002T090000
DTEND;TZID=America/Detroit:20241002T094500
DTSTAMP:20260422T182757
CREATED:20230717T191330Z
LAST-MODIFIED:20251121T143234Z
UID:10005339-1727859600-1727862300@saintthomaszanesville.org
SUMMARY:Mass
DESCRIPTION:
URL:https://saintthomaszanesville.org/event/mass-3/2024-10-02/
LOCATION:St Thomas
CATEGORIES:Mass
END:VEVENT
BEGIN:VEVENT
DTSTART;TZID=America/Detroit:20241003T090000
DTEND;TZID=America/Detroit:20241003T094500
DTSTAMP:20260422T182757
CREATED:20231025T130315Z
LAST-MODIFIED:20260219T151402Z
UID:10005857-1727946000-1727948700@saintthomaszanesville.org
SUMMARY:Mass
DESCRIPTION:
URL:https://saintthomaszanesville.org/event/mass-5-3/2024-10-03/
LOCATION:St Thomas
CATEGORIES:Mass
END:VEVENT
END:VCALENDAR