BEGIN:VCALENDAR
VERSION:2.0
PRODID:-//Saint Thomas Acquinas Zanesville - ECPv6.15.20//NONSGML v1.0//EN
CALSCALE:GREGORIAN
METHOD:PUBLISH
X-WR-CALNAME:Saint Thomas Acquinas Zanesville
X-ORIGINAL-URL:https://saintthomaszanesville.org
X-WR-CALDESC:Events for Saint Thomas Acquinas Zanesville
REFRESH-INTERVAL;VALUE=DURATION:PT1H
X-Robots-Tag:noindex
X-PUBLISHED-TTL:PT1H
BEGIN:VTIMEZONE
TZID:America/Detroit
BEGIN:DAYLIGHT
TZOFFSETFROM:-0500
TZOFFSETTO:-0400
TZNAME:EDT
DTSTART:20260308T070000
END:DAYLIGHT
BEGIN:STANDARD
TZOFFSETFROM:-0400
TZOFFSETTO:-0500
TZNAME:EST
DTSTART:20261101T060000
END:STANDARD
BEGIN:DAYLIGHT
TZOFFSETFROM:-0500
TZOFFSETTO:-0400
TZNAME:EDT
DTSTART:20270314T070000
END:DAYLIGHT
BEGIN:STANDARD
TZOFFSETFROM:-0400
TZOFFSETTO:-0500
TZNAME:EST
DTSTART:20271107T060000
END:STANDARD
BEGIN:DAYLIGHT
TZOFFSETFROM:-0500
TZOFFSETTO:-0400
TZNAME:EDT
DTSTART:20280312T070000
END:DAYLIGHT
BEGIN:STANDARD
TZOFFSETFROM:-0400
TZOFFSETTO:-0500
TZNAME:EST
DTSTART:20281105T060000
END:STANDARD
END:VTIMEZONE
BEGIN:VEVENT
DTSTART;TZID=America/Detroit:20270225T090000
DTEND;TZID=America/Detroit:20270225T094500
DTSTAMP:20260420T022511
CREATED:20231025T130315Z
LAST-MODIFIED:20260219T151402Z
UID:10005982-1803546000-1803548700@saintthomaszanesville.org
SUMMARY:Mass
DESCRIPTION:
URL:https://saintthomaszanesville.org/event/mass-5-3/2027-02-25/
LOCATION:St Thomas
CATEGORIES:Mass
END:VEVENT
BEGIN:VEVENT
DTSTART;TZID=America/Detroit:20270226T090000
DTEND;TZID=America/Detroit:20270226T094500
DTSTAMP:20260420T022511
CREATED:20231026T143024Z
LAST-MODIFIED:20260219T151539Z
UID:10006241-1803632400-1803635100@saintthomaszanesville.org
SUMMARY:Mass
DESCRIPTION:
URL:https://saintthomaszanesville.org/event/mass-6-2/2027-02-26/
LOCATION:St Thomas
CATEGORIES:Mass
END:VEVENT
BEGIN:VEVENT
DTSTART;TZID=America/Detroit:20270227T163000
DTEND;TZID=America/Detroit:20270227T173000
DTSTAMP:20260420T022511
CREATED:20240626T171342Z
LAST-MODIFIED:20260219T153326Z
UID:10008055-1803745800-1803749400@saintthomaszanesville.org
SUMMARY:Mass
DESCRIPTION:
URL:https://saintthomaszanesville.org/event/mass/2027-02-27/
LOCATION:St Thomas
CATEGORIES:Mass
END:VEVENT
BEGIN:VEVENT
DTSTART;TZID=America/Detroit:20270228T074500
DTEND;TZID=America/Detroit:20270228T084500
DTSTAMP:20260420T022511
CREATED:20240626T174505Z
LAST-MODIFIED:20250917T124608Z
UID:10008859-1803800700-1803804300@saintthomaszanesville.org
SUMMARY:Mass
DESCRIPTION:
URL:https://saintthomaszanesville.org/event/mass-2-2/2027-02-28/
CATEGORIES:Mass
END:VEVENT
BEGIN:VEVENT
DTSTART;TZID=America/Detroit:20270228T110000
DTEND;TZID=America/Detroit:20270228T120000
DTSTAMP:20260420T022511
CREATED:20240626T174409Z
LAST-MODIFIED:20241205T172135Z
UID:10009124-1803812400-1803816000@saintthomaszanesville.org
SUMMARY:Mass
DESCRIPTION:
URL:https://saintthomaszanesville.org/event/mass-2/2027-02-28/
CATEGORIES:Mass
END:VEVENT
BEGIN:VEVENT
DTSTART;TZID=America/Detroit:20270302T090000
DTEND;TZID=America/Detroit:20270302T094500
DTSTAMP:20260420T022511
CREATED:20230717T191610Z
LAST-MODIFIED:20260219T151222Z
UID:10005724-1803978000-1803980700@saintthomaszanesville.org
SUMMARY:Mass
DESCRIPTION:
URL:https://saintthomaszanesville.org/event/mass-4/2027-03-02/
LOCATION:St Thomas
CATEGORIES:Mass
END:VEVENT
BEGIN:VEVENT
DTSTART;TZID=America/Detroit:20270303T090000
DTEND;TZID=America/Detroit:20270303T094500
DTSTAMP:20260420T022511
CREATED:20230717T191330Z
LAST-MODIFIED:20251121T143234Z
UID:10005465-1804064400-1804067100@saintthomaszanesville.org
SUMMARY:Mass
DESCRIPTION:
URL:https://saintthomaszanesville.org/event/mass-3/2027-03-03/
LOCATION:St Thomas
CATEGORIES:Mass
END:VEVENT
BEGIN:VEVENT
DTSTART;TZID=America/Detroit:20270304T090000
DTEND;TZID=America/Detroit:20270304T094500
DTSTAMP:20260420T022511
CREATED:20231025T130315Z
LAST-MODIFIED:20260219T151402Z
UID:10005983-1804150800-1804153500@saintthomaszanesville.org
SUMMARY:Mass
DESCRIPTION:
URL:https://saintthomaszanesville.org/event/mass-5-3/2027-03-04/
LOCATION:St Thomas
CATEGORIES:Mass
END:VEVENT
BEGIN:VEVENT
DTSTART;TZID=America/Detroit:20270305T090000
DTEND;TZID=America/Detroit:20270305T094500
DTSTAMP:20260420T022511
CREATED:20231026T143024Z
LAST-MODIFIED:20260219T151539Z
UID:10006242-1804237200-1804239900@saintthomaszanesville.org
SUMMARY:Mass
DESCRIPTION:
URL:https://saintthomaszanesville.org/event/mass-6-2/2027-03-05/
LOCATION:St Thomas
CATEGORIES:Mass
END:VEVENT
BEGIN:VEVENT
DTSTART;TZID=America/Detroit:20270306T163000
DTEND;TZID=America/Detroit:20270306T173000
DTSTAMP:20260420T022511
CREATED:20240626T171342Z
LAST-MODIFIED:20260219T153326Z
UID:10008056-1804350600-1804354200@saintthomaszanesville.org
SUMMARY:Mass
DESCRIPTION:
URL:https://saintthomaszanesville.org/event/mass/2027-03-06/
LOCATION:St Thomas
CATEGORIES:Mass
END:VEVENT
BEGIN:VEVENT
DTSTART;TZID=America/Detroit:20270307T074500
DTEND;TZID=America/Detroit:20270307T084500
DTSTAMP:20260420T022511
CREATED:20240626T174505Z
LAST-MODIFIED:20250917T124608Z
UID:10008860-1804405500-1804409100@saintthomaszanesville.org
SUMMARY:Mass
DESCRIPTION:
URL:https://saintthomaszanesville.org/event/mass-2-2/2027-03-07/
CATEGORIES:Mass
END:VEVENT
BEGIN:VEVENT
DTSTART;TZID=America/Detroit:20270307T110000
DTEND;TZID=America/Detroit:20270307T120000
DTSTAMP:20260420T022511
CREATED:20240626T174409Z
LAST-MODIFIED:20241205T172135Z
UID:10009125-1804417200-1804420800@saintthomaszanesville.org
SUMMARY:Mass
DESCRIPTION:
URL:https://saintthomaszanesville.org/event/mass-2/2027-03-07/
CATEGORIES:Mass
END:VEVENT
BEGIN:VEVENT
DTSTART;TZID=America/Detroit:20270309T090000
DTEND;TZID=America/Detroit:20270309T094500
DTSTAMP:20260420T022511
CREATED:20230717T191610Z
LAST-MODIFIED:20260219T151222Z
UID:10005725-1804582800-1804585500@saintthomaszanesville.org
SUMMARY:Mass
DESCRIPTION:
URL:https://saintthomaszanesville.org/event/mass-4/2027-03-09/
LOCATION:St Thomas
CATEGORIES:Mass
END:VEVENT
BEGIN:VEVENT
DTSTART;TZID=America/Detroit:20270310T090000
DTEND;TZID=America/Detroit:20270310T094500
DTSTAMP:20260420T022511
CREATED:20230717T191330Z
LAST-MODIFIED:20251121T143234Z
UID:10005466-1804669200-1804671900@saintthomaszanesville.org
SUMMARY:Mass
DESCRIPTION:
URL:https://saintthomaszanesville.org/event/mass-3/2027-03-10/
LOCATION:St Thomas
CATEGORIES:Mass
END:VEVENT
BEGIN:VEVENT
DTSTART;TZID=America/Detroit:20270311T090000
DTEND;TZID=America/Detroit:20270311T094500
DTSTAMP:20260420T022512
CREATED:20231025T130315Z
LAST-MODIFIED:20260219T151402Z
UID:10005984-1804755600-1804758300@saintthomaszanesville.org
SUMMARY:Mass
DESCRIPTION:
URL:https://saintthomaszanesville.org/event/mass-5-3/2027-03-11/
LOCATION:St Thomas
CATEGORIES:Mass
END:VEVENT
BEGIN:VEVENT
DTSTART;TZID=America/Detroit:20270312T090000
DTEND;TZID=America/Detroit:20270312T094500
DTSTAMP:20260420T022512
CREATED:20231026T143024Z
LAST-MODIFIED:20260219T151539Z
UID:10006243-1804842000-1804844700@saintthomaszanesville.org
SUMMARY:Mass
DESCRIPTION:
URL:https://saintthomaszanesville.org/event/mass-6-2/2027-03-12/
LOCATION:St Thomas
CATEGORIES:Mass
END:VEVENT
BEGIN:VEVENT
DTSTART;TZID=America/Detroit:20270313T163000
DTEND;TZID=America/Detroit:20270313T173000
DTSTAMP:20260420T022512
CREATED:20240626T171342Z
LAST-MODIFIED:20260219T153326Z
UID:10008057-1804955400-1804959000@saintthomaszanesville.org
SUMMARY:Mass
DESCRIPTION:
URL:https://saintthomaszanesville.org/event/mass/2027-03-13/
LOCATION:St Thomas
CATEGORIES:Mass
END:VEVENT
BEGIN:VEVENT
DTSTART;TZID=America/Detroit:20270314T074500
DTEND;TZID=America/Detroit:20270314T084500
DTSTAMP:20260420T022512
CREATED:20240626T174505Z
LAST-MODIFIED:20250917T124608Z
UID:10008861-1805010300-1805013900@saintthomaszanesville.org
SUMMARY:Mass
DESCRIPTION:
URL:https://saintthomaszanesville.org/event/mass-2-2/2027-03-14/
CATEGORIES:Mass
END:VEVENT
BEGIN:VEVENT
DTSTART;TZID=America/Detroit:20270314T110000
DTEND;TZID=America/Detroit:20270314T120000
DTSTAMP:20260420T022512
CREATED:20240626T174409Z
LAST-MODIFIED:20241205T172135Z
UID:10009126-1805022000-1805025600@saintthomaszanesville.org
SUMMARY:Mass
DESCRIPTION:
URL:https://saintthomaszanesville.org/event/mass-2/2027-03-14/
CATEGORIES:Mass
END:VEVENT
BEGIN:VEVENT
DTSTART;TZID=America/Detroit:20270316T090000
DTEND;TZID=America/Detroit:20270316T094500
DTSTAMP:20260420T022512
CREATED:20230717T191610Z
LAST-MODIFIED:20260219T151222Z
UID:10005726-1805187600-1805190300@saintthomaszanesville.org
SUMMARY:Mass
DESCRIPTION:
URL:https://saintthomaszanesville.org/event/mass-4/2027-03-16/
LOCATION:St Thomas
CATEGORIES:Mass
END:VEVENT
BEGIN:VEVENT
DTSTART;TZID=America/Detroit:20270317T090000
DTEND;TZID=America/Detroit:20270317T094500
DTSTAMP:20260420T022512
CREATED:20230717T191330Z
LAST-MODIFIED:20251121T143234Z
UID:10005467-1805274000-1805276700@saintthomaszanesville.org
SUMMARY:Mass
DESCRIPTION:
URL:https://saintthomaszanesville.org/event/mass-3/2027-03-17/
LOCATION:St Thomas
CATEGORIES:Mass
END:VEVENT
BEGIN:VEVENT
DTSTART;TZID=America/Detroit:20270318T090000
DTEND;TZID=America/Detroit:20270318T094500
DTSTAMP:20260420T022512
CREATED:20231025T130315Z
LAST-MODIFIED:20260219T151402Z
UID:10005985-1805360400-1805363100@saintthomaszanesville.org
SUMMARY:Mass
DESCRIPTION:
URL:https://saintthomaszanesville.org/event/mass-5-3/2027-03-18/
LOCATION:St Thomas
CATEGORIES:Mass
END:VEVENT
BEGIN:VEVENT
DTSTART;TZID=America/Detroit:20270319T090000
DTEND;TZID=America/Detroit:20270319T094500
DTSTAMP:20260420T022512
CREATED:20231026T143024Z
LAST-MODIFIED:20260219T151539Z
UID:10006244-1805446800-1805449500@saintthomaszanesville.org
SUMMARY:Mass
DESCRIPTION:
URL:https://saintthomaszanesville.org/event/mass-6-2/2027-03-19/
LOCATION:St Thomas
CATEGORIES:Mass
END:VEVENT
BEGIN:VEVENT
DTSTART;TZID=America/Detroit:20270320T163000
DTEND;TZID=America/Detroit:20270320T173000
DTSTAMP:20260420T022512
CREATED:20240626T171342Z
LAST-MODIFIED:20260219T153326Z
UID:10008058-1805560200-1805563800@saintthomaszanesville.org
SUMMARY:Mass
DESCRIPTION:
URL:https://saintthomaszanesville.org/event/mass/2027-03-20/
LOCATION:St Thomas
CATEGORIES:Mass
END:VEVENT
BEGIN:VEVENT
DTSTART;TZID=America/Detroit:20270321T074500
DTEND;TZID=America/Detroit:20270321T084500
DTSTAMP:20260420T022512
CREATED:20240626T174505Z
LAST-MODIFIED:20250917T124608Z
UID:10008862-1805615100-1805618700@saintthomaszanesville.org
SUMMARY:Mass
DESCRIPTION:
URL:https://saintthomaszanesville.org/event/mass-2-2/2027-03-21/
CATEGORIES:Mass
END:VEVENT
BEGIN:VEVENT
DTSTART;TZID=America/Detroit:20270321T110000
DTEND;TZID=America/Detroit:20270321T120000
DTSTAMP:20260420T022512
CREATED:20240626T174409Z
LAST-MODIFIED:20241205T172135Z
UID:10009127-1805626800-1805630400@saintthomaszanesville.org
SUMMARY:Mass
DESCRIPTION:
URL:https://saintthomaszanesville.org/event/mass-2/2027-03-21/
CATEGORIES:Mass
END:VEVENT
BEGIN:VEVENT
DTSTART;TZID=America/Detroit:20270323T090000
DTEND;TZID=America/Detroit:20270323T094500
DTSTAMP:20260420T022512
CREATED:20230717T191610Z
LAST-MODIFIED:20260219T151222Z
UID:10005727-1805792400-1805795100@saintthomaszanesville.org
SUMMARY:Mass
DESCRIPTION:
URL:https://saintthomaszanesville.org/event/mass-4/2027-03-23/
LOCATION:St Thomas
CATEGORIES:Mass
END:VEVENT
BEGIN:VEVENT
DTSTART;TZID=America/Detroit:20270324T090000
DTEND;TZID=America/Detroit:20270324T094500
DTSTAMP:20260420T022512
CREATED:20230717T191330Z
LAST-MODIFIED:20251121T143234Z
UID:10005468-1805878800-1805881500@saintthomaszanesville.org
SUMMARY:Mass
DESCRIPTION:
URL:https://saintthomaszanesville.org/event/mass-3/2027-03-24/
LOCATION:St Thomas
CATEGORIES:Mass
END:VEVENT
BEGIN:VEVENT
DTSTART;TZID=America/Detroit:20270325T090000
DTEND;TZID=America/Detroit:20270325T094500
DTSTAMP:20260420T022512
CREATED:20231025T130315Z
LAST-MODIFIED:20260219T151402Z
UID:10005986-1805965200-1805967900@saintthomaszanesville.org
SUMMARY:Mass
DESCRIPTION:
URL:https://saintthomaszanesville.org/event/mass-5-3/2027-03-25/
LOCATION:St Thomas
CATEGORIES:Mass
END:VEVENT
BEGIN:VEVENT
DTSTART;TZID=America/Detroit:20270326T090000
DTEND;TZID=America/Detroit:20270326T094500
DTSTAMP:20260420T022512
CREATED:20231026T143024Z
LAST-MODIFIED:20260219T151539Z
UID:10006245-1806051600-1806054300@saintthomaszanesville.org
SUMMARY:Mass
DESCRIPTION:
URL:https://saintthomaszanesville.org/event/mass-6-2/2027-03-26/
LOCATION:St Thomas
CATEGORIES:Mass
END:VEVENT
END:VCALENDAR