BEGIN:VCALENDAR
VERSION:2.0
PRODID:-//Saint Thomas Acquinas Zanesville - ECPv6.15.20//NONSGML v1.0//EN
CALSCALE:GREGORIAN
METHOD:PUBLISH
X-WR-CALNAME:Saint Thomas Acquinas Zanesville
X-ORIGINAL-URL:https://saintthomaszanesville.org
X-WR-CALDESC:Events for Saint Thomas Acquinas Zanesville
REFRESH-INTERVAL;VALUE=DURATION:PT1H
X-Robots-Tag:noindex
X-PUBLISHED-TTL:PT1H
BEGIN:VTIMEZONE
TZID:America/Detroit
BEGIN:DAYLIGHT
TZOFFSETFROM:-0500
TZOFFSETTO:-0400
TZNAME:EDT
DTSTART:20260308T070000
END:DAYLIGHT
BEGIN:STANDARD
TZOFFSETFROM:-0400
TZOFFSETTO:-0500
TZNAME:EST
DTSTART:20261101T060000
END:STANDARD
BEGIN:DAYLIGHT
TZOFFSETFROM:-0500
TZOFFSETTO:-0400
TZNAME:EDT
DTSTART:20270314T070000
END:DAYLIGHT
BEGIN:STANDARD
TZOFFSETFROM:-0400
TZOFFSETTO:-0500
TZNAME:EST
DTSTART:20271107T060000
END:STANDARD
BEGIN:DAYLIGHT
TZOFFSETFROM:-0500
TZOFFSETTO:-0400
TZNAME:EDT
DTSTART:20280312T070000
END:DAYLIGHT
BEGIN:STANDARD
TZOFFSETFROM:-0400
TZOFFSETTO:-0500
TZNAME:EST
DTSTART:20281105T060000
END:STANDARD
END:VTIMEZONE
BEGIN:VEVENT
DTSTART;TZID=America/Detroit:20270114T090000
DTEND;TZID=America/Detroit:20270114T094500
DTSTAMP:20260420T014933
CREATED:20231025T130315Z
LAST-MODIFIED:20260219T151402Z
UID:10005976-1799917200-1799919900@saintthomaszanesville.org
SUMMARY:Mass
DESCRIPTION:
URL:https://saintthomaszanesville.org/event/mass-5-3/2027-01-14/
LOCATION:St Thomas
CATEGORIES:Mass
END:VEVENT
BEGIN:VEVENT
DTSTART;TZID=America/Detroit:20270115T090000
DTEND;TZID=America/Detroit:20270115T094500
DTSTAMP:20260420T014933
CREATED:20231026T143024Z
LAST-MODIFIED:20260219T151539Z
UID:10006235-1800003600-1800006300@saintthomaszanesville.org
SUMMARY:Mass
DESCRIPTION:
URL:https://saintthomaszanesville.org/event/mass-6-2/2027-01-15/
LOCATION:St Thomas
CATEGORIES:Mass
END:VEVENT
BEGIN:VEVENT
DTSTART;TZID=America/Detroit:20270116T163000
DTEND;TZID=America/Detroit:20270116T173000
DTSTAMP:20260420T014933
CREATED:20240626T171342Z
LAST-MODIFIED:20260219T153326Z
UID:10008049-1800117000-1800120600@saintthomaszanesville.org
SUMMARY:Mass
DESCRIPTION:
URL:https://saintthomaszanesville.org/event/mass/2027-01-16/
LOCATION:St Thomas
CATEGORIES:Mass
END:VEVENT
BEGIN:VEVENT
DTSTART;TZID=America/Detroit:20270117T074500
DTEND;TZID=America/Detroit:20270117T084500
DTSTAMP:20260420T014933
CREATED:20240626T174505Z
LAST-MODIFIED:20250917T124608Z
UID:10008853-1800171900-1800175500@saintthomaszanesville.org
SUMMARY:Mass
DESCRIPTION:
URL:https://saintthomaszanesville.org/event/mass-2-2/2027-01-17/
CATEGORIES:Mass
END:VEVENT
BEGIN:VEVENT
DTSTART;TZID=America/Detroit:20270117T110000
DTEND;TZID=America/Detroit:20270117T120000
DTSTAMP:20260420T014933
CREATED:20240626T174409Z
LAST-MODIFIED:20241205T172135Z
UID:10009118-1800183600-1800187200@saintthomaszanesville.org
SUMMARY:Mass
DESCRIPTION:
URL:https://saintthomaszanesville.org/event/mass-2/2027-01-17/
CATEGORIES:Mass
END:VEVENT
BEGIN:VEVENT
DTSTART;TZID=America/Detroit:20270119T090000
DTEND;TZID=America/Detroit:20270119T094500
DTSTAMP:20260420T014933
CREATED:20230717T191610Z
LAST-MODIFIED:20260219T151222Z
UID:10005718-1800349200-1800351900@saintthomaszanesville.org
SUMMARY:Mass
DESCRIPTION:
URL:https://saintthomaszanesville.org/event/mass-4/2027-01-19/
LOCATION:St Thomas
CATEGORIES:Mass
END:VEVENT
BEGIN:VEVENT
DTSTART;TZID=America/Detroit:20270120T090000
DTEND;TZID=America/Detroit:20270120T094500
DTSTAMP:20260420T014933
CREATED:20230717T191330Z
LAST-MODIFIED:20251121T143234Z
UID:10005459-1800435600-1800438300@saintthomaszanesville.org
SUMMARY:Mass
DESCRIPTION:
URL:https://saintthomaszanesville.org/event/mass-3/2027-01-20/
LOCATION:St Thomas
CATEGORIES:Mass
END:VEVENT
BEGIN:VEVENT
DTSTART;TZID=America/Detroit:20270121T090000
DTEND;TZID=America/Detroit:20270121T094500
DTSTAMP:20260420T014933
CREATED:20231025T130315Z
LAST-MODIFIED:20260219T151402Z
UID:10005977-1800522000-1800524700@saintthomaszanesville.org
SUMMARY:Mass
DESCRIPTION:
URL:https://saintthomaszanesville.org/event/mass-5-3/2027-01-21/
LOCATION:St Thomas
CATEGORIES:Mass
END:VEVENT
BEGIN:VEVENT
DTSTART;TZID=America/Detroit:20270122T090000
DTEND;TZID=America/Detroit:20270122T094500
DTSTAMP:20260420T014933
CREATED:20231026T143024Z
LAST-MODIFIED:20260219T151539Z
UID:10006236-1800608400-1800611100@saintthomaszanesville.org
SUMMARY:Mass
DESCRIPTION:
URL:https://saintthomaszanesville.org/event/mass-6-2/2027-01-22/
LOCATION:St Thomas
CATEGORIES:Mass
END:VEVENT
BEGIN:VEVENT
DTSTART;TZID=America/Detroit:20270123T163000
DTEND;TZID=America/Detroit:20270123T173000
DTSTAMP:20260420T014933
CREATED:20240626T171342Z
LAST-MODIFIED:20260219T153326Z
UID:10008050-1800721800-1800725400@saintthomaszanesville.org
SUMMARY:Mass
DESCRIPTION:
URL:https://saintthomaszanesville.org/event/mass/2027-01-23/
LOCATION:St Thomas
CATEGORIES:Mass
END:VEVENT
BEGIN:VEVENT
DTSTART;TZID=America/Detroit:20270124T074500
DTEND;TZID=America/Detroit:20270124T084500
DTSTAMP:20260420T014933
CREATED:20240626T174505Z
LAST-MODIFIED:20250917T124608Z
UID:10008854-1800776700-1800780300@saintthomaszanesville.org
SUMMARY:Mass
DESCRIPTION:
URL:https://saintthomaszanesville.org/event/mass-2-2/2027-01-24/
CATEGORIES:Mass
END:VEVENT
BEGIN:VEVENT
DTSTART;TZID=America/Detroit:20270124T110000
DTEND;TZID=America/Detroit:20270124T120000
DTSTAMP:20260420T014933
CREATED:20240626T174409Z
LAST-MODIFIED:20241205T172135Z
UID:10009119-1800788400-1800792000@saintthomaszanesville.org
SUMMARY:Mass
DESCRIPTION:
URL:https://saintthomaszanesville.org/event/mass-2/2027-01-24/
CATEGORIES:Mass
END:VEVENT
BEGIN:VEVENT
DTSTART;TZID=America/Detroit:20270126T090000
DTEND;TZID=America/Detroit:20270126T094500
DTSTAMP:20260420T014933
CREATED:20230717T191610Z
LAST-MODIFIED:20260219T151222Z
UID:10005719-1800954000-1800956700@saintthomaszanesville.org
SUMMARY:Mass
DESCRIPTION:
URL:https://saintthomaszanesville.org/event/mass-4/2027-01-26/
LOCATION:St Thomas
CATEGORIES:Mass
END:VEVENT
BEGIN:VEVENT
DTSTART;TZID=America/Detroit:20270127T090000
DTEND;TZID=America/Detroit:20270127T094500
DTSTAMP:20260420T014933
CREATED:20230717T191330Z
LAST-MODIFIED:20251121T143234Z
UID:10005460-1801040400-1801043100@saintthomaszanesville.org
SUMMARY:Mass
DESCRIPTION:
URL:https://saintthomaszanesville.org/event/mass-3/2027-01-27/
LOCATION:St Thomas
CATEGORIES:Mass
END:VEVENT
BEGIN:VEVENT
DTSTART;TZID=America/Detroit:20270128T090000
DTEND;TZID=America/Detroit:20270128T094500
DTSTAMP:20260420T014933
CREATED:20231025T130315Z
LAST-MODIFIED:20260219T151402Z
UID:10005978-1801126800-1801129500@saintthomaszanesville.org
SUMMARY:Mass
DESCRIPTION:
URL:https://saintthomaszanesville.org/event/mass-5-3/2027-01-28/
LOCATION:St Thomas
CATEGORIES:Mass
END:VEVENT
BEGIN:VEVENT
DTSTART;TZID=America/Detroit:20270129T090000
DTEND;TZID=America/Detroit:20270129T094500
DTSTAMP:20260420T014933
CREATED:20231026T143024Z
LAST-MODIFIED:20260219T151539Z
UID:10006237-1801213200-1801215900@saintthomaszanesville.org
SUMMARY:Mass
DESCRIPTION:
URL:https://saintthomaszanesville.org/event/mass-6-2/2027-01-29/
LOCATION:St Thomas
CATEGORIES:Mass
END:VEVENT
BEGIN:VEVENT
DTSTART;TZID=America/Detroit:20270130T163000
DTEND;TZID=America/Detroit:20270130T173000
DTSTAMP:20260420T014933
CREATED:20240626T171342Z
LAST-MODIFIED:20260219T153326Z
UID:10008051-1801326600-1801330200@saintthomaszanesville.org
SUMMARY:Mass
DESCRIPTION:
URL:https://saintthomaszanesville.org/event/mass/2027-01-30/
LOCATION:St Thomas
CATEGORIES:Mass
END:VEVENT
BEGIN:VEVENT
DTSTART;TZID=America/Detroit:20270131T074500
DTEND;TZID=America/Detroit:20270131T084500
DTSTAMP:20260420T014933
CREATED:20240626T174505Z
LAST-MODIFIED:20250917T124608Z
UID:10008855-1801381500-1801385100@saintthomaszanesville.org
SUMMARY:Mass
DESCRIPTION:
URL:https://saintthomaszanesville.org/event/mass-2-2/2027-01-31/
CATEGORIES:Mass
END:VEVENT
BEGIN:VEVENT
DTSTART;TZID=America/Detroit:20270131T110000
DTEND;TZID=America/Detroit:20270131T120000
DTSTAMP:20260420T014933
CREATED:20240626T174409Z
LAST-MODIFIED:20241205T172135Z
UID:10009120-1801393200-1801396800@saintthomaszanesville.org
SUMMARY:Mass
DESCRIPTION:
URL:https://saintthomaszanesville.org/event/mass-2/2027-01-31/
CATEGORIES:Mass
END:VEVENT
BEGIN:VEVENT
DTSTART;TZID=America/Detroit:20270202T090000
DTEND;TZID=America/Detroit:20270202T094500
DTSTAMP:20260420T014933
CREATED:20230717T191610Z
LAST-MODIFIED:20260219T151222Z
UID:10005720-1801558800-1801561500@saintthomaszanesville.org
SUMMARY:Mass
DESCRIPTION:
URL:https://saintthomaszanesville.org/event/mass-4/2027-02-02/
LOCATION:St Thomas
CATEGORIES:Mass
END:VEVENT
BEGIN:VEVENT
DTSTART;TZID=America/Detroit:20270203T090000
DTEND;TZID=America/Detroit:20270203T094500
DTSTAMP:20260420T014933
CREATED:20230717T191330Z
LAST-MODIFIED:20251121T143234Z
UID:10005461-1801645200-1801647900@saintthomaszanesville.org
SUMMARY:Mass
DESCRIPTION:
URL:https://saintthomaszanesville.org/event/mass-3/2027-02-03/
LOCATION:St Thomas
CATEGORIES:Mass
END:VEVENT
BEGIN:VEVENT
DTSTART;TZID=America/Detroit:20270204T090000
DTEND;TZID=America/Detroit:20270204T094500
DTSTAMP:20260420T014933
CREATED:20231025T130315Z
LAST-MODIFIED:20260219T151402Z
UID:10005979-1801731600-1801734300@saintthomaszanesville.org
SUMMARY:Mass
DESCRIPTION:
URL:https://saintthomaszanesville.org/event/mass-5-3/2027-02-04/
LOCATION:St Thomas
CATEGORIES:Mass
END:VEVENT
BEGIN:VEVENT
DTSTART;TZID=America/Detroit:20270205T090000
DTEND;TZID=America/Detroit:20270205T094500
DTSTAMP:20260420T014933
CREATED:20231026T143024Z
LAST-MODIFIED:20260219T151539Z
UID:10006238-1801818000-1801820700@saintthomaszanesville.org
SUMMARY:Mass
DESCRIPTION:
URL:https://saintthomaszanesville.org/event/mass-6-2/2027-02-05/
LOCATION:St Thomas
CATEGORIES:Mass
END:VEVENT
BEGIN:VEVENT
DTSTART;TZID=America/Detroit:20270206T163000
DTEND;TZID=America/Detroit:20270206T173000
DTSTAMP:20260420T014933
CREATED:20240626T171342Z
LAST-MODIFIED:20260219T153326Z
UID:10008052-1801931400-1801935000@saintthomaszanesville.org
SUMMARY:Mass
DESCRIPTION:
URL:https://saintthomaszanesville.org/event/mass/2027-02-06/
LOCATION:St Thomas
CATEGORIES:Mass
END:VEVENT
BEGIN:VEVENT
DTSTART;TZID=America/Detroit:20270207T074500
DTEND;TZID=America/Detroit:20270207T084500
DTSTAMP:20260420T014933
CREATED:20240626T174505Z
LAST-MODIFIED:20250917T124608Z
UID:10008856-1801986300-1801989900@saintthomaszanesville.org
SUMMARY:Mass
DESCRIPTION:
URL:https://saintthomaszanesville.org/event/mass-2-2/2027-02-07/
CATEGORIES:Mass
END:VEVENT
BEGIN:VEVENT
DTSTART;TZID=America/Detroit:20270207T110000
DTEND;TZID=America/Detroit:20270207T120000
DTSTAMP:20260420T014933
CREATED:20240626T174409Z
LAST-MODIFIED:20241205T172135Z
UID:10009121-1801998000-1802001600@saintthomaszanesville.org
SUMMARY:Mass
DESCRIPTION:
URL:https://saintthomaszanesville.org/event/mass-2/2027-02-07/
CATEGORIES:Mass
END:VEVENT
BEGIN:VEVENT
DTSTART;TZID=America/Detroit:20270209T090000
DTEND;TZID=America/Detroit:20270209T094500
DTSTAMP:20260420T014933
CREATED:20230717T191610Z
LAST-MODIFIED:20260219T151222Z
UID:10005721-1802163600-1802166300@saintthomaszanesville.org
SUMMARY:Mass
DESCRIPTION:
URL:https://saintthomaszanesville.org/event/mass-4/2027-02-09/
LOCATION:St Thomas
CATEGORIES:Mass
END:VEVENT
BEGIN:VEVENT
DTSTART;TZID=America/Detroit:20270210T090000
DTEND;TZID=America/Detroit:20270210T094500
DTSTAMP:20260420T014933
CREATED:20230717T191330Z
LAST-MODIFIED:20251121T143234Z
UID:10005462-1802250000-1802252700@saintthomaszanesville.org
SUMMARY:Mass
DESCRIPTION:
URL:https://saintthomaszanesville.org/event/mass-3/2027-02-10/
LOCATION:St Thomas
CATEGORIES:Mass
END:VEVENT
BEGIN:VEVENT
DTSTART;TZID=America/Detroit:20270211T090000
DTEND;TZID=America/Detroit:20270211T094500
DTSTAMP:20260420T014933
CREATED:20231025T130315Z
LAST-MODIFIED:20260219T151402Z
UID:10005980-1802336400-1802339100@saintthomaszanesville.org
SUMMARY:Mass
DESCRIPTION:
URL:https://saintthomaszanesville.org/event/mass-5-3/2027-02-11/
LOCATION:St Thomas
CATEGORIES:Mass
END:VEVENT
BEGIN:VEVENT
DTSTART;TZID=America/Detroit:20270212T090000
DTEND;TZID=America/Detroit:20270212T094500
DTSTAMP:20260420T014933
CREATED:20231026T143024Z
LAST-MODIFIED:20260219T151539Z
UID:10006239-1802422800-1802425500@saintthomaszanesville.org
SUMMARY:Mass
DESCRIPTION:
URL:https://saintthomaszanesville.org/event/mass-6-2/2027-02-12/
LOCATION:St Thomas
CATEGORIES:Mass
END:VEVENT
END:VCALENDAR