BEGIN:VCALENDAR
VERSION:2.0
PRODID:-//Saint Thomas Acquinas Zanesville - ECPv6.15.20//NONSGML v1.0//EN
CALSCALE:GREGORIAN
METHOD:PUBLISH
X-ORIGINAL-URL:https://saintthomaszanesville.org
X-WR-CALDESC:Events for Saint Thomas Acquinas Zanesville
REFRESH-INTERVAL;VALUE=DURATION:PT1H
X-Robots-Tag:noindex
X-PUBLISHED-TTL:PT1H
BEGIN:VTIMEZONE
TZID:America/Detroit
BEGIN:DAYLIGHT
TZOFFSETFROM:-0500
TZOFFSETTO:-0400
TZNAME:EDT
DTSTART:20250309T070000
END:DAYLIGHT
BEGIN:STANDARD
TZOFFSETFROM:-0400
TZOFFSETTO:-0500
TZNAME:EST
DTSTART:20251102T060000
END:STANDARD
BEGIN:DAYLIGHT
TZOFFSETFROM:-0500
TZOFFSETTO:-0400
TZNAME:EDT
DTSTART:20260308T070000
END:DAYLIGHT
BEGIN:STANDARD
TZOFFSETFROM:-0400
TZOFFSETTO:-0500
TZNAME:EST
DTSTART:20261101T060000
END:STANDARD
BEGIN:DAYLIGHT
TZOFFSETFROM:-0500
TZOFFSETTO:-0400
TZNAME:EDT
DTSTART:20270314T070000
END:DAYLIGHT
BEGIN:STANDARD
TZOFFSETFROM:-0400
TZOFFSETTO:-0500
TZNAME:EST
DTSTART:20271107T060000
END:STANDARD
BEGIN:DAYLIGHT
TZOFFSETFROM:-0500
TZOFFSETTO:-0400
TZNAME:EDT
DTSTART:20280312T070000
END:DAYLIGHT
BEGIN:STANDARD
TZOFFSETFROM:-0400
TZOFFSETTO:-0500
TZNAME:EST
DTSTART:20281105T060000
END:STANDARD
END:VTIMEZONE
BEGIN:VEVENT
DTSTART;TZID=America/Detroit:20261209T090000
DTEND;TZID=America/Detroit:20261209T094500
DTSTAMP:20260419T200740
CREATED:20230717T191330Z
LAST-MODIFIED:20251121T143234Z
UID:10005453-1796806800-1796809500@saintthomaszanesville.org
SUMMARY:Mass
DESCRIPTION:
URL:https://saintthomaszanesville.org/event/mass-3/2026-12-09/
LOCATION:St Thomas
CATEGORIES:Mass
END:VEVENT
BEGIN:VEVENT
DTSTART;TZID=America/Detroit:20261210T090000
DTEND;TZID=America/Detroit:20261210T094500
DTSTAMP:20260419T200740
CREATED:20231025T130315Z
LAST-MODIFIED:20260219T151402Z
UID:10005971-1796893200-1796895900@saintthomaszanesville.org
SUMMARY:Mass
DESCRIPTION:
URL:https://saintthomaszanesville.org/event/mass-5-3/2026-12-10/
LOCATION:St Thomas
CATEGORIES:Mass
END:VEVENT
BEGIN:VEVENT
DTSTART;TZID=America/Detroit:20261211T090000
DTEND;TZID=America/Detroit:20261211T094500
DTSTAMP:20260419T200740
CREATED:20231026T143024Z
LAST-MODIFIED:20260219T151539Z
UID:10006230-1796979600-1796982300@saintthomaszanesville.org
SUMMARY:Mass
DESCRIPTION:
URL:https://saintthomaszanesville.org/event/mass-6-2/2026-12-11/
LOCATION:St Thomas
CATEGORIES:Mass
END:VEVENT
BEGIN:VEVENT
DTSTART;TZID=America/Detroit:20261212T163000
DTEND;TZID=America/Detroit:20261212T173000
DTSTAMP:20260419T200740
CREATED:20240626T171342Z
LAST-MODIFIED:20260219T153326Z
UID:10008044-1797093000-1797096600@saintthomaszanesville.org
SUMMARY:Mass
DESCRIPTION:
URL:https://saintthomaszanesville.org/event/mass/2026-12-12/
LOCATION:St Thomas
CATEGORIES:Mass
END:VEVENT
BEGIN:VEVENT
DTSTART;TZID=America/Detroit:20261213T074500
DTEND;TZID=America/Detroit:20261213T084500
DTSTAMP:20260419T200740
CREATED:20240626T174505Z
LAST-MODIFIED:20250917T124608Z
UID:10008848-1797147900-1797151500@saintthomaszanesville.org
SUMMARY:Mass
DESCRIPTION:
URL:https://saintthomaszanesville.org/event/mass-2-2/2026-12-13/
CATEGORIES:Mass
END:VEVENT
BEGIN:VEVENT
DTSTART;TZID=America/Detroit:20261213T110000
DTEND;TZID=America/Detroit:20261213T120000
DTSTAMP:20260419T200740
CREATED:20240626T174409Z
LAST-MODIFIED:20241205T172135Z
UID:10009113-1797159600-1797163200@saintthomaszanesville.org
SUMMARY:Mass
DESCRIPTION:
URL:https://saintthomaszanesville.org/event/mass-2/2026-12-13/
CATEGORIES:Mass
END:VEVENT
BEGIN:VEVENT
DTSTART;TZID=America/Detroit:20261215T090000
DTEND;TZID=America/Detroit:20261215T094500
DTSTAMP:20260419T200740
CREATED:20230717T191610Z
LAST-MODIFIED:20260219T151222Z
UID:10005713-1797325200-1797327900@saintthomaszanesville.org
SUMMARY:Mass
DESCRIPTION:
URL:https://saintthomaszanesville.org/event/mass-4/2026-12-15/
LOCATION:St Thomas
CATEGORIES:Mass
END:VEVENT
BEGIN:VEVENT
DTSTART;TZID=America/Detroit:20261216T090000
DTEND;TZID=America/Detroit:20261216T094500
DTSTAMP:20260419T200740
CREATED:20230717T191330Z
LAST-MODIFIED:20251121T143234Z
UID:10005454-1797411600-1797414300@saintthomaszanesville.org
SUMMARY:Mass
DESCRIPTION:
URL:https://saintthomaszanesville.org/event/mass-3/2026-12-16/
LOCATION:St Thomas
CATEGORIES:Mass
END:VEVENT
BEGIN:VEVENT
DTSTART;TZID=America/Detroit:20261217T090000
DTEND;TZID=America/Detroit:20261217T094500
DTSTAMP:20260419T200740
CREATED:20231025T130315Z
LAST-MODIFIED:20260219T151402Z
UID:10005972-1797498000-1797500700@saintthomaszanesville.org
SUMMARY:Mass
DESCRIPTION:
URL:https://saintthomaszanesville.org/event/mass-5-3/2026-12-17/
LOCATION:St Thomas
CATEGORIES:Mass
END:VEVENT
BEGIN:VEVENT
DTSTART;TZID=America/Detroit:20261218T090000
DTEND;TZID=America/Detroit:20261218T094500
DTSTAMP:20260419T200740
CREATED:20231026T143024Z
LAST-MODIFIED:20260219T151539Z
UID:10006231-1797584400-1797587100@saintthomaszanesville.org
SUMMARY:Mass
DESCRIPTION:
URL:https://saintthomaszanesville.org/event/mass-6-2/2026-12-18/
LOCATION:St Thomas
CATEGORIES:Mass
END:VEVENT
BEGIN:VEVENT
DTSTART;TZID=America/Detroit:20261219T163000
DTEND;TZID=America/Detroit:20261219T173000
DTSTAMP:20260419T200740
CREATED:20240626T171342Z
LAST-MODIFIED:20260219T153326Z
UID:10008045-1797697800-1797701400@saintthomaszanesville.org
SUMMARY:Mass
DESCRIPTION:
URL:https://saintthomaszanesville.org/event/mass/2026-12-19/
LOCATION:St Thomas
CATEGORIES:Mass
END:VEVENT
BEGIN:VEVENT
DTSTART;TZID=America/Detroit:20261220T074500
DTEND;TZID=America/Detroit:20261220T084500
DTSTAMP:20260419T200740
CREATED:20240626T174505Z
LAST-MODIFIED:20250917T124608Z
UID:10008849-1797752700-1797756300@saintthomaszanesville.org
SUMMARY:Mass
DESCRIPTION:
URL:https://saintthomaszanesville.org/event/mass-2-2/2026-12-20/
CATEGORIES:Mass
END:VEVENT
BEGIN:VEVENT
DTSTART;TZID=America/Detroit:20261220T110000
DTEND;TZID=America/Detroit:20261220T120000
DTSTAMP:20260419T200740
CREATED:20240626T174409Z
LAST-MODIFIED:20241205T172135Z
UID:10009114-1797764400-1797768000@saintthomaszanesville.org
SUMMARY:Mass
DESCRIPTION:
URL:https://saintthomaszanesville.org/event/mass-2/2026-12-20/
CATEGORIES:Mass
END:VEVENT
BEGIN:VEVENT
DTSTART;TZID=America/Detroit:20261222T090000
DTEND;TZID=America/Detroit:20261222T094500
DTSTAMP:20260419T200740
CREATED:20230717T191610Z
LAST-MODIFIED:20260219T151222Z
UID:10005714-1797930000-1797932700@saintthomaszanesville.org
SUMMARY:Mass
DESCRIPTION:
URL:https://saintthomaszanesville.org/event/mass-4/2026-12-22/
LOCATION:St Thomas
CATEGORIES:Mass
END:VEVENT
BEGIN:VEVENT
DTSTART;TZID=America/Detroit:20261223T090000
DTEND;TZID=America/Detroit:20261223T094500
DTSTAMP:20260419T200740
CREATED:20230717T191330Z
LAST-MODIFIED:20251121T143234Z
UID:10005455-1798016400-1798019100@saintthomaszanesville.org
SUMMARY:Mass
DESCRIPTION:
URL:https://saintthomaszanesville.org/event/mass-3/2026-12-23/
LOCATION:St Thomas
CATEGORIES:Mass
END:VEVENT
BEGIN:VEVENT
DTSTART;TZID=America/Detroit:20261224T090000
DTEND;TZID=America/Detroit:20261224T094500
DTSTAMP:20260419T200740
CREATED:20231025T130315Z
LAST-MODIFIED:20260219T151402Z
UID:10005973-1798102800-1798105500@saintthomaszanesville.org
SUMMARY:Mass
DESCRIPTION:
URL:https://saintthomaszanesville.org/event/mass-5-3/2026-12-24/
LOCATION:St Thomas
CATEGORIES:Mass
END:VEVENT
BEGIN:VEVENT
DTSTART;TZID=America/Detroit:20261225T090000
DTEND;TZID=America/Detroit:20261225T094500
DTSTAMP:20260419T200740
CREATED:20231026T143024Z
LAST-MODIFIED:20260219T151539Z
UID:10006232-1798189200-1798191900@saintthomaszanesville.org
SUMMARY:Mass
DESCRIPTION:
URL:https://saintthomaszanesville.org/event/mass-6-2/2026-12-25/
LOCATION:St Thomas
CATEGORIES:Mass
END:VEVENT
BEGIN:VEVENT
DTSTART;TZID=America/Detroit:20261226T163000
DTEND;TZID=America/Detroit:20261226T173000
DTSTAMP:20260419T200740
CREATED:20240626T171342Z
LAST-MODIFIED:20260219T153326Z
UID:10008046-1798302600-1798306200@saintthomaszanesville.org
SUMMARY:Mass
DESCRIPTION:
URL:https://saintthomaszanesville.org/event/mass/2026-12-26/
LOCATION:St Thomas
CATEGORIES:Mass
END:VEVENT
BEGIN:VEVENT
DTSTART;TZID=America/Detroit:20261227T074500
DTEND;TZID=America/Detroit:20261227T084500
DTSTAMP:20260419T200740
CREATED:20240626T174505Z
LAST-MODIFIED:20250917T124608Z
UID:10008850-1798357500-1798361100@saintthomaszanesville.org
SUMMARY:Mass
DESCRIPTION:
URL:https://saintthomaszanesville.org/event/mass-2-2/2026-12-27/
CATEGORIES:Mass
END:VEVENT
BEGIN:VEVENT
DTSTART;TZID=America/Detroit:20261227T110000
DTEND;TZID=America/Detroit:20261227T120000
DTSTAMP:20260419T200740
CREATED:20240626T174409Z
LAST-MODIFIED:20241205T172135Z
UID:10009115-1798369200-1798372800@saintthomaszanesville.org
SUMMARY:Mass
DESCRIPTION:
URL:https://saintthomaszanesville.org/event/mass-2/2026-12-27/
CATEGORIES:Mass
END:VEVENT
BEGIN:VEVENT
DTSTART;TZID=America/Detroit:20261229T090000
DTEND;TZID=America/Detroit:20261229T094500
DTSTAMP:20260419T200740
CREATED:20230717T191610Z
LAST-MODIFIED:20260219T151222Z
UID:10005715-1798534800-1798537500@saintthomaszanesville.org
SUMMARY:Mass
DESCRIPTION:
URL:https://saintthomaszanesville.org/event/mass-4/2026-12-29/
LOCATION:St Thomas
CATEGORIES:Mass
END:VEVENT
BEGIN:VEVENT
DTSTART;TZID=America/Detroit:20261230T090000
DTEND;TZID=America/Detroit:20261230T094500
DTSTAMP:20260419T200740
CREATED:20230717T191330Z
LAST-MODIFIED:20251121T143234Z
UID:10005456-1798621200-1798623900@saintthomaszanesville.org
SUMMARY:Mass
DESCRIPTION:
URL:https://saintthomaszanesville.org/event/mass-3/2026-12-30/
LOCATION:St Thomas
CATEGORIES:Mass
END:VEVENT
BEGIN:VEVENT
DTSTART;TZID=America/Detroit:20261231T090000
DTEND;TZID=America/Detroit:20261231T094500
DTSTAMP:20260419T200740
CREATED:20231025T130315Z
LAST-MODIFIED:20260219T151402Z
UID:10005974-1798707600-1798710300@saintthomaszanesville.org
SUMMARY:Mass
DESCRIPTION:
URL:https://saintthomaszanesville.org/event/mass-5-3/2026-12-31/
LOCATION:St Thomas
CATEGORIES:Mass
END:VEVENT
BEGIN:VEVENT
DTSTART;TZID=America/Detroit:20270101T090000
DTEND;TZID=America/Detroit:20270101T094500
DTSTAMP:20260419T200740
CREATED:20231026T143024Z
LAST-MODIFIED:20260219T151539Z
UID:10006233-1798794000-1798796700@saintthomaszanesville.org
SUMMARY:Mass
DESCRIPTION:
URL:https://saintthomaszanesville.org/event/mass-6-2/2027-01-01/
LOCATION:St Thomas
CATEGORIES:Mass
END:VEVENT
BEGIN:VEVENT
DTSTART;TZID=America/Detroit:20270102T163000
DTEND;TZID=America/Detroit:20270102T173000
DTSTAMP:20260419T200740
CREATED:20240626T171342Z
LAST-MODIFIED:20260219T153326Z
UID:10008047-1798907400-1798911000@saintthomaszanesville.org
SUMMARY:Mass
DESCRIPTION:
URL:https://saintthomaszanesville.org/event/mass/2027-01-02/
LOCATION:St Thomas
CATEGORIES:Mass
END:VEVENT
BEGIN:VEVENT
DTSTART;TZID=America/Detroit:20270103T074500
DTEND;TZID=America/Detroit:20270103T084500
DTSTAMP:20260419T200740
CREATED:20240626T174505Z
LAST-MODIFIED:20250917T124608Z
UID:10008851-1798962300-1798965900@saintthomaszanesville.org
SUMMARY:Mass
DESCRIPTION:
URL:https://saintthomaszanesville.org/event/mass-2-2/2027-01-03/
CATEGORIES:Mass
END:VEVENT
BEGIN:VEVENT
DTSTART;TZID=America/Detroit:20270103T110000
DTEND;TZID=America/Detroit:20270103T120000
DTSTAMP:20260419T200740
CREATED:20240626T174409Z
LAST-MODIFIED:20241205T172135Z
UID:10009116-1798974000-1798977600@saintthomaszanesville.org
SUMMARY:Mass
DESCRIPTION:
URL:https://saintthomaszanesville.org/event/mass-2/2027-01-03/
CATEGORIES:Mass
END:VEVENT
BEGIN:VEVENT
DTSTART;TZID=America/Detroit:20270105T090000
DTEND;TZID=America/Detroit:20270105T094500
DTSTAMP:20260419T200740
CREATED:20230717T191610Z
LAST-MODIFIED:20260219T151222Z
UID:10005716-1799139600-1799142300@saintthomaszanesville.org
SUMMARY:Mass
DESCRIPTION:
URL:https://saintthomaszanesville.org/event/mass-4/2027-01-05/
LOCATION:St Thomas
CATEGORIES:Mass
END:VEVENT
BEGIN:VEVENT
DTSTART;TZID=America/Detroit:20270106T090000
DTEND;TZID=America/Detroit:20270106T094500
DTSTAMP:20260419T200740
CREATED:20230717T191330Z
LAST-MODIFIED:20251121T143234Z
UID:10005457-1799226000-1799228700@saintthomaszanesville.org
SUMMARY:Mass
DESCRIPTION:
URL:https://saintthomaszanesville.org/event/mass-3/2027-01-06/
LOCATION:St Thomas
CATEGORIES:Mass
END:VEVENT
BEGIN:VEVENT
DTSTART;TZID=America/Detroit:20270107T090000
DTEND;TZID=America/Detroit:20270107T094500
DTSTAMP:20260419T200740
CREATED:20231025T130315Z
LAST-MODIFIED:20260219T151402Z
UID:10005975-1799312400-1799315100@saintthomaszanesville.org
SUMMARY:Mass
DESCRIPTION:
URL:https://saintthomaszanesville.org/event/mass-5-3/2027-01-07/
LOCATION:St Thomas
CATEGORIES:Mass
END:VEVENT
END:VCALENDAR